BEGIN:VCALENDAR
VERSION:2.0
PRODID:-//AV Weert - ECPv6.15.20//NONSGML v1.0//EN
CALSCALE:GREGORIAN
METHOD:PUBLISH
X-ORIGINAL-URL:https://avweert.nl
X-WR-CALDESC:Evenementen voor AV Weert
REFRESH-INTERVAL;VALUE=DURATION:PT1H
X-Robots-Tag:noindex
X-PUBLISHED-TTL:PT1H
BEGIN:VTIMEZONE
TZID:Europe/Amsterdam
BEGIN:DAYLIGHT
TZOFFSETFROM:+0100
TZOFFSETTO:+0200
TZNAME:CEST
DTSTART:20240331T010000
END:DAYLIGHT
BEGIN:STANDARD
TZOFFSETFROM:+0200
TZOFFSETTO:+0100
TZNAME:CET
DTSTART:20241027T010000
END:STANDARD
BEGIN:DAYLIGHT
TZOFFSETFROM:+0100
TZOFFSETTO:+0200
TZNAME:CEST
DTSTART:20250330T010000
END:DAYLIGHT
BEGIN:STANDARD
TZOFFSETFROM:+0200
TZOFFSETTO:+0100
TZNAME:CET
DTSTART:20251026T010000
END:STANDARD
BEGIN:DAYLIGHT
TZOFFSETFROM:+0100
TZOFFSETTO:+0200
TZNAME:CEST
DTSTART:20260329T010000
END:DAYLIGHT
BEGIN:STANDARD
TZOFFSETFROM:+0200
TZOFFSETTO:+0100
TZNAME:CET
DTSTART:20261025T010000
END:STANDARD
END:VTIMEZONE
BEGIN:VEVENT
DTSTART;TZID=Europe/Amsterdam:20250917T183000
DTEND;TZID=Europe/Amsterdam:20250917T220000
DTSTAMP:20260424T234559
CREATED:20250813T154933Z
LAST-MODIFIED:20250813T154933Z
UID:11736-1758133800-1758146400@avweert.nl
SUMMARY:bridge cursus in de kantine
DESCRIPTION:
URL:https://avweert.nl/event/bridge-cursus-in-de-kantine/
LOCATION:Atletiekbaan AV Weert\, Parklaan 1C\, Weert\, Limburg\, 6006 NT\, Nederland
CATEGORIES:Bestuurskamer
END:VEVENT
BEGIN:VEVENT
DTSTART;TZID=Europe/Amsterdam:20250921T080000
DTEND;TZID=Europe/Amsterdam:20250921T170000
DTSTAMP:20260424T234559
CREATED:20250917T093937Z
LAST-MODIFIED:20250917T093937Z
UID:12054-1758441600-1758474000@avweert.nl
SUMMARY:Clubkampioenschappen
DESCRIPTION:
URL:https://avweert.nl/event/clubkampioenschappen/
LOCATION:Atletiekbaan AV Weert\, Parklaan 1C\, Weert\, Limburg\, 6006 NT\, Nederland
CATEGORIES:Bestuurskamer
END:VEVENT
BEGIN:VEVENT
DTSTART;TZID=Europe/Amsterdam:20250923T080000
DTEND;TZID=Europe/Amsterdam:20250923T170000
DTSTAMP:20260424T234559
CREATED:20250813T145330Z
LAST-MODIFIED:20250813T145330Z
UID:11726-1758614400-1758646800@avweert.nl
SUMMARY:Punt Welzijn kantine en baan
DESCRIPTION:
URL:https://avweert.nl/event/punt-welzijn-kantine-en-baan/
LOCATION:Atletiekbaan AV Weert\, Parklaan 1C\, Weert\, Limburg\, 6006 NT\, Nederland
CATEGORIES:Bestuurskamer
END:VEVENT
BEGIN:VEVENT
DTSTART;TZID=Europe/Amsterdam:20250924T190000
DTEND;TZID=Europe/Amsterdam:20250924T220000
DTSTAMP:20260424T234559
CREATED:20250425T085613Z
LAST-MODIFIED:20250425T085737Z
UID:11229-1758740400-1758751200@avweert.nl
SUMMARY:Bijeenkomst Limburg Athletics + in de kantine
DESCRIPTION:Partnermeeting LA+ met diverse verenigingen in de kantine
URL:https://avweert.nl/event/bijeenkomst-limburg-athletics/
LOCATION:Atletiekbaan AV Weert\, Parklaan 1C\, Weert\, Limburg\, 6006 NT\, Nederland
CATEGORIES:Bestuurskamer
END:VEVENT
BEGIN:VEVENT
DTSTART;TZID=Europe/Amsterdam:20250925T080000
DTEND;TZID=Europe/Amsterdam:20250925T170000
DTSTAMP:20260424T234559
CREATED:20250813T145414Z
LAST-MODIFIED:20250813T145414Z
UID:11728-1758787200-1758819600@avweert.nl
SUMMARY:Punt Welzijn baan en kantine
DESCRIPTION:
URL:https://avweert.nl/event/punt-welzijn-baan-en-kantine/
LOCATION:Atletiekbaan AV Weert\, Parklaan 1C\, Weert\, Limburg\, 6006 NT\, Nederland
CATEGORIES:Bestuurskamer
END:VEVENT
BEGIN:VEVENT
DTSTART;TZID=Europe/Amsterdam:20250927T080000
DTEND;TZID=Europe/Amsterdam:20250927T170000
DTSTAMP:20260424T234559
CREATED:20250813T160349Z
LAST-MODIFIED:20250813T160349Z
UID:11762-1758960000-1758992400@avweert.nl
SUMMARY:Familie dag Crolla gebouw
DESCRIPTION:
URL:https://avweert.nl/event/familie-dag-crolla-gebouw/
LOCATION:Atletiekbaan AV Weert\, Parklaan 1C\, Weert\, Limburg\, 6006 NT\, Nederland
CATEGORIES:Bestuurskamer
END:VEVENT
BEGIN:VEVENT
DTSTART;TZID=Europe/Amsterdam:20250930T153000
DTEND;TZID=Europe/Amsterdam:20250930T170000
DTSTAMP:20260424T234559
CREATED:20250906T181615Z
LAST-MODIFIED:20250906T181615Z
UID:11986-1759246200-1759251600@avweert.nl
SUMMARY:Fontys / Roel
DESCRIPTION:
URL:https://avweert.nl/event/fontys-roel-2/
LOCATION:Atletiekbaan AV Weert\, Parklaan 1C\, Weert\, Limburg\, 6006 NT\, Nederland
CATEGORIES:Bestuurskamer
END:VEVENT
END:VCALENDAR