BEGIN:VCALENDAR
VERSION:2.0
PRODID:-//AV Weert - ECPv6.15.20//NONSGML v1.0//EN
CALSCALE:GREGORIAN
METHOD:PUBLISH
X-ORIGINAL-URL:https://avweert.nl
X-WR-CALDESC:Evenementen voor AV Weert
REFRESH-INTERVAL;VALUE=DURATION:PT1H
X-Robots-Tag:noindex
X-PUBLISHED-TTL:PT1H
BEGIN:VTIMEZONE
TZID:Europe/Amsterdam
BEGIN:DAYLIGHT
TZOFFSETFROM:+0100
TZOFFSETTO:+0200
TZNAME:CEST
DTSTART:20240331T010000
END:DAYLIGHT
BEGIN:STANDARD
TZOFFSETFROM:+0200
TZOFFSETTO:+0100
TZNAME:CET
DTSTART:20241027T010000
END:STANDARD
BEGIN:DAYLIGHT
TZOFFSETFROM:+0100
TZOFFSETTO:+0200
TZNAME:CEST
DTSTART:20250330T010000
END:DAYLIGHT
BEGIN:STANDARD
TZOFFSETFROM:+0200
TZOFFSETTO:+0100
TZNAME:CET
DTSTART:20251026T010000
END:STANDARD
BEGIN:DAYLIGHT
TZOFFSETFROM:+0100
TZOFFSETTO:+0200
TZNAME:CEST
DTSTART:20260329T010000
END:DAYLIGHT
BEGIN:STANDARD
TZOFFSETFROM:+0200
TZOFFSETTO:+0100
TZNAME:CET
DTSTART:20261025T010000
END:STANDARD
END:VTIMEZONE
BEGIN:VEVENT
DTSTART;TZID=Europe/Amsterdam:20251001T190000
DTEND;TZID=Europe/Amsterdam:20251001T220000
DTSTAMP:20260424T221638
CREATED:20250813T155031Z
LAST-MODIFIED:20250813T155031Z
UID:11740-1759345200-1759356000@avweert.nl
SUMMARY:bridge cursus in de kantine
DESCRIPTION:
URL:https://avweert.nl/event/bridge-cursus-in-de-kantine-3/
LOCATION:Atletiekbaan AV Weert\, Parklaan 1C\, Weert\, Limburg\, 6006 NT\, Nederland
CATEGORIES:Bestuurskamer
END:VEVENT
BEGIN:VEVENT
DTSTART;TZID=Europe/Amsterdam:20251002T153000
DTEND;TZID=Europe/Amsterdam:20251002T170000
DTSTAMP:20260424T221638
CREATED:20250906T181534Z
LAST-MODIFIED:20250906T181545Z
UID:11984-1759419000-1759424400@avweert.nl
SUMMARY:Fontys / Roel
DESCRIPTION:
URL:https://avweert.nl/event/fontys-roel/
LOCATION:Atletiekbaan AV Weert\, Parklaan 1C\, Weert\, Limburg\, 6006 NT\, Nederland
CATEGORIES:Bestuurskamer
END:VEVENT
BEGIN:VEVENT
DTSTART;TZID=Europe/Amsterdam:20251002T190000
DTEND;TZID=Europe/Amsterdam:20251002T200000
DTSTAMP:20260424T221638
CREATED:20250922T113600Z
LAST-MODIFIED:20250922T113600Z
UID:12070-1759431600-1759435200@avweert.nl
SUMMARY:Kwartaal bijeenkomst nieuwe leden in de kantine
DESCRIPTION:
URL:https://avweert.nl/event/kwartaal-bijeenkomst-nieuwe-leden-in-de-kantine/
LOCATION:baan 9
CATEGORIES:Bestuurskamer
END:VEVENT
BEGIN:VEVENT
DTSTART;TZID=Europe/Amsterdam:20251004T080000
DTEND;TZID=Europe/Amsterdam:20251004T170000
DTSTAMP:20260424T221638
CREATED:20250813T145732Z
LAST-MODIFIED:20250813T145732Z
UID:11730-1759564800-1759597200@avweert.nl
SUMMARY:Hyrox evenement op de baan
DESCRIPTION:
URL:https://avweert.nl/event/hyrox-evenement-op-de-baan/
LOCATION:Atletiekbaan AV Weert\, Parklaan 1C\, Weert\, Limburg\, 6006 NT\, Nederland
CATEGORIES:Bestuurskamer
END:VEVENT
BEGIN:VEVENT
DTSTART;TZID=Europe/Amsterdam:20251008T190000
DTEND;TZID=Europe/Amsterdam:20251008T223000
DTSTAMP:20260424T221638
CREATED:20250813T155556Z
LAST-MODIFIED:20250813T155556Z
UID:11742-1759950000-1759962600@avweert.nl
SUMMARY:bridge cursus in de kantine
DESCRIPTION:
URL:https://avweert.nl/event/bridge-cursus-in-de-kantine-2/
LOCATION:Atletiekbaan AV Weert\, Parklaan 1C\, Weert\, Limburg\, 6006 NT\, Nederland
CATEGORIES:Bestuurskamer
END:VEVENT
BEGIN:VEVENT
DTSTART;TZID=Europe/Amsterdam:20251015T093000
DTEND;TZID=Europe/Amsterdam:20251015T123000
DTSTAMP:20260424T221638
CREATED:20250929T110634Z
LAST-MODIFIED:20250929T110634Z
UID:12109-1760520600-1760531400@avweert.nl
SUMMARY:Peuter Loopfietsenrace
DESCRIPTION:
URL:https://avweert.nl/event/peuter-loopfietsenrace/
LOCATION:Atletiekbaan AV Weert\, Parklaan 1C\, Weert\, Limburg\, 6006 NT\, Nederland
CATEGORIES:Bestuurskamer
END:VEVENT
BEGIN:VEVENT
DTSTART;TZID=Europe/Amsterdam:20251015T190000
DTEND;TZID=Europe/Amsterdam:20251015T220000
DTSTAMP:20260424T221638
CREATED:20250813T155630Z
LAST-MODIFIED:20250813T155630Z
UID:11744-1760554800-1760565600@avweert.nl
SUMMARY:bridge cursus in de kantine
DESCRIPTION:
URL:https://avweert.nl/event/bridge-cursus-in-de-kantine-4/
LOCATION:Atletiekbaan AV Weert\, Parklaan 1C\, Weert\, Limburg\, 6006 NT\, Nederland
CATEGORIES:Bestuurskamer
END:VEVENT
BEGIN:VEVENT
DTSTART;TZID=Europe/Amsterdam:20251022T190000
DTEND;TZID=Europe/Amsterdam:20251022T220000
DTSTAMP:20260424T221638
CREATED:20250813T155700Z
LAST-MODIFIED:20250813T155700Z
UID:11746-1761159600-1761170400@avweert.nl
SUMMARY:bridge cursus in de kantine
DESCRIPTION:
URL:https://avweert.nl/event/bridge-cursus-in-de-kantine-5/
LOCATION:Atletiekbaan AV Weert\, Parklaan 1C\, Weert\, Limburg\, 6006 NT\, Nederland
CATEGORIES:Bestuurskamer
END:VEVENT
BEGIN:VEVENT
DTSTART;TZID=Europe/Amsterdam:20251026T080000
DTEND;TZID=Europe/Amsterdam:20251026T170000
DTSTAMP:20260424T221638
CREATED:20250923T091307Z
LAST-MODIFIED:20250923T091451Z
UID:12087-1761465600-1761498000@avweert.nl
SUMMARY:Cross (IJzeren Man)
DESCRIPTION:
URL:https://avweert.nl/event/cross-ijzeren-man/
LOCATION:Natuur- en Milieucentrum IJzeren Man Weert\, Geurtsvenweg 4\, Weert
CATEGORIES:Bestuurskamer
END:VEVENT
BEGIN:VEVENT
DTSTART;TZID=Europe/Amsterdam:20251029T190000
DTEND;TZID=Europe/Amsterdam:20251029T220000
DTSTAMP:20260424T221638
CREATED:20250813T155735Z
LAST-MODIFIED:20250813T155735Z
UID:11748-1761764400-1761775200@avweert.nl
SUMMARY:bridge cursus in de kantine
DESCRIPTION:
URL:https://avweert.nl/event/bridge-cursus-in-de-kantine-6/
LOCATION:Atletiekbaan AV Weert\, Parklaan 1C\, Weert\, Limburg\, 6006 NT\, Nederland
CATEGORIES:Bestuurskamer
END:VEVENT
END:VCALENDAR