BEGIN:VCALENDAR
VERSION:2.0
PRODID:-//AV Weert - ECPv6.15.20//NONSGML v1.0//EN
CALSCALE:GREGORIAN
METHOD:PUBLISH
X-WR-CALNAME:AV Weert
X-ORIGINAL-URL:https://avweert.nl
X-WR-CALDESC:Evenementen voor AV Weert
REFRESH-INTERVAL;VALUE=DURATION:PT1H
X-Robots-Tag:noindex
X-PUBLISHED-TTL:PT1H
BEGIN:VTIMEZONE
TZID:Europe/Amsterdam
BEGIN:DAYLIGHT
TZOFFSETFROM:+0100
TZOFFSETTO:+0200
TZNAME:CEST
DTSTART:20250330T010000
END:DAYLIGHT
BEGIN:STANDARD
TZOFFSETFROM:+0200
TZOFFSETTO:+0100
TZNAME:CET
DTSTART:20251026T010000
END:STANDARD
BEGIN:DAYLIGHT
TZOFFSETFROM:+0100
TZOFFSETTO:+0200
TZNAME:CEST
DTSTART:20260329T010000
END:DAYLIGHT
BEGIN:STANDARD
TZOFFSETFROM:+0200
TZOFFSETTO:+0100
TZNAME:CET
DTSTART:20261025T010000
END:STANDARD
BEGIN:DAYLIGHT
TZOFFSETFROM:+0100
TZOFFSETTO:+0200
TZNAME:CEST
DTSTART:20270328T010000
END:DAYLIGHT
BEGIN:STANDARD
TZOFFSETFROM:+0200
TZOFFSETTO:+0100
TZNAME:CET
DTSTART:20271031T010000
END:STANDARD
END:VTIMEZONE
BEGIN:VEVENT
DTSTART;TZID=Europe/Amsterdam:20260423T200000
DTEND;TZID=Europe/Amsterdam:20260423T213000
DTSTAMP:20260422T190739
CREATED:20260418T081035Z
LAST-MODIFIED:20260418T081035Z
UID:13217-1776974400-1776979800@avweert.nl
SUMMARY:WOC Overleg in bestuurskamer
DESCRIPTION:
URL:https://avweert.nl/event/woc-overleg-in-bestuurskamer/
LOCATION:Atletiekbaan AV Weert\, Parklaan 1C\, Weert\, Limburg\, 6006 NT\, Nederland
CATEGORIES:Bestuurskamer
END:VEVENT
BEGIN:VEVENT
DTSTART;TZID=Europe/Amsterdam:20260530T130000
DTEND;TZID=Europe/Amsterdam:20260530T180000
DTSTAMP:20260422T190739
CREATED:20260323T105127Z
LAST-MODIFIED:20260323T105127Z
UID:13093-1780146000-1780164000@avweert.nl
SUMMARY:60 Jaar AV Weert feest
DESCRIPTION:
URL:https://avweert.nl/event/60-jaar-av-weert-feest/
LOCATION:Atletiekbaan AV Weert\, Parklaan 1C\, Weert\, Limburg\, 6006 NT\, Nederland
CATEGORIES:Bestuurskamer
END:VEVENT
BEGIN:VEVENT
DTSTART;TZID=Europe/Amsterdam:20260608T130000
DTEND;TZID=Europe/Amsterdam:20260608T150000
DTSTAMP:20260422T190739
CREATED:20260310T154237Z
LAST-MODIFIED:20260310T154237Z
UID:13045-1780923600-1780930800@avweert.nl
SUMMARY:Overleg met Punt Welzijn (Van Bank naar Beweging) kernteam in kantine
DESCRIPTION:
URL:https://avweert.nl/event/overleg-met-punt-welzijn-van-bank-naar-beweging-kernteam-in-kantine/
LOCATION:Limburg
CATEGORIES:Bestuurskamer
END:VEVENT
BEGIN:VEVENT
DTSTART;TZID=Europe/Amsterdam:20260621T100000
DTEND;TZID=Europe/Amsterdam:20260621T170000
DTSTAMP:20260422T190739
CREATED:20260202T131206Z
LAST-MODIFIED:20260202T131206Z
UID:12851-1782036000-1782061200@avweert.nl
SUMMARY:AB junioren wedstrijd
DESCRIPTION:
URL:https://avweert.nl/event/ab-junioren-wedstrijd/
LOCATION:Atletiekbaan AV Weert\, Parklaan 1C\, Weert\, Limburg\, 6006 NT\, Nederland
CATEGORIES:Atletiek,Bestuurskamer
END:VEVENT
BEGIN:VEVENT
DTSTART;TZID=Europe/Amsterdam:20260707T180000
DTEND;TZID=Europe/Amsterdam:20260707T220000
DTSTAMP:20260422T190739
CREATED:20260129T112953Z
LAST-MODIFIED:20260129T112953Z
UID:12787-1783447200-1783461600@avweert.nl
SUMMARY:LIMBRA Avondwedstrijd op de baan en kantine
DESCRIPTION:
URL:https://avweert.nl/event/limbra-avondwedstrijd-op-de-baan-en-kantine/
LOCATION:Atletiekbaan AV Weert\, Parklaan 1C\, Weert\, Limburg\, 6006 NT\, Nederland
CATEGORIES:Bestuurskamer
END:VEVENT
BEGIN:VEVENT
DTSTART;TZID=Europe/Amsterdam:20260815T080000
DTEND;TZID=Europe/Amsterdam:20260815T170000
DTSTAMP:20260422T190739
CREATED:20260414T115503Z
LAST-MODIFIED:20260414T115503Z
UID:13197-1786780800-1786813200@avweert.nl
SUMMARY:Hyrox op de baan/kantine? (optioneel)
DESCRIPTION:
URL:https://avweert.nl/event/hyrox-op-de-baan-kantine-optioneel-2/
LOCATION:Atletiekbaan AV Weert\, Parklaan 1C\, Weert\, Limburg\, 6006 NT\, Nederland
CATEGORIES:Bestuurskamer
END:VEVENT
BEGIN:VEVENT
DTSTART;TZID=Europe/Amsterdam:20260830T080000
DTEND;TZID=Europe/Amsterdam:20260830T170000
DTSTAMP:20260422T190739
CREATED:20260129T112845Z
LAST-MODIFIED:20260129T112845Z
UID:12785-1788076800-1788109200@avweert.nl
SUMMARY:AC Wedstrijd op de baan en kantine
DESCRIPTION:
URL:https://avweert.nl/event/ac-wedstrijd-op-de-baan-en-kantine/
LOCATION:Atletiekbaan AV Weert\, Parklaan 1C\, Weert\, Limburg\, 6006 NT\, Nederland
CATEGORIES:Bestuurskamer
END:VEVENT
BEGIN:VEVENT
DTSTART;TZID=Europe/Amsterdam:20261003T080000
DTEND;TZID=Europe/Amsterdam:20261003T170000
DTSTAMP:20260422T190739
CREATED:20260409T095330Z
LAST-MODIFIED:20260409T095330Z
UID:13165-1791014400-1791046800@avweert.nl
SUMMARY:Clubkampioenschappen AV Weert
DESCRIPTION:
URL:https://avweert.nl/event/clubkampioenschappen-av-weert/
LOCATION:Atletiekbaan AV Weert\, Parklaan 1C\, Weert\, Limburg\, 6006 NT\, Nederland
CATEGORIES:Atletiek,Bestuurskamer
END:VEVENT
BEGIN:VEVENT
DTSTART;TZID=Europe/Amsterdam:20261231T090000
DTEND;TZID=Europe/Amsterdam:20261231T170000
DTSTAMP:20260422T190739
CREATED:20260202T131407Z
LAST-MODIFIED:20260202T131407Z
UID:12855-1798707600-1798736400@avweert.nl
SUMMARY:Gamma Weert Oliebollenloop
DESCRIPTION:
URL:https://avweert.nl/event/gamma-weert-oliebollenloop/
LOCATION:Atletiekbaan AV Weert\, Parklaan 1C\, Weert\, Limburg\, 6006 NT\, Nederland
CATEGORIES:Atletiek,Bestuurskamer
END:VEVENT
END:VCALENDAR