BEGIN:VCALENDAR
VERSION:2.0
PRODID:-//AV Weert - ECPv6.15.20//NONSGML v1.0//EN
CALSCALE:GREGORIAN
METHOD:PUBLISH
X-ORIGINAL-URL:https://avweert.nl
X-WR-CALDESC:Evenementen voor AV Weert
REFRESH-INTERVAL;VALUE=DURATION:PT1H
X-Robots-Tag:noindex
X-PUBLISHED-TTL:PT1H
BEGIN:VTIMEZONE
TZID:Europe/Amsterdam
BEGIN:DAYLIGHT
TZOFFSETFROM:+0100
TZOFFSETTO:+0200
TZNAME:CEST
DTSTART:20240331T010000
END:DAYLIGHT
BEGIN:STANDARD
TZOFFSETFROM:+0200
TZOFFSETTO:+0100
TZNAME:CET
DTSTART:20241027T010000
END:STANDARD
BEGIN:DAYLIGHT
TZOFFSETFROM:+0100
TZOFFSETTO:+0200
TZNAME:CEST
DTSTART:20250330T010000
END:DAYLIGHT
BEGIN:STANDARD
TZOFFSETFROM:+0200
TZOFFSETTO:+0100
TZNAME:CET
DTSTART:20251026T010000
END:STANDARD
BEGIN:DAYLIGHT
TZOFFSETFROM:+0100
TZOFFSETTO:+0200
TZNAME:CEST
DTSTART:20260329T010000
END:DAYLIGHT
BEGIN:STANDARD
TZOFFSETFROM:+0200
TZOFFSETTO:+0100
TZNAME:CET
DTSTART:20261025T010000
END:STANDARD
BEGIN:DAYLIGHT
TZOFFSETFROM:+0100
TZOFFSETTO:+0200
TZNAME:CEST
DTSTART:20270328T010000
END:DAYLIGHT
BEGIN:STANDARD
TZOFFSETFROM:+0200
TZOFFSETTO:+0100
TZNAME:CET
DTSTART:20271031T010000
END:STANDARD
END:VTIMEZONE
BEGIN:VEVENT
DTSTART;TZID=Europe/Amsterdam:20251208T190000
DTEND;TZID=Europe/Amsterdam:20251208T200000
DTSTAMP:20260425T164432
CREATED:20251201T114945Z
LAST-MODIFIED:20251201T114945Z
UID:12392-1765220400-1765224000@avweert.nl
SUMMARY:Sinterklaasfeest G-atleten in kantine
DESCRIPTION:
URL:https://avweert.nl/event/sinterklaasfeest-g-atleten-in-kantine/
LOCATION:Limburg
CATEGORIES:Bestuurskamer
END:VEVENT
BEGIN:VEVENT
DTSTART;TZID=Europe/Amsterdam:20251209T090000
DTEND;TZID=Europe/Amsterdam:20251209T170000
DTSTAMP:20260425T164432
CREATED:20251201T102018Z
LAST-MODIFIED:20251201T102038Z
UID:12378-1765270800-1765299600@avweert.nl
SUMMARY:Fontys studenten in kantine
DESCRIPTION:
URL:https://avweert.nl/event/fonteys-studenten-in-kantine/
LOCATION:baan 9
CATEGORIES:Bestuurskamer
END:VEVENT
BEGIN:VEVENT
DTSTART;TZID=Europe/Amsterdam:20251210T190000
DTEND;TZID=Europe/Amsterdam:20251210T220000
DTSTAMP:20260425T164432
CREATED:20250813T160039Z
LAST-MODIFIED:20250813T160039Z
UID:11758-1765393200-1765404000@avweert.nl
SUMMARY:bridge cursus in de kantine
DESCRIPTION:
URL:https://avweert.nl/event/bridge-cursus-in-de-kantine-11/
LOCATION:Atletiekbaan AV Weert\, Parklaan 1C\, Weert\, Limburg\, 6006 NT\, Nederland
CATEGORIES:Bestuurskamer
END:VEVENT
BEGIN:VEVENT
DTSTART;TZID=Europe/Amsterdam:20251211T090000
DTEND;TZID=Europe/Amsterdam:20251211T170000
DTSTAMP:20260425T164432
CREATED:20251201T102058Z
LAST-MODIFIED:20251201T102058Z
UID:12381-1765443600-1765472400@avweert.nl
SUMMARY:Fontys studenten in kantine
DESCRIPTION:
URL:https://avweert.nl/event/fontys-studenten-in-kantine/
LOCATION:baan 9
CATEGORIES:Bestuurskamer
END:VEVENT
BEGIN:VEVENT
DTSTART;TZID=Europe/Amsterdam:20251211T100000
DTEND;TZID=Europe/Amsterdam:20251211T123000
DTSTAMP:20260425T164432
CREATED:20251114T152855Z
LAST-MODIFIED:20251114T155503Z
UID:12315-1765447200-1765456200@avweert.nl
SUMMARY:Overleg AU / LA+ in de bestuurskamer
DESCRIPTION:
URL:https://avweert.nl/event/overleg-au-la-in-de-bestuurskamer/
LOCATION:baan 9
CATEGORIES:Bestuurskamer
END:VEVENT
BEGIN:VEVENT
DTSTART;TZID=Europe/Amsterdam:20251216T090000
DTEND;TZID=Europe/Amsterdam:20251216T110000
DTSTAMP:20260425T164432
CREATED:20251201T102133Z
LAST-MODIFIED:20251201T102133Z
UID:12383-1765875600-1765882800@avweert.nl
SUMMARY:Overleg "Weert in Beweging"
DESCRIPTION:
URL:https://avweert.nl/event/overleg-weert-in-beweging/
LOCATION:Limburg
CATEGORIES:Bestuurskamer
END:VEVENT
BEGIN:VEVENT
DTSTART;TZID=Europe/Amsterdam:20251216T160000
DTEND;TZID=Europe/Amsterdam:20251216T190000
DTSTAMP:20260425T164432
CREATED:20251210T091646Z
LAST-MODIFIED:20251210T091646Z
UID:12479-1765900800-1765911600@avweert.nl
SUMMARY:Redactie overleg in bestuurskamer
DESCRIPTION:
URL:https://avweert.nl/event/redactie-overleg-in-bestuurskamer/
LOCATION:Limburg
CATEGORIES:Bestuurskamer
END:VEVENT
BEGIN:VEVENT
DTSTART;TZID=Europe/Amsterdam:20251217T190000
DTEND;TZID=Europe/Amsterdam:20251217T220000
DTSTAMP:20260425T164432
CREATED:20250813T160531Z
LAST-MODIFIED:20250813T160531Z
UID:11764-1765998000-1766008800@avweert.nl
SUMMARY:bridge cursus in de kantine
DESCRIPTION:
URL:https://avweert.nl/event/bridge-cursus-in-de-kantine-12/
LOCATION:Atletiekbaan AV Weert\, Parklaan 1C\, Weert\, Limburg\, 6006 NT\, Nederland
CATEGORIES:Bestuurskamer
END:VEVENT
BEGIN:VEVENT
DTSTART;TZID=Europe/Amsterdam:20251222T180000
DTEND;TZID=Europe/Amsterdam:20251222T220000
DTSTAMP:20260425T164432
CREATED:20251209T083736Z
LAST-MODIFIED:20251209T083736Z
UID:12459-1766426400-1766440800@avweert.nl
SUMMARY:Kerstborrel  U18/20 junioren in de kantine
DESCRIPTION:
URL:https://avweert.nl/event/kerstborrel-u18-20-junioren-in-de-kantine/
LOCATION:Limburg
CATEGORIES:Bestuurskamer
END:VEVENT
BEGIN:VEVENT
DTSTART;TZID=Europe/Amsterdam:20251231T110000
DTEND;TZID=Europe/Amsterdam:20251231T153000
DTSTAMP:20260425T164432
CREATED:20250206T140834Z
LAST-MODIFIED:20251223T093354Z
UID:10757-1767178800-1767195000@avweert.nl
SUMMARY:Gamma Weert Oliebollenloop
DESCRIPTION:Inschrijven kan >> hier << \n \n \nParcours:
URL:https://avweert.nl/event/gamma-weert-oliebollenloop-2025/
LOCATION:Atletiekbaan AV Weert\, Parklaan 1C\, Weert\, Limburg\, 6006 NT\, Nederland
CATEGORIES:Atletiek,Bestuurskamer
ATTACH;FMTTYPE=image/jpeg:https://avweert.nl/wp-content/uploads/2025/02/A3-affiche-Oliebollenloop-2025-scaled.jpg
END:VEVENT
BEGIN:VEVENT
DTSTART;TZID=Europe/Amsterdam:20260107T190000
DTEND;TZID=Europe/Amsterdam:20260107T220000
DTSTAMP:20260425T164432
CREATED:20251205T113600Z
LAST-MODIFIED:20251205T113600Z
UID:12413-1767812400-1767823200@avweert.nl
SUMMARY:Bridgecursus in de kantine
DESCRIPTION:
URL:https://avweert.nl/event/bridgecursus-in-de-kantine/
LOCATION:Limburg
CATEGORIES:Bestuurskamer
END:VEVENT
BEGIN:VEVENT
DTSTART;TZID=Europe/Amsterdam:20260114T190000
DTEND;TZID=Europe/Amsterdam:20260114T220000
DTSTAMP:20260425T164432
CREATED:20251205T113628Z
LAST-MODIFIED:20251205T113628Z
UID:12415-1768417200-1768428000@avweert.nl
SUMMARY:Bridgecursus in de kantine
DESCRIPTION:
URL:https://avweert.nl/event/bridgecursus-in-de-kantine-2/
LOCATION:Limburg
CATEGORIES:Bestuurskamer
END:VEVENT
BEGIN:VEVENT
DTSTART;TZID=Europe/Amsterdam:20260116T160000
DTEND;TZID=Europe/Amsterdam:20260116T220000
DTSTAMP:20260425T164432
CREATED:20251111T103116Z
LAST-MODIFIED:20251111T103116Z
UID:12287-1768579200-1768600800@avweert.nl
SUMMARY:Nieuwjaars bijeenkomst
DESCRIPTION:
URL:https://avweert.nl/event/nieuwjaars-bijeenkomst/
LOCATION:baan 9
CATEGORIES:Bestuurskamer
END:VEVENT
BEGIN:VEVENT
DTSTART;TZID=Europe/Amsterdam:20260121T190000
DTEND;TZID=Europe/Amsterdam:20260121T220000
DTSTAMP:20260425T164432
CREATED:20251205T113651Z
LAST-MODIFIED:20251205T113651Z
UID:12417-1769022000-1769032800@avweert.nl
SUMMARY:Bridgecursus in de kantine
DESCRIPTION:
URL:https://avweert.nl/event/bridgecursus-in-de-kantine-3/
LOCATION:Limburg
CATEGORIES:Bestuurskamer
END:VEVENT
BEGIN:VEVENT
DTSTART;TZID=Europe/Amsterdam:20260123T100000
DTEND;TZID=Europe/Amsterdam:20260123T120000
DTSTAMP:20260425T164432
CREATED:20251219T171317Z
LAST-MODIFIED:20251219T171317Z
UID:12535-1769162400-1769169600@avweert.nl
SUMMARY:Kernteam overleg van Bank naar Bewegen in de kantine
DESCRIPTION:
URL:https://avweert.nl/event/kernteam-overleg-van-bank-naar-bewegen-in-de-kantine/
LOCATION:baan 9
CATEGORIES:Bestuurskamer
END:VEVENT
BEGIN:VEVENT
DTSTART;TZID=Europe/Amsterdam:20260126T183000
DTEND;TZID=Europe/Amsterdam:20260126T220000
DTSTAMP:20260425T164432
CREATED:20251212T105417Z
LAST-MODIFIED:20251212T105417Z
UID:12491-1769452200-1769464800@avweert.nl
SUMMARY:Limbra agenda overleg (Otto) in bestuurskamer
DESCRIPTION:
URL:https://avweert.nl/event/limbra-agenda-overleg-otto-in-bestuurskamer/
LOCATION:Limburg
CATEGORIES:Bestuurskamer
END:VEVENT
BEGIN:VEVENT
DTSTART;TZID=Europe/Amsterdam:20260128T190000
DTEND;TZID=Europe/Amsterdam:20260128T220000
DTSTAMP:20260425T164432
CREATED:20251205T113710Z
LAST-MODIFIED:20251205T113710Z
UID:12419-1769626800-1769637600@avweert.nl
SUMMARY:Bridgecursus in de kantine
DESCRIPTION:
URL:https://avweert.nl/event/bridgecursus-in-de-kantine-4/
LOCATION:Limburg
CATEGORIES:Bestuurskamer
END:VEVENT
BEGIN:VEVENT
DTSTART;TZID=Europe/Amsterdam:20260203T190000
DTEND;TZID=Europe/Amsterdam:20260203T200000
DTSTAMP:20260425T164432
CREATED:20260120T143209Z
LAST-MODIFIED:20260120T143209Z
UID:12737-1770145200-1770148800@avweert.nl
SUMMARY:bijeenkomst nieuwe leden in de kantine
DESCRIPTION:
URL:https://avweert.nl/event/bijeenkomst-nieuwe-leden-in-de-kantine/
LOCATION:baan 9
CATEGORIES:Bestuurskamer
END:VEVENT
BEGIN:VEVENT
DTSTART;TZID=Europe/Amsterdam:20260204T080000
DTEND;TZID=Europe/Amsterdam:20260204T130000
DTSTAMP:20260425T164432
CREATED:20260203T105241Z
LAST-MODIFIED:20260203T105322Z
UID:12859-1770192000-1770210000@avweert.nl
SUMMARY:facturatie in de kantine
DESCRIPTION:
URL:https://avweert.nl/event/facturatie-in-de-kantine/
LOCATION:baan 9
CATEGORIES:Bestuurskamer
END:VEVENT
BEGIN:VEVENT
DTSTART;TZID=Europe/Amsterdam:20260204T183000
DTEND;TZID=Europe/Amsterdam:20260204T220000
DTSTAMP:20260425T164432
CREATED:20251211T102209Z
LAST-MODIFIED:20251211T102209Z
UID:12489-1770229800-1770242400@avweert.nl
SUMMARY:Huize Molenveld kantine
DESCRIPTION:
URL:https://avweert.nl/event/huize-molenveld-kantine/
LOCATION:Limburg
CATEGORIES:Bestuurskamer
END:VEVENT
BEGIN:VEVENT
DTSTART;TZID=Europe/Amsterdam:20260210T180000
DTEND;TZID=Europe/Amsterdam:20260210T193000
DTSTAMP:20260425T164432
CREATED:20260206T084303Z
LAST-MODIFIED:20260206T084303Z
UID:12867-1770746400-1770751800@avweert.nl
SUMMARY:Pasavond wedstrijdkleding in de kantine
DESCRIPTION:
URL:https://avweert.nl/event/pasavond-wedstrijdkleding-in-de-kantine/
LOCATION:baan 9
CATEGORIES:Bestuurskamer
END:VEVENT
BEGIN:VEVENT
DTSTART;TZID=Europe/Amsterdam:20260225T190000
DTEND;TZID=Europe/Amsterdam:20260225T193000
DTSTAMP:20260425T164432
CREATED:20260202T132905Z
LAST-MODIFIED:20260202T132905Z
UID:12857-1772046000-1772047800@avweert.nl
SUMMARY:Overleg Swift / AV Weert in de bestuurskamer
DESCRIPTION:
URL:https://avweert.nl/event/overleg-swift-av-weert-in-de-bestuurskamer/
LOCATION:baan 9
CATEGORIES:Bestuurskamer
END:VEVENT
BEGIN:VEVENT
DTSTART;TZID=Europe/Amsterdam:20260309T130000
DTEND;TZID=Europe/Amsterdam:20260309T150000
DTSTAMP:20260425T164432
CREATED:20260202T104101Z
LAST-MODIFIED:20260202T113725Z
UID:12839-1773061200-1773068400@avweert.nl
SUMMARY:kernteam overleg in bestuurskamer
DESCRIPTION:
URL:https://avweert.nl/event/kernteam-overleg-in-bestuurskamer/
LOCATION:Atletiekbaan AV Weert\, Parklaan 1C\, Weert\, Limburg\, 6006 NT\, Nederland
CATEGORIES:Bestuurskamer
END:VEVENT
BEGIN:VEVENT
DTSTART;TZID=Europe/Amsterdam:20260309T190000
DTEND;TZID=Europe/Amsterdam:20260309T203000
DTSTAMP:20260425T164432
CREATED:20260302T154710Z
LAST-MODIFIED:20260302T154719Z
UID:13008-1773082800-1773088200@avweert.nl
SUMMARY:bijeenkomst Hema IJzerenman Volksloop in bestuurskamer
DESCRIPTION:
URL:https://avweert.nl/event/bijeenkomst-hema-ijzerenman-volksloop-in-bestuurskamer/
LOCATION:Atletiekbaan AV Weert\, Parklaan 1C\, Weert\, Limburg\, 6006 NT\, Nederland
CATEGORIES:Bestuurskamer
END:VEVENT
BEGIN:VEVENT
DTSTART;TZID=Europe/Amsterdam:20260319T130000
DTEND;TZID=Europe/Amsterdam:20260319T160000
DTSTAMP:20260425T164432
CREATED:20260306T090245Z
LAST-MODIFIED:20260306T090245Z
UID:13031-1773925200-1773936000@avweert.nl
SUMMARY:Overleg met de gemeente in bestuurskamer
DESCRIPTION:
URL:https://avweert.nl/event/overleg-met-de-gemeente-in-bestuurskamer/
LOCATION:Atletiekbaan AV Weert\, Parklaan 1C\, Weert\, Limburg\, 6006 NT\, Nederland
CATEGORIES:Bestuurskamer
END:VEVENT
BEGIN:VEVENT
DTSTART;TZID=Europe/Amsterdam:20260324T200000
DTEND;TZID=Europe/Amsterdam:20260324T210000
DTSTAMP:20260425T164432
CREATED:20260304T170010Z
LAST-MODIFIED:20260304T170010Z
UID:13027-1774382400-1774386000@avweert.nl
SUMMARY:Overleg in bestuurskamer mbt Young Rabobank
DESCRIPTION:
URL:https://avweert.nl/event/overleg-in-bestuurskamer-mbt-young-rabobank/
LOCATION:Atletiekbaan AV Weert\, Parklaan 1C\, Weert\, Limburg\, 6006 NT\, Nederland
CATEGORIES:Bestuurskamer
END:VEVENT
BEGIN:VEVENT
DTSTART;TZID=Europe/Amsterdam:20260402T190000
DTEND;TZID=Europe/Amsterdam:20260402T220000
DTSTAMP:20260425T164432
CREATED:20260226T093042Z
LAST-MODIFIED:20260226T093042Z
UID:12954-1775156400-1775167200@avweert.nl
SUMMARY:ALV Triathlon Vereniging Weert in Baan 9
DESCRIPTION:
URL:https://avweert.nl/event/alv-triathlon-vereniging-weert-in-baan-9/
LOCATION:baan 9
CATEGORIES:Bestuurskamer
END:VEVENT
BEGIN:VEVENT
DTSTART;TZID=Europe/Amsterdam:20260409T160000
DTEND;TZID=Europe/Amsterdam:20260409T190000
DTSTAMP:20260425T164432
CREATED:20251216T095425Z
LAST-MODIFIED:20260109T140933Z
UID:12528-1775750400-1775761200@avweert.nl
SUMMARY:sessie van Bank naar Bewegen in kantine
DESCRIPTION:
URL:https://avweert.nl/event/sessie-van-bank-naar-bewegen-in-kantine/
LOCATION:baan 9
CATEGORIES:Bestuurskamer
END:VEVENT
BEGIN:VEVENT
DTSTART;TZID=Europe/Amsterdam:20260418T100000
DTEND;TZID=Europe/Amsterdam:20260418T150000
DTSTAMP:20260425T164432
CREATED:20260311T110116Z
LAST-MODIFIED:20260311T110116Z
UID:13047-1776506400-1776524400@avweert.nl
SUMMARY:Kagie Performance seizoen openingsbijeenkomst
DESCRIPTION:
URL:https://avweert.nl/event/kagie-performance-seizoen-openingsbijeenkomst/
LOCATION:Atletiekbaan AV Weert\, Parklaan 1C\, Weert\, Limburg\, 6006 NT\, Nederland
CATEGORIES:Bestuurskamer
END:VEVENT
BEGIN:VEVENT
DTSTART;TZID=Europe/Amsterdam:20260423T200000
DTEND;TZID=Europe/Amsterdam:20260423T213000
DTSTAMP:20260425T164432
CREATED:20260418T081035Z
LAST-MODIFIED:20260418T081035Z
UID:13217-1776974400-1776979800@avweert.nl
SUMMARY:WOC Overleg in bestuurskamer
DESCRIPTION:
URL:https://avweert.nl/event/woc-overleg-in-bestuurskamer/
LOCATION:Atletiekbaan AV Weert\, Parklaan 1C\, Weert\, Limburg\, 6006 NT\, Nederland
CATEGORIES:Bestuurskamer
END:VEVENT
END:VCALENDAR