BEGIN:VCALENDAR
VERSION:2.0
PRODID:-//AV Weert - ECPv6.15.20//NONSGML v1.0//EN
CALSCALE:GREGORIAN
METHOD:PUBLISH
X-ORIGINAL-URL:https://avweert.nl
X-WR-CALDESC:Evenementen voor AV Weert
REFRESH-INTERVAL;VALUE=DURATION:PT1H
X-Robots-Tag:noindex
X-PUBLISHED-TTL:PT1H
BEGIN:VTIMEZONE
TZID:Europe/Amsterdam
BEGIN:DAYLIGHT
TZOFFSETFROM:+0100
TZOFFSETTO:+0200
TZNAME:CEST
DTSTART:20250330T010000
END:DAYLIGHT
BEGIN:STANDARD
TZOFFSETFROM:+0200
TZOFFSETTO:+0100
TZNAME:CET
DTSTART:20251026T010000
END:STANDARD
BEGIN:DAYLIGHT
TZOFFSETFROM:+0100
TZOFFSETTO:+0200
TZNAME:CEST
DTSTART:20260329T010000
END:DAYLIGHT
BEGIN:STANDARD
TZOFFSETFROM:+0200
TZOFFSETTO:+0100
TZNAME:CET
DTSTART:20261025T010000
END:STANDARD
BEGIN:DAYLIGHT
TZOFFSETFROM:+0100
TZOFFSETTO:+0200
TZNAME:CEST
DTSTART:20270328T010000
END:DAYLIGHT
BEGIN:STANDARD
TZOFFSETFROM:+0200
TZOFFSETTO:+0100
TZNAME:CET
DTSTART:20271031T010000
END:STANDARD
END:VTIMEZONE
BEGIN:VEVENT
DTSTART;TZID=Europe/Amsterdam:20260503T093000
DTEND;TZID=Europe/Amsterdam:20260503T113000
DTSTAMP:20260422T132622
CREATED:20260404T072431Z
LAST-MODIFIED:20260404T075213Z
UID:13135-1777800600-1777807800@avweert.nl
SUMMARY:Hema IJzeren Man Volksloop op 3 mei.
DESCRIPTION:Op zondag 3 mei gaat de volgende Volksloop van start. Deze loop staat weer volledig in het teken van sportiviteit\, blije gezichten\, gezelligheid en samen actief bezig zijn. Ga je voor een persoonlijk record of wil je gewoon lekker lopen op je eigen tempo\, dat kan. Trek je loopschoenen aan en doe mee! Want elke maand kun je meedoen aan deze leuke uitdaging. Samenlopen maakt het gezelliger en motiverender! Iedereen kan meedoen. \nOok kun je deze maand weer meedoen we aan de jeugd competitie en de meeste progressie. \nKlik hier voor de voorwaarde van de Jeugdcompetitie. \nKlik hier voor de voorwaarde van de “Meeste Progressie”. \nWelke afstand doe wil je meedoen. Keuze uit 9 afstanden (3 voor de jeugd tot en met 15 jaar en 6 voor vanaf 16 jaar.) Kijk hier voor starttijden en afstanden. \nBekijk alle details en voorwaarden op de website van: Hema Volksloop – AV Weert. \nJeugd: Ben je 15 jaar of jonger? Dan mag je gratis deelnemen. \nInschrijven: \n\nVoor-inschrijven tot en met 30 april via deze link: Inschrijven.\nAdres evenement: Zwembad/ Beauchclub Geurtsvenweg 1 6006 SN Weert.\nStart Geurtsvenweg\, voor Hertenkamp\, bij het strandje.\nAfstanden senioren: 4\, 6\, 8\, 10\, 12 en 16 km.- (Tijdslimiet 90 minuten tot 11.30 uur)\nDit kan tot donderdag 30 april 23:59 uur.\nKosten voorinschrijving: € 3\,00.\nNa-inschrijven kan op zondagmorgen 3 mei tot 9:45 uur. (Jeugd 1.3 en 2.6 km tot 9.15 uur). Kosten € 4\,50.\nStart Jeugd 1.3 en 2.6 km om 9.30 uur en de 4 km om 10.00 uur met de senioren.\n\nDe HEMA Volksloop wordt mede mogelijk gemaakt door: \nHEMA\, Posno-Sport\, J&J Schilder- & Afwerk\, De IJzeren Man Zwembad | Waterskibaan | Beachclub en Ogier Tweewielers en Atletiek en Wandelsportvereniging Weert (AV Weert)
URL:https://avweert.nl/event/hema-ijzeren-man-volksloop-op-3-mei/
LOCATION:GEURTSVENWEG BIJ “HET STRANDJE” VOOR HET HERTENKAMP\, GEURTSVENWEG 1\, WEERT
CATEGORIES:Atletiek,Hema IJzeren Man Loop
ATTACH;FMTTYPE=image/jpeg:https://avweert.nl/wp-content/uploads/2026/02/hemaloop-01-02-26-03.jpeg
END:VEVENT
BEGIN:VEVENT
DTSTART;TZID=Europe/Amsterdam:20260621T100000
DTEND;TZID=Europe/Amsterdam:20260621T170000
DTSTAMP:20260422T132622
CREATED:20260202T131206Z
LAST-MODIFIED:20260202T131206Z
UID:12851-1782036000-1782061200@avweert.nl
SUMMARY:AB junioren wedstrijd
DESCRIPTION:
URL:https://avweert.nl/event/ab-junioren-wedstrijd/
LOCATION:Atletiekbaan AV Weert\, Parklaan 1C\, Weert\, Limburg\, 6006 NT\, Nederland
CATEGORIES:Atletiek,Bestuurskamer
END:VEVENT
BEGIN:VEVENT
DTSTART;TZID=Europe/Amsterdam:20260626T080000
DTEND;TZID=Europe/Amsterdam:20260626T170000
DTSTAMP:20260422T132622
CREATED:20260202T131320Z
LAST-MODIFIED:20260202T131435Z
UID:12853-1782460800-1782493200@avweert.nl
SUMMARY:Gamma Weert Singelloop
DESCRIPTION:
URL:https://avweert.nl/event/gamma-weert-singelloop/
LOCATION:Markt\, Weert\, Markt\, Weert\, Limburg\, Netherlands
CATEGORIES:Atletiek
END:VEVENT
BEGIN:VEVENT
DTSTART;TZID=Europe/Amsterdam:20260707T180000
DTEND;TZID=Europe/Amsterdam:20260707T220000
DTSTAMP:20260422T132622
CREATED:20260130T153944Z
LAST-MODIFIED:20260323T105007Z
UID:12805-1783447200-1783461600@avweert.nl
SUMMARY:LIMBRA Baanwedstrijd
DESCRIPTION:
URL:https://avweert.nl/event/limbra-baanwedstrijd/
LOCATION:Atletiekbaan AV Weert\, Parklaan 1C\, Weert\, Limburg\, 6006 NT\, Nederland
CATEGORIES:Atletiek
END:VEVENT
BEGIN:VEVENT
DTSTART;TZID=Europe/Amsterdam:20260830T080000
DTEND;TZID=Europe/Amsterdam:20260830T170000
DTSTAMP:20260422T132622
CREATED:20260130T153809Z
LAST-MODIFIED:20260130T153809Z
UID:12801-1788076800-1788109200@avweert.nl
SUMMARY:AC Wedstrijd
DESCRIPTION:
URL:https://avweert.nl/event/ac-wedstrijd/
LOCATION:Atletiekbaan AV Weert\, Parklaan 1C\, Weert\, Limburg\, 6006 NT\, Nederland
CATEGORIES:Atletiek
ATTACH;FMTTYPE=image/jpeg:https://avweert.nl/wp-content/uploads/2026/01/Athletics-Champs-flyer-2026.jpg
END:VEVENT
BEGIN:VEVENT
DTSTART;TZID=Europe/Amsterdam:20261003T080000
DTEND;TZID=Europe/Amsterdam:20261003T170000
DTSTAMP:20260422T132622
CREATED:20260409T095330Z
LAST-MODIFIED:20260409T095330Z
UID:13165-1791014400-1791046800@avweert.nl
SUMMARY:Clubkampioenschappen AV Weert
DESCRIPTION:
URL:https://avweert.nl/event/clubkampioenschappen-av-weert/
LOCATION:Atletiekbaan AV Weert\, Parklaan 1C\, Weert\, Limburg\, 6006 NT\, Nederland
CATEGORIES:Atletiek,Bestuurskamer
END:VEVENT
BEGIN:VEVENT
DTSTART;TZID=Europe/Amsterdam:20261025T080000
DTEND;TZID=Europe/Amsterdam:20261025T170000
DTSTAMP:20260422T132622
CREATED:20260409T095454Z
LAST-MODIFIED:20260409T095454Z
UID:13167-1792915200-1792947600@avweert.nl
SUMMARY:LIMBRA Cross
DESCRIPTION:
URL:https://avweert.nl/event/limbra-cross-5/
LOCATION:Natuur- en Milieucentrum IJzeren Man Weert\, Geurtsvenweg 4\, Weert
CATEGORIES:Atletiek
END:VEVENT
BEGIN:VEVENT
DTSTART;TZID=Europe/Amsterdam:20261115T080000
DTEND;TZID=Europe/Amsterdam:20261115T170000
DTSTAMP:20260422T132622
CREATED:20260409T095626Z
LAST-MODIFIED:20260409T095626Z
UID:13169-1794729600-1794762000@avweert.nl
SUMMARY:Trail AV Weert
DESCRIPTION:
URL:https://avweert.nl/event/trail-av-weert/
LOCATION:Daatjeshoeve\, Heugterbroekdijk 34\, 6031 LE Nederweert
CATEGORIES:Atletiek
END:VEVENT
BEGIN:VEVENT
DTSTART;TZID=Europe/Amsterdam:20261231T090000
DTEND;TZID=Europe/Amsterdam:20261231T170000
DTSTAMP:20260422T132622
CREATED:20260202T131407Z
LAST-MODIFIED:20260202T131407Z
UID:12855-1798707600-1798736400@avweert.nl
SUMMARY:Gamma Weert Oliebollenloop
DESCRIPTION:
URL:https://avweert.nl/event/gamma-weert-oliebollenloop/
LOCATION:Atletiekbaan AV Weert\, Parklaan 1C\, Weert\, Limburg\, 6006 NT\, Nederland
CATEGORIES:Atletiek,Bestuurskamer
END:VEVENT
END:VCALENDAR