BEGIN:VCALENDAR
VERSION:2.0
PRODID:-//AV Weert - ECPv6.15.20//NONSGML v1.0//EN
CALSCALE:GREGORIAN
METHOD:PUBLISH
X-WR-CALNAME:AV Weert
X-ORIGINAL-URL:https://avweert.nl
X-WR-CALDESC:Evenementen voor AV Weert
REFRESH-INTERVAL;VALUE=DURATION:PT1H
X-Robots-Tag:noindex
X-PUBLISHED-TTL:PT1H
BEGIN:VTIMEZONE
TZID:Europe/Amsterdam
BEGIN:DAYLIGHT
TZOFFSETFROM:+0100
TZOFFSETTO:+0200
TZNAME:CEST
DTSTART:20230326T010000
END:DAYLIGHT
BEGIN:STANDARD
TZOFFSETFROM:+0200
TZOFFSETTO:+0100
TZNAME:CET
DTSTART:20231029T010000
END:STANDARD
BEGIN:DAYLIGHT
TZOFFSETFROM:+0100
TZOFFSETTO:+0200
TZNAME:CEST
DTSTART:20240331T010000
END:DAYLIGHT
BEGIN:STANDARD
TZOFFSETFROM:+0200
TZOFFSETTO:+0100
TZNAME:CET
DTSTART:20241027T010000
END:STANDARD
BEGIN:DAYLIGHT
TZOFFSETFROM:+0100
TZOFFSETTO:+0200
TZNAME:CEST
DTSTART:20250330T010000
END:DAYLIGHT
BEGIN:STANDARD
TZOFFSETFROM:+0200
TZOFFSETTO:+0100
TZNAME:CET
DTSTART:20251026T010000
END:STANDARD
END:VTIMEZONE
BEGIN:VEVENT
DTSTART;TZID=Europe/Amsterdam:20241020T090000
DTEND;TZID=Europe/Amsterdam:20241020T110000
DTSTAMP:20260424T201752
CREATED:20240830T075747Z
LAST-MODIFIED:20240830T075747Z
UID:9661-1729414800-1729422000@avweert.nl
SUMMARY:Zondagwandeling Weert
DESCRIPTION:
URL:https://avweert.nl/event/zondagwandeling-weert-72/
LOCATION:La Place\, Rijksweg A2\, 6004 RW (Roevenpeel) Weert
CATEGORIES:Wandelen
END:VEVENT
BEGIN:VEVENT
DTSTART;TZID=Europe/Amsterdam:20241013T090000
DTEND;TZID=Europe/Amsterdam:20241013T110000
DTSTAMP:20260424T201752
CREATED:20240701T112534Z
LAST-MODIFIED:20240701T112534Z
UID:9392-1728810000-1728817200@avweert.nl
SUMMARY:Zondagwandeling Stramproy
DESCRIPTION:Wij wandelen mee met de Herfstwandeling van WSV Stramproy.
URL:https://avweert.nl/event/zondagwandeling-stramproy-9/
LOCATION:Heijer Heufke\, Lochtstr. 8a 6039 RV  Stramproy
CATEGORIES:Wandelen
END:VEVENT
BEGIN:VEVENT
DTSTART;TZID=Europe/Amsterdam:20241006T093000
DTEND;TZID=Europe/Amsterdam:20241006T113000
DTSTAMP:20260424T201752
CREATED:20240902T081821Z
LAST-MODIFIED:20240902T082124Z
UID:9682-1728207000-1728214200@avweert.nl
SUMMARY:HEMA VOLKSLOOP 6 OKTOBER 2024
DESCRIPTION:Meedoen met de maandelijkse Volksloop van AV Weert.\nJeugd tot en met 15 jaar\, kan 1.3*\, 2.5* (de jeugd tot en met 12 jaar) of 4.0** kilometer. \n*START OM 9.30 UUR. \nJeugd voor 1.3 en 2.5 km kunnen nummer ophalen tussen 9.00 en 9.25 uur. **Jeugd van 11- tot en met 15 jaar kan ook starten op de 4.0 KM. Zij starten samen met de andere lopers om 10.04 uur\nJEUGD TOT EN 15 JAAR MAG GRATIS MEEDOEN! \nSENIOREN: START LANGERE AFSTANDEN: 15.5 km* om 10.00 uur. 12 km* 10.01. 7.5 km 10.02\, 6.0 km 10.03\, 4 km 10.04. \n*Op deze afstanden is een tijdslimiet van 90 minuten. \nVOOR INSCHRIJVEN KAN TOT EN MET 3 OKTOBER 2024 23.59 UUR. \nJe kunt weer inschrijven via deze link: https://inschrijven.nl/form/2024100616344-nl \nPrijs van voorinschrijven is € 3\,00 (jeugd tot 15 jaar gratis). Nu betalen met ideaal\, zodat je geen bankrekeningnummer meer hoeft in te vullen. \nNa-inschrijven op 6 oktober is € 4\,50. \nEr wordt gelopen met tijdregistratie.  Zodat elke keer jouw tijd in de uitslagen komt. Deze kun je na de loop vinden op uitslagen.nl. https://uitslagen.nl                Startlocatie: Dennenoord Voorhoeveweg 2 6006 SV Weert. \nVRAGEN OF OPMERKINGEN: hemaijzerenmanloop@gmail.com. \nDe Volksloop komt tot stand door: HEMA\, POSNO- SPORT\, BIKKEL-FIETSSERVICE WEERT\, BIER EN SPIJZENLOKAAL DENNENOORD\, WERTHABIEREN\, J&J SCHILDER & AFWERK\, STICHTING GEZONDHEID & ONTSPANNING\, AV WEERT.
URL:https://avweert.nl/event/hema-volksloop-6-oktober-2024/
LOCATION:Dennenoord\, Voorhoeveweg 2\, 6006 SV\, Weert\, Voorhoeveweg 2\, Weert\, 6006 SV\, Nederland
CATEGORIES:Atletiek,Hema IJzeren Man Loop
ATTACH;FMTTYPE=image/jpeg:https://avweert.nl/wp-content/uploads/2024/07/H-loopklein07072407.jpeg
END:VEVENT
BEGIN:VEVENT
DTSTART;TZID=Europe/Amsterdam:20241006T090000
DTEND;TZID=Europe/Amsterdam:20241006T110000
DTSTAMP:20260424T201752
CREATED:20240830T075228Z
LAST-MODIFIED:20240830T075446Z
UID:9658-1728205200-1728212400@avweert.nl
SUMMARY:Zondagwandeling Weert
DESCRIPTION:
URL:https://avweert.nl/event/zondagwandeling-weert-71/
LOCATION:Wertha Mouttoren\, Werthaboulevard 21 a  6001 CZ Weert.
CATEGORIES:Wandelen
END:VEVENT
BEGIN:VEVENT
DTSTART;TZID=Europe/Amsterdam:20240929T090000
DTEND;TZID=Europe/Amsterdam:20240929T110000
DTSTAMP:20260424T201752
CREATED:20240701T111540Z
LAST-MODIFIED:20240701T111540Z
UID:9390-1727600400-1727607600@avweert.nl
SUMMARY:Zondagwandeling Stramproy
DESCRIPTION:
URL:https://avweert.nl/event/zondagwandeling-stramproy-8/
LOCATION:Kerkplein\, 6039 GA Stramproy\, Kerkplein\, 6093 GA\, Stramproy
CATEGORIES:Wandelen
END:VEVENT
BEGIN:VEVENT
DTSTART;TZID=Europe/Amsterdam:20240922T090000
DTEND;TZID=Europe/Amsterdam:20240922T110000
DTSTAMP:20260424T201752
CREATED:20240815T154714Z
LAST-MODIFIED:20240815T154714Z
UID:9626-1726995600-1727002800@avweert.nl
SUMMARY:Zondagwandeling Heythuysen
DESCRIPTION:
URL:https://avweert.nl/event/zondagwandeling-heythuysen-6/
LOCATION:De Busjop\, Busschopsweg 9\, 6093AA Heythuysen
CATEGORIES:Wandelen
END:VEVENT
BEGIN:VEVENT
DTSTART;TZID=Europe/Amsterdam:20240915T090000
DTEND;TZID=Europe/Amsterdam:20240915T110000
DTSTAMP:20260424T201752
CREATED:20240701T111357Z
LAST-MODIFIED:20240701T111357Z
UID:9387-1726390800-1726398000@avweert.nl
SUMMARY:Zondagwandeling Nunhem
DESCRIPTION:We wandelen mee met een wandeltocht van Wandellust Leudal. Inschrijving voor leden van een bond is €1.50
URL:https://avweert.nl/event/zondagwandeling-nunhem-2/
LOCATION:St. Servaas\, Burg. Peetersstr. 1\, 6083 AK\, Nunhem
CATEGORIES:Wandelen
END:VEVENT
BEGIN:VEVENT
DTSTART;TZID=Europe/Amsterdam:20240908T090000
DTEND;TZID=Europe/Amsterdam:20240908T110000
DTSTAMP:20260424T201752
CREATED:20240801T120252Z
LAST-MODIFIED:20240801T120252Z
UID:9571-1725786000-1725793200@avweert.nl
SUMMARY:Zondagwandeling Weert
DESCRIPTION:
URL:https://avweert.nl/event/zondagwandeling-weert-70/
LOCATION:‘t Blaakven\,Geuzendijk 35\, 6002 TA\, Weert
CATEGORIES:Wandelen
END:VEVENT
BEGIN:VEVENT
DTSTART;TZID=Europe/Amsterdam:20240901T093000
DTEND;TZID=Europe/Amsterdam:20240901T113000
DTSTAMP:20260424T201752
CREATED:20240805T084330Z
LAST-MODIFIED:20240805T090156Z
UID:9591-1725183000-1725190200@avweert.nl
SUMMARY:HEMA VOLKSLOOP 1 SEPTEMBER 2024.
DESCRIPTION:Lopen langs het water iedere eerste zondag van de maand.  \nJeugd tot en met 15 jaar\, kan 1.3*\, 2.5* (de jeugd tot en met 12 jaar) of 4.0** kilometer. *START OM 9.30 UUR. Jeugd voor 1.3 en 2.5 km kunnen nummer ophalen tussen 9.00 en 9.25 uur. **Jeugd van 11- tot en met 15 jaar kan ook starten op de 4.0 KM. Zij starten samen met de andere lopers om 10.04 uur\nJEUGD TOT EN 15 JAAR MAG GRATIS MEEDOEN!\nSENIOREN: START LANGERE AFSTANDEN: 15.5 km* om 10.00 uur. 12 km* 10.01. 7.5 km 10.02\, 6.0 km 10.03\, 4 km 10.04.*Op deze afstanden is een tijdslimiet van 90 minuten. \n\nSPECIALE EDITIE 1 SEPTEMBER: LOPEN MET EEN LENY GILLESSEN BIJ HAAR 500e DEELNAME! IEDEREEN DIE OOIT MET HAAR GELOPEN HEEFT\, DAGEN WE UIT OM MEE TE DOEN!\n\nVOOR INSCHRIJVEN KAN TOT EN MET 29  AUGUSTUS 2024 23.59 UUR. \nHier de link: https://inschrijven.nl/form/2024090116344-nl \nDe prijs van voorinschrijven is € 3\,00 (jeugd tot 15 jaar gratis).  \nNu betalen met ideaal\, zodat je geen bankrekeningnummer meer hoeft in te vullen. \nNa-inschrijven op 1 september is € 4\,50. \nEr wordt gelopen met tijdregistratie.  Zodat elke keer jouw tijd in de uitslagen komt. Deze kun je na de loop vinden op uitslagen.nl. https://uitslagen.nl                Startlocatie: Dennenoord Voorhoeveweg 2 6006 SV Weert. \nVRAGEN OF OPMERKINGEN:hemaijzerenmanloop@gmail.com.
URL:https://avweert.nl/event/hema-volksloop-1-september-2024/
LOCATION:Dennenoord\, Voorhoeveweg 2\, 6006 SV\, Weert\, Voorhoeveweg 2\, Weert\, 6006 SV\, Nederland
CATEGORIES:Atletiek,Hema IJzeren Man Loop
ATTACH;FMTTYPE=image/jpeg:https://avweert.nl/wp-content/uploads/2024/07/H-loopklein07072409.jpeg
END:VEVENT
BEGIN:VEVENT
DTSTART;TZID=Europe/Amsterdam:20240901T090000
DTEND;TZID=Europe/Amsterdam:20240901T110000
DTSTAMP:20260424T201752
CREATED:20240801T115720Z
LAST-MODIFIED:20240801T115720Z
UID:9565-1725181200-1725188400@avweert.nl
SUMMARY:Zondagwandeling Weert
DESCRIPTION:
URL:https://avweert.nl/event/zondagwandeling-weert-69/
LOCATION:Café ‘t Swaentje\, Stationsstraat 1\, 6001 CJ\,  Weert
CATEGORIES:Wandelen
END:VEVENT
BEGIN:VEVENT
DTSTART;TZID=Europe/Amsterdam:20240825T090000
DTEND;TZID=Europe/Amsterdam:20240825T110000
DTSTAMP:20260424T201752
CREATED:20240725T115629Z
LAST-MODIFIED:20240725T115704Z
UID:9527-1724576400-1724583600@avweert.nl
SUMMARY:Zondagwandeling Budel-Dorplein
DESCRIPTION:
URL:https://avweert.nl/event/zondagwandeling-budel-dorplein-2/
LOCATION:Gemeenschapshuis De Schakel St Barbaraweg 1\, 6024 AR  Budel-Dorplein
CATEGORIES:Wandelen
END:VEVENT
BEGIN:VEVENT
DTSTART;TZID=Europe/Amsterdam:20240818T090000
DTEND;TZID=Europe/Amsterdam:20240818T110000
DTSTAMP:20260424T201752
CREATED:20240725T120255Z
LAST-MODIFIED:20240725T120255Z
UID:9531-1723971600-1723978800@avweert.nl
SUMMARY:Zondagwandeling Lierop
DESCRIPTION:
URL:https://avweert.nl/event/zondagwandeling-lierop/
LOCATION:De Somersevennen\, Philipsbosweg 7\, 5715 RE\, Lierop
CATEGORIES:Wandelen
END:VEVENT
BEGIN:VEVENT
DTSTART;TZID=Europe/Amsterdam:20240811T090000
DTEND;TZID=Europe/Amsterdam:20240811T110000
DTSTAMP:20260424T201752
CREATED:20240711T123043Z
LAST-MODIFIED:20240711T123043Z
UID:9505-1723366800-1723374000@avweert.nl
SUMMARY:Zondagwandeling Altweerterheide
DESCRIPTION:
URL:https://avweert.nl/event/zondagwandeling-altweerterheide-4/
LOCATION:Schuttershoeve\, Grotesteeg 10\, 6006 TE Weert
CATEGORIES:Wandelen
END:VEVENT
BEGIN:VEVENT
DTSTART;TZID=Europe/Amsterdam:20240804T093000
DTEND;TZID=Europe/Amsterdam:20240804T113000
DTSTAMP:20260424T201752
CREATED:20240708T095322Z
LAST-MODIFIED:20240708T095322Z
UID:9475-1722763800-1722771000@avweert.nl
SUMMARY:HEMA VOLKSLOOP 4 AUGUSTUS 2024. 
DESCRIPTION:Lopen langs het water iedere eerste zondag van de maand.  \n\n\nJeugd tot en met 15 jaar\, kan 1.3*\, 2.5* (de jeugd tot en met 12 jaar) of 4.0** kilometer. *START OM 9.30 UUR. Jeugd voor 1.3 en 2.5 km kunnen nummer ophalen tussen 9.00 en 9.25 uur.  **Jeugd van 11- tot en met 15 jaar kan ook starten op de 4.0 KM. Zij starten samen met de andere lopers om 10.04 uur\n\n\nJEUGD TOT EN 15 JAAR MAG GRATIS MEEDOEN! \n\n\nJEUGDCOMPETITIE EN PROGRESSIE KLIK HIEROP. \n\n\nSENIOREN\, LANGERE AFSTANDEN. \n\n\nSTART LANGERE AFSTANDEN:15.5 km* om 10.00 uur. 12 km* 10.01. 7.5 km 10.02 en 6.0 km 10.03. 4 km om 10.04 uur.                                                                                                                                             *Op deze afstanden is een tijdslimiet van 90 minuten. \n\n\nVOOR INSCHRIJVEN KAN TOT EN MET 1 AUGUSTUS 2024 23.59 UUR. \n\n\nHIER DE LINK VOOR DE LOOP VAN 4 AUGUSTUS 2024. \n\n\nDe prijs van voorinschrijven is € 3\,00 (jeugd tot 15 jaar gratis).  \n\n\nJe kunt nu betalen met ideaal\, zodat je geen bankrekeningnummer meer hoeft in te vullen. \n\n\nNa-inschrijven op 4 AUGUSTUS is € 4\,50. \n\n\nEr wordt gelopen met tijdregistratie.  Zodat elke keer jouw tijd in de uitslagen komt. Deze kun je na de loop vinden op uitslagen.nl. https://uitslagen.nl \n\n\nStartlocatie: Dennenoord Voorhoeveweg 2 6006 SV Weert. \nVRAGEN OF OPMERKINGEN:hemaijzerenmanloop@gmail.com.\n\n\nDe Volksloop komt tot stand door: HEMA\, POSNO- SPORT\, BIKKEL-FIETSSERVICE WEERT\, BIER EN SPIJZENLOKAAL DENNENOORD\, WERTHABIEREN\, J&J SCHILDER & AFWERK\, STICHTING GEZONDHEID & ONTSPANNING\, AV WEERT.\n\n\n 
URL:https://avweert.nl/event/hema-volksloop-4-augustus-2024/
LOCATION:Dennenoord\, Voorhoeveweg 2\, 6006 SV\, Weert\, Voorhoeveweg 2\, Weert\, 6006 SV\, Nederland
CATEGORIES:Atletiek,Hema IJzeren Man Loop
ATTACH;FMTTYPE=image/jpeg:https://avweert.nl/wp-content/uploads/2024/07/H-loopklein07072410.jpeg
END:VEVENT
BEGIN:VEVENT
DTSTART;TZID=Europe/Amsterdam:20240804T090000
DTEND;TZID=Europe/Amsterdam:20240804T110000
DTSTAMP:20260424T201752
CREATED:20240711T122916Z
LAST-MODIFIED:20240711T122916Z
UID:9502-1722762000-1722769200@avweert.nl
SUMMARY:Zondagwandeling Weert
DESCRIPTION:
URL:https://avweert.nl/event/zondagwandeling-weert-68/
LOCATION:Hof van Keent\, Keenterstraat 2\, 6006 PX \, Weert
CATEGORIES:Wandelen
END:VEVENT
BEGIN:VEVENT
DTSTART;TZID=Europe/Amsterdam:20240728T090000
DTEND;TZID=Europe/Amsterdam:20240728T110000
DTSTAMP:20260424T201752
CREATED:20240701T073109Z
LAST-MODIFIED:20240701T073109Z
UID:9374-1722157200-1722164400@avweert.nl
SUMMARY:Zondagwandeling Weert
DESCRIPTION:
URL:https://avweert.nl/event/zondagwandeling-weert-67/
LOCATION:Wertha Mouttoren\, Werthaboulevard 21 a  6001 CZ Weert.
CATEGORIES:Wandelen
END:VEVENT
BEGIN:VEVENT
DTSTART;TZID=Europe/Amsterdam:20240721T090000
DTEND;TZID=Europe/Amsterdam:20240721T110000
DTSTAMP:20260424T201752
CREATED:20240701T072757Z
LAST-MODIFIED:20240701T072757Z
UID:9371-1721552400-1721559600@avweert.nl
SUMMARY:Zondagwandeling Nederweert
DESCRIPTION:
URL:https://avweert.nl/event/zondagwandeling-nederweert-16/
LOCATION:Guulke eten & drinken\, Geenestraat 2A\, 6031 VM\, Nederweert\, Geenestraat 2A\, 6031 VM\, Nederweert
CATEGORIES:Wandelen
END:VEVENT
BEGIN:VEVENT
DTSTART;TZID=Europe/Amsterdam:20240714T090000
DTEND;TZID=Europe/Amsterdam:20240714T110000
DTSTAMP:20260424T201752
CREATED:20240610T122733Z
LAST-MODIFIED:20240611T121009Z
UID:9266-1720947600-1720954800@avweert.nl
SUMMARY:Zondagwandeling Nederweert
DESCRIPTION:
URL:https://avweert.nl/event/zondagwandelimg-nederweert/
LOCATION:Daatjeshoeve\, Heugterbroekdijk 34\, 6031 LE Nederweert
CATEGORIES:Wandelen
END:VEVENT
BEGIN:VEVENT
DTSTART;TZID=Europe/Amsterdam:20240707T093000
DTEND;TZID=Europe/Amsterdam:20240707T113000
DTSTAMP:20260424T201752
CREATED:20240603T093715Z
LAST-MODIFIED:20240603T093715Z
UID:9224-1720344600-1720351800@avweert.nl
SUMMARY:HEMA VOLKSLOOP 7 JULI 2024.
DESCRIPTION:Lopen langs het water iedere eerste zondag van de maand.  \n    \n\n\nJeugd tot en met 15 jaar\, kan 1.3*\, 2.5* (de jeugd tot en met 12 jaar) of 4.0** kilometer. *START OM 9.30 UUR. Jeugd voor 1.3 en 2.5 km kunnen nummer ophalen tussen 9.00 en 9.25 uur.                                                                              \n\n\n **Jeugd van 11- tot en met 15 jaar kan ook starten op de 4.0 KM. Zij starten samen met de andere lopers om 10.04 uur\n\n\nJEUGD TOT EN 15 JAAR MAG GRATIS MEEDOEN! \n\n\nJEUGDCOMPETITIE EN PROGRESSIE KLIK HIEROP. \n\n\nSENIOREN\, LANGERE AFSTANDEN. \n\n\nSTART LANGERE AFSTANDEN:15.5 km* om 10.00 uur. 12 km* 10.01. 7.5 km 10.02 en 6.0 km 10.03.   4 km om 10.04 uur. * Op deze afstanden is een tijdslimiet van 90 minuten. \n\n\nVOOR INSCHRIJVEN KAN TOT EN MET 04 JULI 2024 23.59 UUR.  \n\n\nHIER DE LINK: SCHRIJF HIER IN VOOR 7 JULI 2024. \n\n\nDe prijs van voorinschrijven is € 3\,00 (jeugd tot 15 jaar gratis).  \n\n\nJe kunt nu betalen met ideaal\, zodat je geen bankrekeningnummer meer hoeft in te vullen. \n\n\nNa-inschrijven op 7 juli is € 4\,50.  \n\n\nEr wordt gelopen met tijdregistratie.  Zodat elke keer jouw tijd in de uitslagen komt. Deze kun je na de loop vinden op uitslagen.nl. https://uitslagen.nl \n\n\nStartlocatie: Dennenoord Voorhoeveweg 2 6006 SV Weert. \n\nDe Volksloop komt tot stand door: HEMA\, POSNO- SPORT\, BIKKEL-FIETSSERVICE WEERT\, BIER EN SPIJZENLOKAAL DENNENOORD\, WERTHABIEREN\, J&J SCHILDER & AFWERK\, STICHTING GEZONDHEID & ONTSPANNING\, AV WEERT
URL:https://avweert.nl/event/hema-volksloop-7-juli-2024/
LOCATION:Dennenoord\, Voorhoeveweg 2\, 6006 SV\, Weert\, Voorhoeveweg 2\, Weert\, 6006 SV\, Nederland
CATEGORIES:Atletiek,Hema IJzeren Man Loop
ATTACH;FMTTYPE=image/jpeg:https://avweert.nl/wp-content/uploads/2024/06/hemaloop02062404.jpeg
END:VEVENT
BEGIN:VEVENT
DTSTART;TZID=Europe/Amsterdam:20240707T090000
DTEND;TZID=Europe/Amsterdam:20240707T110000
DTSTAMP:20260424T201752
CREATED:20240610T122543Z
LAST-MODIFIED:20240610T122543Z
UID:9264-1720342800-1720350000@avweert.nl
SUMMARY:Zondagwandeling Weert
DESCRIPTION:
URL:https://avweert.nl/event/zondagwandeling-weert-66/
LOCATION:Golfbaan Crossmoor\, Laurabosweg 8\, 6006VR Weert
CATEGORIES:Wandelen
END:VEVENT
BEGIN:VEVENT
DTSTART;TZID=Europe/Amsterdam:20240630T090000
DTEND;TZID=Europe/Amsterdam:20240630T110000
DTSTAMP:20260424T201752
CREATED:20240517T134631Z
LAST-MODIFIED:20240517T134631Z
UID:9124-1719738000-1719745200@avweert.nl
SUMMARY:Zondagwandeling
DESCRIPTION:
URL:https://avweert.nl/event/zondagwandeling-47/
LOCATION:Kerkplein\, 6039 GA Stramproy\, Kerkplein\, 6093 GA\, Stramproy
CATEGORIES:Wandelen
END:VEVENT
BEGIN:VEVENT
DTSTART;TZID=Europe/Amsterdam:20240630T080000
DTEND;TZID=Europe/Amsterdam:20240630T170000
DTSTAMP:20260424T201752
CREATED:20240208T120932Z
LAST-MODIFIED:20240208T151956Z
UID:8667-1719734400-1719766800@avweert.nl
SUMMARY:Atletic champs
DESCRIPTION:Athletics Champs flyer 2024
URL:https://avweert.nl/event/atletic-champs/
LOCATION:Atletiekbaan AV Weert\, Parklaan 1C\, Weert\, Limburg\, 6006 NT\, Nederland
CATEGORIES:Atletiek
END:VEVENT
BEGIN:VEVENT
DTSTART;TZID=Europe/Amsterdam:20240623T090000
DTEND;TZID=Europe/Amsterdam:20240623T110000
DTSTAMP:20260424T201752
CREATED:20240521T141948Z
LAST-MODIFIED:20240609T105859Z
UID:9135-1719133200-1719140400@avweert.nl
SUMMARY:Zondagwandeling Tungelroy
DESCRIPTION:Wij wandelen mee met Scouting Tungelroy. \nKosten: inschrijven op locatie voor € 3\,50 per persoon. \nDe opbrengst van de wandeltocht gaat naar de zomerkampen van de Explorers van Scouting Tungelroy. \n 
URL:https://avweert.nl/event/zondagwandeling-weert-65/
LOCATION:Scouting Tungelroy\,   Tuurkesweg 3\, 6006 SG Weert
CATEGORIES:Wandelen
END:VEVENT
BEGIN:VEVENT
DTSTART;TZID=Europe/Amsterdam:20240620T180000
DTEND;TZID=Europe/Amsterdam:20240620T220000
DTSTAMP:20260424T201752
CREATED:20240208T120403Z
LAST-MODIFIED:20240312T154055Z
UID:8662-1718906400-1718920800@avweert.nl
SUMMARY:LIMBRA avond wedstrijd
DESCRIPTION:Open Limbra Baancircuit flyer 2024_ Defi
URL:https://avweert.nl/event/limbra-avond-wedstrijd/
LOCATION:Atletiekbaan AV Weert\, Parklaan 1C\, Weert\, Limburg\, 6006 NT\, Nederland
CATEGORIES:Atletiek
END:VEVENT
BEGIN:VEVENT
DTSTART;TZID=Europe/Amsterdam:20240616T090000
DTEND;TZID=Europe/Amsterdam:20240616T110000
DTSTAMP:20260424T201752
CREATED:20240517T134433Z
LAST-MODIFIED:20240517T134433Z
UID:9121-1718528400-1718535600@avweert.nl
SUMMARY:Zondagwandeling Weert
DESCRIPTION:
URL:https://avweert.nl/event/zondagwandeling-weert-64/
LOCATION:Café de Hook\, Biest 112\, 6001 AT Weert
CATEGORIES:Wandelen
END:VEVENT
BEGIN:VEVENT
DTSTART;TZID=Europe/Amsterdam:20240615T081500
DTEND;TZID=Europe/Amsterdam:20240615T170000
DTSTAMP:20260424T201752
CREATED:20240524T122016Z
LAST-MODIFIED:20240604T171819Z
UID:9161-1718439300-1718470800@avweert.nl
SUMMARY:20 km wandeling Wanssum
DESCRIPTION:Ook in juni organiseren we weer een 20 km wandeling in een prachtige omgeving. Heb je zin om mee te gaan dan meld je aan! \nGidsen: Wim en Annie Kessels \nVertrektijd: Weert/Nederweert 8.15 uur. \nStartlocatie: Parkeerplaat Sportpark de Meulenbeek\, Venrayseweg\, 5861CX Wanssum. \nNa aankomst In Wanssum drinken we eerst een kop koffie of thee bij De Echte Bakker. Daarna wandelen we richting Blitterswijck. Een mooie omgeving door de uiterwaarden van de Maas. \nNa bijna 10 km maken we een stop bij Café Zwart in Blitterswijck\, waar we ook soep kunnen nuttigen. Van tevoren bestellen hoeft niet en welke soep op het menu staat is een verrassing. De wandeltocht gaat daarna door een deel van de in 2012 aangelegde klimaatbuffer ‘t Sohr\, een oude Maasmeander die nu onderdeel is van Maaspark Ooijen-Wanssum. Bij hoge waterstanden van de Maas gaat de geul stromen en voert Maaswater af zodat de kans op overstromingen vermindert. Na ongeveer 6.5 km arriveren we in Meerlo\, waar we even pauzeren voordat we langs de Groote Molenbeek terug lopen naar Wanssum. \nOpgeven\, tot uiterlijk 13 juni\, bij Wim en Annie Kessels: w.kessels1@chello.nl \nDaarnaast doorgeven wie rechtstreeks gaat\, of wie in de gelegenheid is om mensen mee te nemen die geen vervoer hebben. Als je geen vervoer hebt geef dit dan door. \nVoor vervoer is de vergoeding aan de chauffeur €5\,-
URL:https://avweert.nl/event/20-km-wandeling-wanssum/
CATEGORIES:Wandelen
END:VEVENT
BEGIN:VEVENT
DTSTART;TZID=Europe/Amsterdam:20240609T090000
DTEND;TZID=Europe/Amsterdam:20240609T110000
DTSTAMP:20260424T201752
CREATED:20240517T134133Z
LAST-MODIFIED:20240517T134133Z
UID:9119-1717923600-1717930800@avweert.nl
SUMMARY:Zondagwandeling Ospel
DESCRIPTION:
URL:https://avweert.nl/event/zondagwandeling-ospel-7/
LOCATION:De Pelen\, Moostdijk 15\, 6035 RB\, Ospel
CATEGORIES:Wandelen
END:VEVENT
BEGIN:VEVENT
DTSTART;VALUE=DATE:20240609
DTEND;VALUE=DATE:20240610
DTSTAMP:20260424T201752
CREATED:20240208T120234Z
LAST-MODIFIED:20240208T120506Z
UID:8659-1717891200-1717977599@avweert.nl
SUMMARY:Jun AB competitie
DESCRIPTION:
URL:https://avweert.nl/event/jun-ab-competitie/
LOCATION:Atletiekbaan AV Weert\, Parklaan 1C\, Weert\, Limburg\, 6006 NT\, Nederland
CATEGORIES:Atletiek
END:VEVENT
BEGIN:VEVENT
DTSTART;TZID=Europe/Amsterdam:20240602T093000
DTEND;TZID=Europe/Amsterdam:20240602T113000
DTSTAMP:20260424T201752
CREATED:20240506T075545Z
LAST-MODIFIED:20240506T075545Z
UID:9093-1717320600-1717327800@avweert.nl
SUMMARY:HEMA VOLKSLOOP 2 JUNI 2024.
DESCRIPTION:Lopen langs het water iedere eerste zondag van de maand.  Dit is al de 519e Volksloop vanaf 1980.\n\n\nJeugd tot en met 15 jaar\, kan 1.3*\, 2.5* (de jeugd tot en met 12 jaar) of 4.0** kilometer. *START OM 9.30 UUR. Jeugd voor 1.3 en 2.5 km kunnen nummer ophalen tussen 9.00 en 9.25 uur.                                                                              \n\n\n **Jeugd van 11- tot en met 15 jaar kan ook starten op de 4.0 KM. Zij starten samen met de andere lopers om 10.04 uur\n\n\nJEUGD TOT EN 15 JAAR MAG GRATIS MEEDOEN! \n\n\nJEUGDCOMPETITIE EN PROGRESSIE KLIK HIEROP \n\nSENIOREN\, LANGERE AFSTANDEN. \n\n\nSTART LANGERE AFSTANDEN:15.5 km* om 10.00 uur. 12 km* 10.01. 7.5 km 10.02 en 6.0 km 10.03.   4 km om 10.04 uur. * Op deze afstanden is een tijdslimiet van 90 minuten. \n\n\nVOOR INSCHRIJVEN KAN TOT EN MET 30 MEI 2024 23.59 UUR.  \n\n\nHIER DE LINK: KLIK HIER! INSCHRIJVEN VOOR DE LOOP VAN 2 JUNI \n\n\nDe prijs van voorinschrijven is € 3\,00 (jeugd tot 15 jaar gratis). Je kunt nu betalen met ideaal\, zodat je geen bankrekeningnummer meer hoeft in te vullen. \n\n\nNa-inschrijven op 2 juni is € 4\,50.  \n\n\nEr wordt gelopen met tijdregistratie.  Zodat elke keer jouw tijd in de uitslagen komt. Deze kun je na de loop vinden op uitslagen.nl. https://uitslagen.nl \n\n\nStartlocatie: Dennenoord Voorhoeveweg 2 6006 SV Weert. \n\nLEADING TEXT De Volksloop komt tot stand door: HEMA\, POSNO- SPORT\, BIKKEL-FIETSSERVICE WEERT\, BIER EN SPIJZENLOKAAL DENNENOORD\, WERTHABIEREN\, J&J SCHILDER & AFWERK\, STICHTING GEZONDHEID & ONTSPANNING\, AV WEERT\n 
URL:https://avweert.nl/event/hema-volksloop-2-juni-2024/
LOCATION:Dennenoord\, Voorhoeveweg 2\, 6006 SV\, Weert\, Voorhoeveweg 2\, Weert\, 6006 SV\, Nederland
CATEGORIES:Atletiek,Hema IJzeren Man Loop
ATTACH;FMTTYPE=image/jpeg:https://avweert.nl/wp-content/uploads/2024/05/hemaloopJ01.jpeg
END:VEVENT
BEGIN:VEVENT
DTSTART;TZID=Europe/Amsterdam:20240602T090000
DTEND;TZID=Europe/Amsterdam:20240602T110000
DTSTAMP:20260424T201752
CREATED:20240517T133957Z
LAST-MODIFIED:20240517T133957Z
UID:9117-1717318800-1717326000@avweert.nl
SUMMARY:Zondagwandeling Heythuysen
DESCRIPTION:
URL:https://avweert.nl/event/zondagwandeling-heythuysen-5/
LOCATION:Zorgboerderij Rondmeer\, Heide 3\, 6093 PA Heythuysen
CATEGORIES:Wandelen
END:VEVENT
END:VCALENDAR