BEGIN:VCALENDAR
VERSION:2.0
PRODID:-//AV Weert - ECPv6.15.20//NONSGML v1.0//EN
CALSCALE:GREGORIAN
METHOD:PUBLISH
X-WR-CALNAME:AV Weert
X-ORIGINAL-URL:https://avweert.nl
X-WR-CALDESC:Evenementen voor AV Weert
REFRESH-INTERVAL;VALUE=DURATION:PT1H
X-Robots-Tag:noindex
X-PUBLISHED-TTL:PT1H
BEGIN:VTIMEZONE
TZID:Europe/Amsterdam
BEGIN:DAYLIGHT
TZOFFSETFROM:+0100
TZOFFSETTO:+0200
TZNAME:CEST
DTSTART:20220327T010000
END:DAYLIGHT
BEGIN:STANDARD
TZOFFSETFROM:+0200
TZOFFSETTO:+0100
TZNAME:CET
DTSTART:20221030T010000
END:STANDARD
BEGIN:DAYLIGHT
TZOFFSETFROM:+0100
TZOFFSETTO:+0200
TZNAME:CEST
DTSTART:20230326T010000
END:DAYLIGHT
BEGIN:STANDARD
TZOFFSETFROM:+0200
TZOFFSETTO:+0100
TZNAME:CET
DTSTART:20231029T010000
END:STANDARD
BEGIN:DAYLIGHT
TZOFFSETFROM:+0100
TZOFFSETTO:+0200
TZNAME:CEST
DTSTART:20240331T010000
END:DAYLIGHT
BEGIN:STANDARD
TZOFFSETFROM:+0200
TZOFFSETTO:+0100
TZNAME:CET
DTSTART:20241027T010000
END:STANDARD
BEGIN:DAYLIGHT
TZOFFSETFROM:+0100
TZOFFSETTO:+0200
TZNAME:CEST
DTSTART:20250330T010000
END:DAYLIGHT
BEGIN:STANDARD
TZOFFSETFROM:+0200
TZOFFSETTO:+0100
TZNAME:CET
DTSTART:20251026T010000
END:STANDARD
END:VTIMEZONE
BEGIN:VEVENT
DTSTART;TZID=Europe/Amsterdam:20240407T090000
DTEND;TZID=Europe/Amsterdam:20240407T110000
DTSTAMP:20260425T021930
CREATED:20240315T215632Z
LAST-MODIFIED:20240315T215632Z
UID:8903-1712480400-1712487600@avweert.nl
SUMMARY:Zondagwandeling Weert
DESCRIPTION:
URL:https://avweert.nl/event/zondagwandeling-weert-61/
LOCATION:Café ‘t Swaentje\, Stationsstraat 1\, 6001 CJ  Weert
CATEGORIES:Wandelen
END:VEVENT
BEGIN:VEVENT
DTSTART;TZID=Europe/Amsterdam:20240331T090000
DTEND;TZID=Europe/Amsterdam:20240331T110000
DTSTAMP:20260425T021930
CREATED:20240226T102658Z
LAST-MODIFIED:20240226T102658Z
UID:8770-1711875600-1711882800@avweert.nl
SUMMARY:Zondagwandeling Weert
DESCRIPTION:
URL:https://avweert.nl/event/zondagwandeling-weert-60/
LOCATION:Hoeve Lieshout\, Breijbaan 30 6005 NE Weert
CATEGORIES:Wandelen
END:VEVENT
BEGIN:VEVENT
DTSTART;TZID=Europe/Amsterdam:20240324T090000
DTEND;TZID=Europe/Amsterdam:20240324T110000
DTSTAMP:20260425T021930
CREATED:20240226T102549Z
LAST-MODIFIED:20240226T102549Z
UID:8768-1711270800-1711278000@avweert.nl
SUMMARY:Zondagwandeling Meijel
DESCRIPTION:
URL:https://avweert.nl/event/zondagwandeling-meijel-3/
LOCATION:Café de Stoep\, Roggelsedijk 19\,  5768 RA Meijel
CATEGORIES:Wandelen
END:VEVENT
BEGIN:VEVENT
DTSTART;TZID=Europe/Amsterdam:20240317T080000
DTEND;TZID=Europe/Amsterdam:20240317T170000
DTSTAMP:20260425T021930
CREATED:20240220T102226Z
LAST-MODIFIED:20240220T102226Z
UID:8751-1710662400-1710694800@avweert.nl
SUMMARY:Lentewandeling AV Weert
DESCRIPTION:Loop mee met de Lentewandeling van AVWeert op zondag 17 maart \nAtletiek- en wandelsportvereniging Weert organiseert op zondag 17 maart de jaarlijkse Lentewandeling. Je kunt kiezen uit afstanden van 7.5\, 10\, 15\, 20 of 30 km. De verrassende routes zijn duidelijk gepijld en lopen door het prachtige natuurgebied Grenspark Kempenbroek dat vorig jaar erkend is als Unesco Biosfeergebied. De tocht gaat over het het urnenveld Boshoverheide. Dit is met een omvang van in totaal 30 hectare het grootste urnenveld uit Noordwest-Europa. Er ontstond in de loop der tijd een uitgestrekt grafheuvellandschap waar naar schatting ruimt 3000 doden zijn begraven. Een gedeelte van de wandeling gaat ook door de Weerter- en Budelerbergen. Het gebied bestaat uit naaldbossen\, heidevelden en stuifzanden. \nDe start is vanaf 08.00 uur bij de Van Horne Hoeve\, Trancheeweg 22 in Weert. Het inschrijfgeld bedraagt € 3\,50 en voor leden van AVWeert\, leden van de KWBN en de Vlaamse Wandelbond € 2\,50. Betalen met pin is mogelijk. \nAfhankelijk van de gekozen afstand kan gestart worden tot 13.00 uur voor de 7.5 en 10 km\, tot 12.00 uur voor de 15 km\, tot 11.00 uur voor de 20 km en tot 10.00 uur voor de 30 km. Het inschrijfbureau sluit om 14.00 uur. Parkeren kan aan de Trancheeweg 16-18 of bij de Van Horne Hoeve. \nOnderweg is het mogelijk om te rusten op een gezellige pauzeplaats waar je kan genieten van drankjes\, broodjes\, soep en Limburgse vlaai. Tijdens de wandeling worden er foto’s gemaakt door Otto Plantema die je daarna kan terugvinden op de site https://pbase.com/otto1/lentewandeling 2024.
URL:https://avweert.nl/event/lentewandeling-av-weert-2/
CATEGORIES:Wandelen
END:VEVENT
BEGIN:VEVENT
DTSTART;TZID=Europe/Amsterdam:20240310T090000
DTEND;TZID=Europe/Amsterdam:20240310T110000
DTSTAMP:20260425T021930
CREATED:20240213T082005Z
LAST-MODIFIED:20240226T102842Z
UID:8692-1710061200-1710068400@avweert.nl
SUMMARY:Zondagwandeling Roggel
DESCRIPTION:
URL:https://avweert.nl/event/zondagwandeling-roggel-4/
LOCATION:Café Dennenoord\, Op de Bos 6\, 6088 NA\, Roggel
CATEGORIES:Wandelen
END:VEVENT
BEGIN:VEVENT
DTSTART;TZID=Europe/Amsterdam:20240303T093000
DTEND;TZID=Europe/Amsterdam:20240303T113000
DTSTAMP:20260425T021930
CREATED:20240205T101631Z
LAST-MODIFIED:20240205T151501Z
UID:8642-1709458200-1709465400@avweert.nl
SUMMARY:HEMA VOLKSLOOP 3 MAART 2024.
DESCRIPTION:Lopen langs het water iedere eerste zondag van de maand.\n\n\nJeugd tot en met 15 jaar\, kan 1.3*\, 2.5* (de jeugd tot en met 12 jaar) of 4.0** kilometer. *START OM 9.30 UUR. Jeugd voor 1.3 en 2.5 km kunnen nummer ophalen tussen 9.00 en 9.25 uur. **Jeugd van 11- tot en met 15 jaar kan ook starten op de 4.0 km.  ** Zij starten samen met de andere lopers om 10.04 uur. JEUGD TOT EN 15 JAAR MAG GRATIS MEEDOEN! \nJEUGDCOMPETITIE: MAART\, APRIL\, MEI\, JUNI\, SEPTEMBER\, OKTOBER KUN JE PUNTEN VERZAMELEN VOOR DE PRIJZEN 1. 2. EN 3 VAN HET KLASSEMENT. WORDEN IN NOVEMBER 2024 UITGREIKT. \n  \nDe parcoursen voor de Senioren hebben een lengte van 4 km. (A- GROENE PIJL) of van 6 km. (B- RODE PIJL). In totaal 5 afstanden van één of meerdere ronden. \nSTART LANGERE AFSTANDEN:15.5 km* om 10.00 uur. 12 km* 10.01. 7.5 km 10.02 en 6.0 km 10.00.  4 km om 10.04 uur. * Op deze afstanden is een tijdslimiet van 90 minuten. \n   \nVOOR INSCHRIJVEN KAN TOT EN MET 29 FEBRUARI 2024 23.59 UUR.  \nHIER DE LINK: https://inschrijven.nl/form/2024030316344-nl \nDe prijs van voorinschrijven is € 3\,00 (jeugd tot 15 jaar gratis). Je kunt nu betalen met ideaal\, zodat je geen bankrekeningnummer meer hoeft in te vullen. \nEen jaarkaart wordt € 30\,00 in plaats van € 36\,00. Dan sta je 12 op een volgende maanden ingeschreven. Deze jaarkaarten kun je iedere maand aanvragen bij: hemaijzerenmanloop@gmail.com. \nNa-inschrijven op 4 februari is € 4\,50.  \nEr wordt gelopen met tijdregistratie.  Zodat elke keer jouw tijd in de uitslagen komt. Deze kun je na de loop vinden op uitslagen.nl. https://uitslagen.nl \nStartlocatie: Dennenoord Voorhoeveweg 2 6006 SV Weert. \nDe Volksloop komt tot stand door: HEMA\, POSNO- SPORT\, BIKKEL-FIETSSERVICE WEERT\, BIER EN SPIJZENLOKAAL DENNENOORD\, WERTHABIEREN\, J&J SCHILDER & AFWERK\, STICHTING GEZONDHEID & ONTSPANNING\, AV WEERT. \n  \n 
URL:https://avweert.nl/event/hema-volksloop-3-maart-2023/
LOCATION:Dennenoord\, Voorhoeveweg 2\, 6006 SV\, Weert\, Voorhoeveweg 2\, Weert\, 6006 SV\, Nederland
CATEGORIES:Atletiek,Hema IJzeren Man Loop
ATTACH;FMTTYPE=image/jpeg:https://avweert.nl/wp-content/uploads/2024/02/HL0402202407.jpeg
END:VEVENT
BEGIN:VEVENT
DTSTART;TZID=Europe/Amsterdam:20240303T090000
DTEND;TZID=Europe/Amsterdam:20240303T110000
DTSTAMP:20260425T021930
CREATED:20240125T120251Z
LAST-MODIFIED:20240226T103046Z
UID:8574-1709456400-1709463600@avweert.nl
SUMMARY:Zondagwandeling Weert
DESCRIPTION:
URL:https://avweert.nl/event/zondagwandeling-46/
LOCATION:Café ‘t Swaentje\, Stationsstraat 1\, 6001 CJ  Weert
CATEGORIES:Wandelen
END:VEVENT
BEGIN:VEVENT
DTSTART;TZID=Europe/Amsterdam:20240225T090000
DTEND;TZID=Europe/Amsterdam:20240225T110000
DTSTAMP:20260425T021930
CREATED:20240115T095531Z
LAST-MODIFIED:20240115T095531Z
UID:8532-1708851600-1708858800@avweert.nl
SUMMARY:Zondagwandeling Weert
DESCRIPTION:
URL:https://avweert.nl/event/zondagwandeling-weert-59/
LOCATION:Partycentrum De Sluis\, Industriekade 58\, 6006 SJ Weert
CATEGORIES:Wandelen
END:VEVENT
BEGIN:VEVENT
DTSTART;TZID=Europe/Amsterdam:20240218T090000
DTEND;TZID=Europe/Amsterdam:20240218T110000
DTSTAMP:20260425T021930
CREATED:20240123T120844Z
LAST-MODIFIED:20240123T120844Z
UID:8565-1708246800-1708254000@avweert.nl
SUMMARY:Zondagwandeling Nederweert
DESCRIPTION:
URL:https://avweert.nl/event/zondagwandeling-nederweert-15/
LOCATION:Guulke eten & drinken\, Geenestraat 2A\, 6031 VM\, Nederweert\, Geenestraat 2A\, 6031 VM\, Nederweert
CATEGORIES:Wandelen
END:VEVENT
BEGIN:VEVENT
DTSTART;TZID=Europe/Amsterdam:20240217T083000
DTEND;TZID=Europe/Amsterdam:20240217T160000
DTSTAMP:20260425T021930
CREATED:20240120T133412Z
LAST-MODIFIED:20240123T213658Z
UID:8556-1708158600-1708185600@avweert.nl
SUMMARY:20 km wandeling Buggenum
DESCRIPTION:Zaterdag 17 Februari: omgeving Buggenum. \nGidsen: Wim en Annie Kessels. \nVertrektijd: Weert/Nederweert 8.30 uur. Vertrektijd wandeling rond 9.30 uur. \nStartlocatie: De Parel\,  Parallelweg 1\, 6082 NA Buggenum \nNa aankomst kunnen we onze wandeldag starten met een kop koffie of thee bij De Parel. \nDe route bestaat uit twee lussen van ongeveer 10 km. We wandelen langs de Maas en Maasplassen en struinen we langs veldwegen in het buitengebied tussen Buggenum en Neer. Verder volgen we ook mooie paden langs de Neerbeek richting Nunhem. \nBij De Parel is de rustpauze waar uit een ruim aanbod aan soep te kiezen valt. \nAls je zin hebt in een kop soep geef dit dan bij je aanmelding door. De keuze bestaat uit tomatensoep\, groentesoep\, pompoensoep en erwtensoep. \nOpgeven\, tot uiterlijk 15 februari\, bij Wim en Annie Kessels: w.kessels1@chello.nl Daarnaast doorgeven wie rechtstreeks gaat\, of wie in de gelegenheid is om mensen mee te nemen die geen vervoer hebben. Als je geen vervoer hebt geef dit dan door. \nVoor vervoer is de vergoeding aan de chauffeur €3\,-
URL:https://avweert.nl/event/20-km-wandeling-buggenum/
LOCATION:De Parel\,  Parallelweg 1\, 6082 NA Buggenum
CATEGORIES:Wandelen
END:VEVENT
BEGIN:VEVENT
DTSTART;TZID=Europe/Amsterdam:20240211T090000
DTEND;TZID=Europe/Amsterdam:20240211T110000
DTSTAMP:20260425T021930
CREATED:20231220T145352Z
LAST-MODIFIED:20231220T145352Z
UID:8427-1707642000-1707649200@avweert.nl
SUMMARY:Zondagwandeling
DESCRIPTION:
URL:https://avweert.nl/event/zondagwandeling-43/
LOCATION:La Place\, Rijksweg A2\, 6004 RW (Roevenpeel) Weert
CATEGORIES:Wandelen
END:VEVENT
BEGIN:VEVENT
DTSTART;TZID=Europe/Amsterdam:20240204T093000
DTEND;TZID=Europe/Amsterdam:20240204T113000
DTSTAMP:20260425T021930
CREATED:20240108T134653Z
LAST-MODIFIED:20240116T093026Z
UID:8505-1707039000-1707046200@avweert.nl
SUMMARY:HEMA IJZEREN MAN VOLKSLOOP  4 FEBRUARI 2024.
DESCRIPTION:HEERLIJK LOPEN AAN DE IJZEREN MAN OP 4 FEBRUARI.\nLopen langs het water iedere eerste zondag van de maand.\n  \n  \n  \n \nJeugd tot en met 15 jaar\, kan 1.3*\, 2.5* (de jeugd tot en met 12 jaar) of 4.0** kilometer. *START OM 9.30 UUR. Jeugd voor 1.3 en 2.5 km kunnen nummer ophalen tussen 9.00 en 9.25 uur. **Jeugd van 11- tot en met 15 jaar kan ook starten op de 4.0 km. ** Zij starten samen met de andere lopers om 10.04 uur. JEUGD TOT EN 15 JAAR MAG GRATIS MEEDOEN! \n   \nDe parcoursen voor de Senioren hebben een lengte van 4 km. (A- GROENE PIJL) of van 6 km. (B- RODE PIJL). In totaal 5 afstanden van één of meerdere ronden. START LANGERE AFSTANDEN:15.5 km* om 10.00 uur. 12 km* 10.01. 7.5 km 10.02 en 6.0 km 10.03.   4 km om 10.04 uur. * Op deze afstanden is een tijdslimiet van 90 minuten. \nVOOR INSCHRIJVEN KAN TOT EN MET 1 FEBRUARI 2024 23.59 UUR.  \nHIER DE LINK: https://inschrijven.nl/form/2023040216344-nl \nKOSTEN: \nDe prijs van voorinschrijven is € 3\,00 (jeugd tot 15 jaar gratis). Je kunt nu betalen met ideaal\, zodat je geen bankrekeningnummer meer hoeft in te vullen. \nEen jaarkaart wordt € 30\,00 in plaats van € 36\,00. Dan sta je 12 op een volgende maanden ingeschreven. Deze jaarkaarten kun je iedere maand aanvragen bij: hemaijzerenmanloop@gmail.com.\nNa-inschrijven op 4 februari is € 4\,50. \nEr wordt gelopen met tijdregistratie.  Zodat elke keer jouw tijd in de uitslagen komt. Deze kun je na de loop vinden op uitslagen.nl. https://uitslagen.nl
URL:https://avweert.nl/event/hema-ijzeren-man-volksloop-4-februari-2024/
CATEGORIES:Atletiek,Hema IJzeren Man Loop
ATTACH;FMTTYPE=image/jpeg:https://avweert.nl/wp-content/uploads/2023/12/HEMALOOPLAAGVOLWASSEN01.jpeg
END:VEVENT
BEGIN:VEVENT
DTSTART;TZID=Europe/Amsterdam:20240204T090000
DTEND;TZID=Europe/Amsterdam:20240204T110000
DTSTAMP:20260425T021930
CREATED:20240115T095359Z
LAST-MODIFIED:20240115T095359Z
UID:8530-1707037200-1707044400@avweert.nl
SUMMARY:Zondagwandeling Weert
DESCRIPTION:
URL:https://avweert.nl/event/zondagwandeling-weert-58/
LOCATION:Partycentrum De Sluis\, Industriekade 58\, 6006 SJ Weert
CATEGORIES:Wandelen
END:VEVENT
BEGIN:VEVENT
DTSTART;TZID=Europe/Amsterdam:20240128T090000
DTEND;TZID=Europe/Amsterdam:20240128T110000
DTSTAMP:20260425T021930
CREATED:20231220T145733Z
LAST-MODIFIED:20231220T145733Z
UID:8431-1706432400-1706439600@avweert.nl
SUMMARY:Zondagwandeling
DESCRIPTION:
URL:https://avweert.nl/event/zondagwandeling-45/
LOCATION:Peerkesbosch\, Heugterweg 2\, 6031 SJ Nederweert
CATEGORIES:Wandelen
END:VEVENT
BEGIN:VEVENT
DTSTART;TZID=Europe/Amsterdam:20240121T090000
DTEND;TZID=Europe/Amsterdam:20240121T110000
DTSTAMP:20260425T021930
CREATED:20231220T145524Z
LAST-MODIFIED:20231220T145524Z
UID:8429-1705827600-1705834800@avweert.nl
SUMMARY:Zondagwandeling
DESCRIPTION:
URL:https://avweert.nl/event/zondagwandeling-44/
LOCATION:Hof van Schoor\, Schoor 50\, 6031 SC Nederweert
CATEGORIES:Wandelen
END:VEVENT
BEGIN:VEVENT
DTSTART;TZID=Europe/Amsterdam:20240114T090000
DTEND;TZID=Europe/Amsterdam:20240114T110000
DTSTAMP:20260425T021930
CREATED:20231220T145139Z
LAST-MODIFIED:20231220T145139Z
UID:8425-1705222800-1705230000@avweert.nl
SUMMARY:Zondagwandeling
DESCRIPTION:
URL:https://avweert.nl/event/zondagwandeling-42/
LOCATION:Café de Tramhalt\, Maasstraat 46\, 6001 ED Weert\, Weert
CATEGORIES:Wandelen
END:VEVENT
BEGIN:VEVENT
DTSTART;TZID=Europe/Amsterdam:20240107T093000
DTEND;TZID=Europe/Amsterdam:20240107T113000
DTSTAMP:20260425T021930
CREATED:20231204T102146Z
LAST-MODIFIED:20231204T103033Z
UID:8334-1704619800-1704627000@avweert.nl
SUMMARY:Eerste Hema Volksloop op 7 januari 2024.
DESCRIPTION:De volgende HEMA IJZEREN MAN VOLKSLOOP is op 7 januari 2024 \nJeugd\, 1.3 en 2.5 kilometer START OM 9.30 UUR. Andere afstanden starten vanaf 10.00 uur. Jeugd voor 1.3 en 2.5 km kunnen nummer ophalen tussen 9.00 en 9.25 uur.  Voor de jeugd tot en met 12 jaar is er een parcours van 1.3 km en 2.5 km( ook voor 12-15 jaar). Jeugd tot en met 15 jaar kan ook  starten op de  4.0 km.  Zij starten samen met de andere lopers om 10.04 uur. \n\nDe parcoursen voor de Senioren hebben een lengte van 4 km. (A- GROENE PIJL) of van 6 km. (B- RODE PIJL). In totaal 5 afstanden van één of meerdere ronden. Men kan kiezen uit diverse ronden met een afstand van: 4 km.-1x A\, 6 km.-1x B\, –7.5 km. -2 x A\, -12 km- 2 x B\, 15.5 km* -1x A- + 2x B . * Op deze afstand is een tijdslimiet van 90 minuten. \n\n\nSTART LANGERE AFSTANDEN:15.5 km om 10.00 uur. 12 km 10.01. 7.5 km 10.02 en 6.0 km 10.03.   4 km om 10.04 uur. \n\nVOOR INSCHRIJVEN KAN TOT EN MET 4 JANUARI 2024  \n\n\nHIER DE LINK: https://inschrijven.nl/form/2023040216344-nl \nKOSTEN: \n\n\nDe prijs van voorinschrijven is vanaf 2024  € 3\,00 (jeugd tot 15 jaar gratis).Je kunt nu betalen met ideaal\, zodat je geen bankrekeningnummer meer hoeft in te vullen.   Een jaarkaart wordt € 30\,00 in plaats van € 36\,00. Dan sta je voor 12 op een volgende maanden ingeschreven. Deze jaarkaarten kun je aanvragen bij: hemaijzerenmanloop@gmail.com. \n\n\nNa-inschrijven op 7 januari is (het nieuwe tarief in 2024)  € 4\,50. \n\n\nEr wordt gelopen met tijdregistratie.  Zodat elke keer jouw tijd in de uitslagen komt. Deze kun je na de loop vinden op uitslagen.nl. https://uitslagen.nl \n\n 
URL:https://avweert.nl/event/eerste-hema-volksloop-op-7-januari-2024/
CATEGORIES:Atletiek,Hema IJzeren Man Loop
ATTACH;FMTTYPE=image/jpeg:https://avweert.nl/wp-content/uploads/2023/07/hemaloop02072303.jpeg
END:VEVENT
BEGIN:VEVENT
DTSTART;TZID=Europe/Amsterdam:20240107T090000
DTEND;TZID=Europe/Amsterdam:20240107T110000
DTSTAMP:20260425T021930
CREATED:20231123T131311Z
LAST-MODIFIED:20231123T131311Z
UID:8292-1704618000-1704625200@avweert.nl
SUMMARY:Zondagwandeling Kinrooi
DESCRIPTION:
URL:https://avweert.nl/event/zondagwandeling-kinrooi-2/
LOCATION:Gemeentelijke basisschool\, Nelisveld 5 3640\, Kinrooi Dorp\, België
CATEGORIES:Wandelen
END:VEVENT
BEGIN:VEVENT
DTSTART;TZID=Europe/Amsterdam:20231231T090000
DTEND;TZID=Europe/Amsterdam:20231231T110000
DTSTAMP:20260425T021930
CREATED:20231105T081246Z
LAST-MODIFIED:20231105T081246Z
UID:8197-1704013200-1704020400@avweert.nl
SUMMARY:Zondagwandeling Leende
DESCRIPTION:
URL:https://avweert.nl/event/zondagwandeling-leende-5/
LOCATION:Fletcher Hotel\, Valkenswaardseweg 44\, 5595 XB\, Leende
CATEGORIES:Wandelen
END:VEVENT
BEGIN:VEVENT
DTSTART;TZID=Europe/Amsterdam:20231224T090000
DTEND;TZID=Europe/Amsterdam:20231224T110000
DTSTAMP:20260425T021930
CREATED:20231105T081009Z
LAST-MODIFIED:20231105T081009Z
UID:8195-1703408400-1703415600@avweert.nl
SUMMARY:Zondagwandeling Ospel
DESCRIPTION:
URL:https://avweert.nl/event/zondagwandeling-ospel-6/
LOCATION:De Pelen\, Moostdijk 15\, 6035 RB\, Ospel
CATEGORIES:Wandelen
END:VEVENT
BEGIN:VEVENT
DTSTART;TZID=Europe/Amsterdam:20231217T090000
DTEND;TZID=Europe/Amsterdam:20231217T110000
DTSTAMP:20260425T021930
CREATED:20231123T130441Z
LAST-MODIFIED:20231123T130441Z
UID:8289-1702803600-1702810800@avweert.nl
SUMMARY:Zondagwandeling Nederweert
DESCRIPTION:
URL:https://avweert.nl/event/zondagwandeling-nederweert-14/
LOCATION:Guulke eten & drinken\, Geenestraat 2A\, 6031 VM\, Nederweert\, Geenestraat 2A\, 6031 VM\, Nederweert
CATEGORIES:Wandelen
END:VEVENT
BEGIN:VEVENT
DTSTART;TZID=Europe/Amsterdam:20231210T090000
DTEND;TZID=Europe/Amsterdam:20231210T110000
DTSTAMP:20260425T021930
CREATED:20231105T080431Z
LAST-MODIFIED:20231105T080431Z
UID:8193-1702198800-1702206000@avweert.nl
SUMMARY:Zondagwandeling Weert
DESCRIPTION:
URL:https://avweert.nl/event/zondagwandeling-weert-56/
LOCATION:Partycentrum De Sluis\, Industriekade 58\, 6006 SJ Weert
CATEGORIES:Wandelen
END:VEVENT
BEGIN:VEVENT
DTSTART;TZID=Europe/Amsterdam:20231209T083000
DTEND;TZID=Europe/Amsterdam:20231209T163000
DTSTAMP:20260425T021930
CREATED:20231105T082137Z
LAST-MODIFIED:20231105T082137Z
UID:8199-1702110600-1702139400@avweert.nl
SUMMARY:Kribkeswandeling Schin op Geul
DESCRIPTION:Zaterdag 9 december: Kribkeswandeling Schin op Geul. \nGidsen: Wim en Annie Kessels. \nVertrektijd: Weert/Nederweert 8.30 uur. \nStartlocatie: bij ’t Geboew\, Warande 43\, 6305 AX\, Schin op Geul. \nNa aankomst maken we een korte wandeling naar Hotel Salden\, waar we een kop koffie of thee kunnen drinken. Daarna start de 17 km wandeling langs kribjes\, door het Geulpark en langs Kasteel Schaloen.  Onze tocht gaat verder door Sibbe waar ook vele kribjes te bezichtigen zijn. In het plaatsje Scheulder pauzeren we bij Brazzerie Pir Joy. Er wordt voor erwten- en uiensoep gezorgd. \nWe vervolgen onze weg door het prachtige Gerendal terug naar Schin op Geul. In de dorpskern zien we weer verschillende kerstkribkes. In totaal kunnen we er meer dan twintig bewonderen. \nAanmelden uiterlijk donderdag 7 december bij  w.kesssels1@chello.nl \nAls je soep wil geef je keuze dan door. Daarnaast doorgeven wie rechtstreeks gaat\, of wie in de gelegenheid is om mensen mee te nemen die geen vervoer hebben. Als je geen vervoer hebt geef dit dan door. \nVergoeding aan de chauffeur €6\,-
URL:https://avweert.nl/event/kribkeswandeling-schin-op-geul/
LOCATION:Gemeenschapshuis ‘t Geboew\, Warande 43\, 6305 AX\, Schin op Geul
CATEGORIES:Wandelen
END:VEVENT
BEGIN:VEVENT
DTSTART;TZID=Europe/Amsterdam:20231203T093000
DTEND;TZID=Europe/Amsterdam:20231203T113000
DTSTAMP:20260425T021930
CREATED:20231106T102034Z
LAST-MODIFIED:20231106T133034Z
UID:8249-1701595800-1701603000@avweert.nl
SUMMARY:Hema IJzeren Man Volksloop 3 december 2023.
DESCRIPTION:Hema IJzeren Man Volksloop. \nOp zondag 3 december 2023 is onze volgende Hema IJzeren Man Volksloop. \nDeze loop “Langs het Water van de IJzeren Man” in Weert staat open voor de jeugd en volwassen. Men kan lopen in 7 verschillende afstanden. \nDe jeugd\, 1.3 en 2.5 kilometer START OM 9.30 UUR \n    \nJeugd voor 1.3 en 2.5 km kunnen nummer ophalen tussen 9.00 en 9.25 uur. \nVoor de jeugd tot en met 12 jaar is er een parcours van 1.3 km en 2.5 km (ook voor 12-15 jaar). Meisjes/ jongens 10-15 jaar kunnen ook de 4.0 km lopen. Zij starten met de senioren om 10.04 uur. Jeugd tot en met 15 jaar mogen gratis deelnemen. \nSenioren: Andere afstanden starten vanaf 10.00 uur. De parcoursen voor de langere afstanden hebben een lengte van 4 km. (A- GROENE PIJL) of van 6 km. (B- RODE PIJL). In totaal 5 afstanden van één of meerdere ronden. \nDeelnemers kunnen kiezen uit diverse ronden\, oftewel uit een afstand van: 4 km.-1x A\, 6 km.-1x B\, –7.5 km. -2 x A\, -12 km- 2 x B\, 15.5 km* -1x A- + 2x B.  \n* Op deze afstand is een tijdslimiet van 90 minuten. \n                                 \nSTART LANGERE AFSTANDEN: \n\n15.5 km 10.00 uur.\n12.0 km 10.01 uur.\n  7.5 km 10.02 uur.\n  6.0 km 10.03 uur.\n  4.0 km 10.04 uur.\n\nVOOR INSCHRIJVEN KAN TOT EN MET 30 NOVEMBER. \nVoor-inschrijven in 2023 € 2\,50 \nNa-inschrijven op 3 DECEMBER € 4\,00. Jeugd tot en met 15 jaar Gratis.     \nKLIK DE LINK: LOOP 3 DECEMBER. \nSTARTLOCATIE: BIER EN SPIJZENLOKAAL DENNENOORD VOORHOEVE WEG 2 6006SV WEERT. \nHEMA\, POSNO- SPORT\, BIKKEL-FIETSSERVICE WEERT\, BIER EN SPIJZENLOKAAL DENNENOORD\, WERTHABIEREN\, SPORT-AKKOORD WEERT\, STICHTING GEZONDHEID & ONTSPANNING\, AV WEERT.
URL:https://avweert.nl/event/hema-ijzeren-man-volksloop-3-december-2023/
CATEGORIES:Atletiek,Hema IJzeren Man Loop
ATTACH;FMTTYPE=image/jpeg:https://avweert.nl/wp-content/uploads/2023/11/loop051123natuur07.jpeg
END:VEVENT
BEGIN:VEVENT
DTSTART;TZID=Europe/Amsterdam:20231203T090000
DTEND;TZID=Europe/Amsterdam:20231203T110000
DTSTAMP:20260425T021930
CREATED:20231109T154602Z
LAST-MODIFIED:20231109T154602Z
UID:8268-1701594000-1701601200@avweert.nl
SUMMARY:Zondagwandeling Weert
DESCRIPTION:
URL:https://avweert.nl/event/zondagwandeling-weert-57/
LOCATION:Café ‘t Swaentje\, Stationsstraat 1\, 6001 CJ  Weert
CATEGORIES:Wandelen
END:VEVENT
BEGIN:VEVENT
DTSTART;TZID=Europe/Amsterdam:20231126T090000
DTEND;TZID=Europe/Amsterdam:20231126T110000
DTSTAMP:20260425T021930
CREATED:20231021T100314Z
LAST-MODIFIED:20231021T100314Z
UID:8132-1700989200-1700996400@avweert.nl
SUMMARY:Zondagwandeling Altweerterheide
DESCRIPTION:
URL:https://avweert.nl/event/zondagwandeling-altweerterheide-3/
LOCATION:Schuttershoeve\, Grotesteeg 10\, 6006 TE Weert
CATEGORIES:Wandelen
END:VEVENT
BEGIN:VEVENT
DTSTART;TZID=Europe/Amsterdam:20231119T090000
DTEND;TZID=Europe/Amsterdam:20231119T110000
DTSTAMP:20260425T021930
CREATED:20231023T133217Z
LAST-MODIFIED:20231023T133217Z
UID:8140-1700384400-1700391600@avweert.nl
SUMMARY:Zondagwandeling Leende
DESCRIPTION:
URL:https://avweert.nl/event/zondagwandeling-leende-4/
LOCATION:Fletcher Hotel\, Valkenswaardseweg 44\, 5595 XB\, Leende
CATEGORIES:Wandelen
END:VEVENT
BEGIN:VEVENT
DTSTART;TZID=Europe/Amsterdam:20231112T090000
DTEND;TZID=Europe/Amsterdam:20231112T110000
DTSTAMP:20260425T021930
CREATED:20230925T175600Z
LAST-MODIFIED:20230925T175600Z
UID:7996-1699779600-1699786800@avweert.nl
SUMMARY:Zondagwandeling Baexem
DESCRIPTION:
URL:https://avweert.nl/event/zondagwandeling-baexem/
LOCATION:Piepers & Zo\, Schoorstraat 5\, 6095 NW\, Baexem
CATEGORIES:Wandelen
END:VEVENT
BEGIN:VEVENT
DTSTART;TZID=Europe/Amsterdam:20231105T093000
DTEND;TZID=Europe/Amsterdam:20231105T113000
DTSTAMP:20260425T021930
CREATED:20231002T082006Z
LAST-MODIFIED:20231002T085410Z
UID:8033-1699176600-1699183800@avweert.nl
SUMMARY:Hema IJzeren Man Volksloop 5 november
DESCRIPTION:Op zondag 5 november 2023 is onze volgende Hema IJzeren Man Volksloop. \nDeze loop “Langs het Water van de IJzeren Man” in Weert staat open voor de jeugd en volwassen. Men kan lopen in 7 verschillende afstanden. \n \nDe jeugd\, 1.3 en 2.5 kilometer START OM 9.30 UUR. \nJeugd voor 1.3 en 2.5 km kunnen nummer ophalen tussen 9.00 en 9.25 uur.  Voor de jeugd tot en met 12 jaar is er een parcours van 1.3 km en 2.5 km (ook voor 12-15 jaar). Ook de 4.0 km is er voor meisjes/ jongens 10-15 jaar. Zij starten met de senioren om 10.04 uur.              Jeugd tot en met 15 jaar mogen gratis deelnemen. \n ANDERE AFSTANDEN STARTEN VANAF 10:00 UUR! \nDe parcoursen van de langere afstanden hebben een lengte van 4 km. (A- GROENE PIJL) of van 6 km. (B- RODE PIJL). In totaal 5 afstanden van één of meerdere ronden. \nDeelnemers kunnen kiezen uit diverse ronden\, oftewel uit een afstand van: 4 km.-1x A\, 6 km.-1x B\, –7.5 km. -2 x A\, -12 km*- 2 x B\, 15.5 km* –1x A- + 2x B.  \n* Op deze afstanden is een tijdslimiet van 90 minuten. \n \nSTART LANGERE AFSTANDEN: \n\n15.5 km 10.00 uur.\n12.0 km 10.01 uur.\n7.5   km 10.02 uur.\n6.0   km 10.03 uur.\n4.0   km 10.04 uur.\n\nVOOR INSCHRIJVEN KAN TOT EN MET 2 NOVEMBER. \nVoor-inschrijven in 2023 € 2\,50 \nNa-inschrijven voor 5 november € 4\,00. Jeugd tot en met 15 jaar Gratis.     \nKLIK DE LINK: VOORINSCHRIJVEN \nSTARTLOCATIE: BIER EN SPIJZENLOKAAL DENNENOORD VOORHOEVEWEG 2 6006SV WEERT. \nHEMA\, POSNO- SPORT\, BIKKEL-FIETSSERVICE WEERT\, BIER EN SPIJZENLOKAAL DENNENOORD\, WERTHABIEREN\, SPORT-AKKOORD WEERT\, STICHTING GEZONDHEID & ONTSPANNING\, AV WEERT\, 
URL:https://avweert.nl/event/hema-ijzeren-man-volksloop-5-november/
CATEGORIES:Atletiek,Hema IJzeren Man Loop
ATTACH;FMTTYPE=image/jpeg:https://avweert.nl/wp-content/uploads/2023/10/volkslloop-01-10-23-05.jpeg
END:VEVENT
BEGIN:VEVENT
DTSTART;TZID=Europe/Amsterdam:20231105T090000
DTEND;TZID=Europe/Amsterdam:20231105T110000
DTSTAMP:20260425T021930
CREATED:20231021T095454Z
LAST-MODIFIED:20231021T095454Z
UID:8133-1699174800-1699182000@avweert.nl
SUMMARY:Zondagwandeling Weert
DESCRIPTION:
URL:https://avweert.nl/event/zondagwandeling-weert-55/
CATEGORIES:Wandelen
END:VEVENT
END:VCALENDAR