BEGIN:VCALENDAR
VERSION:2.0
PRODID:-//AV Weert - ECPv6.15.20//NONSGML v1.0//EN
CALSCALE:GREGORIAN
METHOD:PUBLISH
X-ORIGINAL-URL:https://avweert.nl
X-WR-CALDESC:Evenementen voor AV Weert
REFRESH-INTERVAL;VALUE=DURATION:PT1H
X-Robots-Tag:noindex
X-PUBLISHED-TTL:PT1H
BEGIN:VTIMEZONE
TZID:Europe/Amsterdam
BEGIN:DAYLIGHT
TZOFFSETFROM:+0100
TZOFFSETTO:+0200
TZNAME:CEST
DTSTART:20220327T010000
END:DAYLIGHT
BEGIN:STANDARD
TZOFFSETFROM:+0200
TZOFFSETTO:+0100
TZNAME:CET
DTSTART:20221030T010000
END:STANDARD
BEGIN:DAYLIGHT
TZOFFSETFROM:+0100
TZOFFSETTO:+0200
TZNAME:CEST
DTSTART:20230326T010000
END:DAYLIGHT
BEGIN:STANDARD
TZOFFSETFROM:+0200
TZOFFSETTO:+0100
TZNAME:CET
DTSTART:20231029T010000
END:STANDARD
BEGIN:DAYLIGHT
TZOFFSETFROM:+0100
TZOFFSETTO:+0200
TZNAME:CEST
DTSTART:20240331T010000
END:DAYLIGHT
BEGIN:STANDARD
TZOFFSETFROM:+0200
TZOFFSETTO:+0100
TZNAME:CET
DTSTART:20241027T010000
END:STANDARD
END:VTIMEZONE
BEGIN:VEVENT
DTSTART;TZID=Europe/Amsterdam:20231217T090000
DTEND;TZID=Europe/Amsterdam:20231217T110000
DTSTAMP:20260425T051859
CREATED:20231123T130441Z
LAST-MODIFIED:20231123T130441Z
UID:8289-1702803600-1702810800@avweert.nl
SUMMARY:Zondagwandeling Nederweert
DESCRIPTION:
URL:https://avweert.nl/event/zondagwandeling-nederweert-14/
LOCATION:Guulke eten & drinken\, Geenestraat 2A\, 6031 VM\, Nederweert\, Geenestraat 2A\, 6031 VM\, Nederweert
CATEGORIES:Wandelen
END:VEVENT
BEGIN:VEVENT
DTSTART;TZID=Europe/Amsterdam:20231210T090000
DTEND;TZID=Europe/Amsterdam:20231210T110000
DTSTAMP:20260425T051859
CREATED:20231105T080431Z
LAST-MODIFIED:20231105T080431Z
UID:8193-1702198800-1702206000@avweert.nl
SUMMARY:Zondagwandeling Weert
DESCRIPTION:
URL:https://avweert.nl/event/zondagwandeling-weert-56/
LOCATION:Partycentrum De Sluis\, Industriekade 58\, 6006 SJ Weert
CATEGORIES:Wandelen
END:VEVENT
BEGIN:VEVENT
DTSTART;TZID=Europe/Amsterdam:20231209T083000
DTEND;TZID=Europe/Amsterdam:20231209T163000
DTSTAMP:20260425T051859
CREATED:20231105T082137Z
LAST-MODIFIED:20231105T082137Z
UID:8199-1702110600-1702139400@avweert.nl
SUMMARY:Kribkeswandeling Schin op Geul
DESCRIPTION:Zaterdag 9 december: Kribkeswandeling Schin op Geul. \nGidsen: Wim en Annie Kessels. \nVertrektijd: Weert/Nederweert 8.30 uur. \nStartlocatie: bij ’t Geboew\, Warande 43\, 6305 AX\, Schin op Geul. \nNa aankomst maken we een korte wandeling naar Hotel Salden\, waar we een kop koffie of thee kunnen drinken. Daarna start de 17 km wandeling langs kribjes\, door het Geulpark en langs Kasteel Schaloen.  Onze tocht gaat verder door Sibbe waar ook vele kribjes te bezichtigen zijn. In het plaatsje Scheulder pauzeren we bij Brazzerie Pir Joy. Er wordt voor erwten- en uiensoep gezorgd. \nWe vervolgen onze weg door het prachtige Gerendal terug naar Schin op Geul. In de dorpskern zien we weer verschillende kerstkribkes. In totaal kunnen we er meer dan twintig bewonderen. \nAanmelden uiterlijk donderdag 7 december bij  w.kesssels1@chello.nl \nAls je soep wil geef je keuze dan door. Daarnaast doorgeven wie rechtstreeks gaat\, of wie in de gelegenheid is om mensen mee te nemen die geen vervoer hebben. Als je geen vervoer hebt geef dit dan door. \nVergoeding aan de chauffeur €6\,-
URL:https://avweert.nl/event/kribkeswandeling-schin-op-geul/
LOCATION:Gemeenschapshuis ‘t Geboew\, Warande 43\, 6305 AX\, Schin op Geul
CATEGORIES:Wandelen
END:VEVENT
BEGIN:VEVENT
DTSTART;TZID=Europe/Amsterdam:20231203T093000
DTEND;TZID=Europe/Amsterdam:20231203T113000
DTSTAMP:20260425T051859
CREATED:20231106T102034Z
LAST-MODIFIED:20231106T133034Z
UID:8249-1701595800-1701603000@avweert.nl
SUMMARY:Hema IJzeren Man Volksloop 3 december 2023.
DESCRIPTION:Hema IJzeren Man Volksloop. \nOp zondag 3 december 2023 is onze volgende Hema IJzeren Man Volksloop. \nDeze loop “Langs het Water van de IJzeren Man” in Weert staat open voor de jeugd en volwassen. Men kan lopen in 7 verschillende afstanden. \nDe jeugd\, 1.3 en 2.5 kilometer START OM 9.30 UUR \n    \nJeugd voor 1.3 en 2.5 km kunnen nummer ophalen tussen 9.00 en 9.25 uur. \nVoor de jeugd tot en met 12 jaar is er een parcours van 1.3 km en 2.5 km (ook voor 12-15 jaar). Meisjes/ jongens 10-15 jaar kunnen ook de 4.0 km lopen. Zij starten met de senioren om 10.04 uur. Jeugd tot en met 15 jaar mogen gratis deelnemen. \nSenioren: Andere afstanden starten vanaf 10.00 uur. De parcoursen voor de langere afstanden hebben een lengte van 4 km. (A- GROENE PIJL) of van 6 km. (B- RODE PIJL). In totaal 5 afstanden van één of meerdere ronden. \nDeelnemers kunnen kiezen uit diverse ronden\, oftewel uit een afstand van: 4 km.-1x A\, 6 km.-1x B\, –7.5 km. -2 x A\, -12 km- 2 x B\, 15.5 km* -1x A- + 2x B.  \n* Op deze afstand is een tijdslimiet van 90 minuten. \n                                 \nSTART LANGERE AFSTANDEN: \n\n15.5 km 10.00 uur.\n12.0 km 10.01 uur.\n  7.5 km 10.02 uur.\n  6.0 km 10.03 uur.\n  4.0 km 10.04 uur.\n\nVOOR INSCHRIJVEN KAN TOT EN MET 30 NOVEMBER. \nVoor-inschrijven in 2023 € 2\,50 \nNa-inschrijven op 3 DECEMBER € 4\,00. Jeugd tot en met 15 jaar Gratis.     \nKLIK DE LINK: LOOP 3 DECEMBER. \nSTARTLOCATIE: BIER EN SPIJZENLOKAAL DENNENOORD VOORHOEVE WEG 2 6006SV WEERT. \nHEMA\, POSNO- SPORT\, BIKKEL-FIETSSERVICE WEERT\, BIER EN SPIJZENLOKAAL DENNENOORD\, WERTHABIEREN\, SPORT-AKKOORD WEERT\, STICHTING GEZONDHEID & ONTSPANNING\, AV WEERT.
URL:https://avweert.nl/event/hema-ijzeren-man-volksloop-3-december-2023/
LOCATION:Limburg
CATEGORIES:Atletiek,Hema IJzeren Man Loop
ATTACH;FMTTYPE=image/jpeg:https://avweert.nl/wp-content/uploads/2023/11/loop051123natuur07.jpeg
END:VEVENT
BEGIN:VEVENT
DTSTART;TZID=Europe/Amsterdam:20231203T090000
DTEND;TZID=Europe/Amsterdam:20231203T110000
DTSTAMP:20260425T051859
CREATED:20231109T154602Z
LAST-MODIFIED:20231109T154602Z
UID:8268-1701594000-1701601200@avweert.nl
SUMMARY:Zondagwandeling Weert
DESCRIPTION:
URL:https://avweert.nl/event/zondagwandeling-weert-57/
LOCATION:Café ‘t Swaentje\, Stationsstraat 1\, 6001 CJ  Weert
CATEGORIES:Wandelen
END:VEVENT
BEGIN:VEVENT
DTSTART;TZID=Europe/Amsterdam:20231126T090000
DTEND;TZID=Europe/Amsterdam:20231126T110000
DTSTAMP:20260425T051859
CREATED:20231021T100314Z
LAST-MODIFIED:20231021T100314Z
UID:8132-1700989200-1700996400@avweert.nl
SUMMARY:Zondagwandeling Altweerterheide
DESCRIPTION:
URL:https://avweert.nl/event/zondagwandeling-altweerterheide-3/
LOCATION:Schuttershoeve\, Grotesteeg 10\, 6006 TE Weert
CATEGORIES:Wandelen
END:VEVENT
BEGIN:VEVENT
DTSTART;TZID=Europe/Amsterdam:20231119T090000
DTEND;TZID=Europe/Amsterdam:20231119T110000
DTSTAMP:20260425T051859
CREATED:20231023T133217Z
LAST-MODIFIED:20231023T133217Z
UID:8140-1700384400-1700391600@avweert.nl
SUMMARY:Zondagwandeling Leende
DESCRIPTION:
URL:https://avweert.nl/event/zondagwandeling-leende-4/
LOCATION:Fletcher Hotel\, Valkenswaardseweg 44\, 5595 XB\, Leende
CATEGORIES:Wandelen
END:VEVENT
BEGIN:VEVENT
DTSTART;TZID=Europe/Amsterdam:20231112T090000
DTEND;TZID=Europe/Amsterdam:20231112T110000
DTSTAMP:20260425T051859
CREATED:20230925T175600Z
LAST-MODIFIED:20230925T175600Z
UID:7996-1699779600-1699786800@avweert.nl
SUMMARY:Zondagwandeling Baexem
DESCRIPTION:
URL:https://avweert.nl/event/zondagwandeling-baexem/
LOCATION:Piepers & Zo\, Schoorstraat 5\, 6095 NW\, Baexem
CATEGORIES:Wandelen
END:VEVENT
BEGIN:VEVENT
DTSTART;TZID=Europe/Amsterdam:20231105T093000
DTEND;TZID=Europe/Amsterdam:20231105T113000
DTSTAMP:20260425T051859
CREATED:20231002T082006Z
LAST-MODIFIED:20231002T085410Z
UID:8033-1699176600-1699183800@avweert.nl
SUMMARY:Hema IJzeren Man Volksloop 5 november
DESCRIPTION:Op zondag 5 november 2023 is onze volgende Hema IJzeren Man Volksloop. \nDeze loop “Langs het Water van de IJzeren Man” in Weert staat open voor de jeugd en volwassen. Men kan lopen in 7 verschillende afstanden. \n \nDe jeugd\, 1.3 en 2.5 kilometer START OM 9.30 UUR. \nJeugd voor 1.3 en 2.5 km kunnen nummer ophalen tussen 9.00 en 9.25 uur.  Voor de jeugd tot en met 12 jaar is er een parcours van 1.3 km en 2.5 km (ook voor 12-15 jaar). Ook de 4.0 km is er voor meisjes/ jongens 10-15 jaar. Zij starten met de senioren om 10.04 uur.              Jeugd tot en met 15 jaar mogen gratis deelnemen. \n ANDERE AFSTANDEN STARTEN VANAF 10:00 UUR! \nDe parcoursen van de langere afstanden hebben een lengte van 4 km. (A- GROENE PIJL) of van 6 km. (B- RODE PIJL). In totaal 5 afstanden van één of meerdere ronden. \nDeelnemers kunnen kiezen uit diverse ronden\, oftewel uit een afstand van: 4 km.-1x A\, 6 km.-1x B\, –7.5 km. -2 x A\, -12 km*- 2 x B\, 15.5 km* –1x A- + 2x B.  \n* Op deze afstanden is een tijdslimiet van 90 minuten. \n \nSTART LANGERE AFSTANDEN: \n\n15.5 km 10.00 uur.\n12.0 km 10.01 uur.\n7.5   km 10.02 uur.\n6.0   km 10.03 uur.\n4.0   km 10.04 uur.\n\nVOOR INSCHRIJVEN KAN TOT EN MET 2 NOVEMBER. \nVoor-inschrijven in 2023 € 2\,50 \nNa-inschrijven voor 5 november € 4\,00. Jeugd tot en met 15 jaar Gratis.     \nKLIK DE LINK: VOORINSCHRIJVEN \nSTARTLOCATIE: BIER EN SPIJZENLOKAAL DENNENOORD VOORHOEVEWEG 2 6006SV WEERT. \nHEMA\, POSNO- SPORT\, BIKKEL-FIETSSERVICE WEERT\, BIER EN SPIJZENLOKAAL DENNENOORD\, WERTHABIEREN\, SPORT-AKKOORD WEERT\, STICHTING GEZONDHEID & ONTSPANNING\, AV WEERT\, 
URL:https://avweert.nl/event/hema-ijzeren-man-volksloop-5-november/
LOCATION:Limburg
CATEGORIES:Atletiek,Hema IJzeren Man Loop
ATTACH;FMTTYPE=image/jpeg:https://avweert.nl/wp-content/uploads/2023/10/volkslloop-01-10-23-05.jpeg
END:VEVENT
BEGIN:VEVENT
DTSTART;TZID=Europe/Amsterdam:20231105T090000
DTEND;TZID=Europe/Amsterdam:20231105T110000
DTSTAMP:20260425T051859
CREATED:20231021T095454Z
LAST-MODIFIED:20231021T095454Z
UID:8133-1699174800-1699182000@avweert.nl
SUMMARY:Zondagwandeling Weert
DESCRIPTION:
URL:https://avweert.nl/event/zondagwandeling-weert-55/
LOCATION:Limburg
CATEGORIES:Wandelen
END:VEVENT
BEGIN:VEVENT
DTSTART;TZID=Europe/Amsterdam:20231104T085000
DTEND;TZID=Europe/Amsterdam:20231104T170000
DTSTAMP:20260425T051859
CREATED:20230209T124904Z
LAST-MODIFIED:20230901T135224Z
UID:6963-1699087800-1699117200@avweert.nl
SUMMARY:20 km wandeling St. Odiliënberg
DESCRIPTION:Zaterdag 4 November: Omgeving  Sint Odiliënberg \nGidsen: Mariet van Duijl en Petra Meijers \nStartlocatie: Café- zaal Bergerac\, Schaapsweg 24\, Sint Odiliënberg \nVertrektijd vanaf de Dries in Weert 8.50 uur. \nStarttijd wandeling: rond 9.30 uur. \nEr worden twee lussen van ieder bijna 10 km gewandeld. De pauze is bij Café- zaal de Bergerac. \nBij gebruik van een consumptie mogen we onze boterhammen hier opeten.  Voor de liefhebbers is er \ngroentesoep: € 5\,- per kop. \nAanmelden vóór donderdag 2 november bij  petra.meijers@outlook.com \nGeef door of je soep wil. Daarnaast doorgeven wie rechtstreeks gaat\, of wie in de gelegenheid is om \nmensen mee te nemen die geen vervoer hebben \nVergoeding aan de chauffeur €5\,- \nWij hopen op een sportieve en gezellige dag. \nGroeten\, \nMariet en Petra \n 
URL:https://avweert.nl/event/20-km-wandeling-st-odilienberg/
LOCATION:Café Bergerac\, Schaapsweg 24\, 6077 CG\, Sint Odiliënberg
CATEGORIES:Wandelen
END:VEVENT
BEGIN:VEVENT
DTSTART;TZID=Europe/Amsterdam:20231029T103000
DTEND;TZID=Europe/Amsterdam:20231029T160000
DTSTAMP:20260425T051859
CREATED:20230911T123024Z
LAST-MODIFIED:20231006T135849Z
UID:7901-1698575400-1698595200@avweert.nl
SUMMARY:IJzeren MAn Cross Weert
DESCRIPTION:Inschrijven; klik “HIER” \n 
URL:https://avweert.nl/event/ijzeren-man-cross-weert/
LOCATION:Dennenoord\, Voorhoeveweg 2\, 6006 SV\, Weert\, Voorhoeveweg 2\, Weert\, 6006 SV\, Nederland
CATEGORIES:Atletiek
ATTACH;FMTTYPE=image/jpeg:https://avweert.nl/wp-content/uploads/2023/09/173112311.ddc355bc.jpeg
END:VEVENT
BEGIN:VEVENT
DTSTART;TZID=Europe/Amsterdam:20231029T090000
DTEND;TZID=Europe/Amsterdam:20231029T110000
DTSTAMP:20260425T051859
CREATED:20230718T122548Z
LAST-MODIFIED:20230718T122548Z
UID:7704-1698570000-1698577200@avweert.nl
SUMMARY:Zondagwandeling Ell
DESCRIPTION:
URL:https://avweert.nl/event/zondagwandeling-ell-6/
LOCATION:Café De Prairie\, Sebastiaanstr. 51\, 6011 RD\, Ell
CATEGORIES:Wandelen
END:VEVENT
BEGIN:VEVENT
DTSTART;TZID=Europe/Amsterdam:20231022T090000
DTEND;TZID=Europe/Amsterdam:20231022T110000
DTSTAMP:20260425T051859
CREATED:20230925T174922Z
LAST-MODIFIED:20230925T174922Z
UID:7994-1697965200-1697972400@avweert.nl
SUMMARY:Zondagwandeling Leende
DESCRIPTION:
URL:https://avweert.nl/event/zondagwandeling-leende-3/
LOCATION:Fletcher Hotel\, Valkenswaardseweg 44\, 5595 XB\, Leende
CATEGORIES:Wandelen
END:VEVENT
BEGIN:VEVENT
DTSTART;TZID=Europe/Amsterdam:20231015T080000
DTEND;TZID=Europe/Amsterdam:20231015T170000
DTSTAMP:20260425T051859
CREATED:20230908T105031Z
LAST-MODIFIED:20230908T105111Z
UID:7889-1697356800-1697389200@avweert.nl
SUMMARY:Loop mee met de Herfstwandeling van AVWeert op zondag 15 oktober
DESCRIPTION:Atletiek- en wandelsportvereniging Weert organiseert op zondag 15 oktober de jaarlijkse Herfstwandeling. Je kunt kiezen uit afstanden van 7.5\, 10\, 15\, 20 of 30 km. De verrassende routes zijn duidelijk gepijld en lopen door de prachtige natuur van het IJzeren Man gebied\, de Laurabossen en de Tungeler Wallen. \nDe start is vanaf 08.00 uur bij het clubhuis van Atletiekvereniging Weert aan de Parklaan 1C. Het inschrijfgeld bedraagt € 3\,50 en voor leden van AVWeert en leden van de KWBN en Vlaamse Wandelbond € 2\,50. Betalen met pin is mogelijk. \nAfhankelijk van de gekozen afstand kan gestart worden tot 13.00 uur voor de 7.5 en 10 km\, tot 12.00 uur voor de 15 km\, tot 11.00 uur voor de 20 km en tot 10.00 uur voor de 30 km. Het inschrijfbureau sluit om 14.00 uur. \nEr is live muziek en onderweg zijn er gezellige pauzeplaatsen waar je kan genieten van drankjes\, broodjes\, soep en Limburgse vlaai. Onderweg worden er foto’s gemaakt door Otto Plantema die je daarna kan terugvinden op de site van Atletiekvereniging Weert.
URL:https://avweert.nl/event/loop-mee-met-de-herfstwandeling-van-avweert-op-zondag-15-oktober/
LOCATION:Limburg
CATEGORIES:Wandelen
END:VEVENT
BEGIN:VEVENT
DTSTART;TZID=Europe/Amsterdam:20231008T090000
DTEND;TZID=Europe/Amsterdam:20231008T110000
DTSTAMP:20260425T051859
CREATED:20230718T122411Z
LAST-MODIFIED:20230718T122411Z
UID:7702-1696755600-1696762800@avweert.nl
SUMMARY:Zondagwandeling Stramproy
DESCRIPTION:
URL:https://avweert.nl/event/zondagwandeling-stramproy-7/
LOCATION:Heijer Heufke\, Lochtstr. 8a 6039 RV  Stramproy
CATEGORIES:Wandelen
END:VEVENT
BEGIN:VEVENT
DTSTART;TZID=Europe/Amsterdam:20231001T093000
DTEND;TZID=Europe/Amsterdam:20231001T113000
DTSTAMP:20260425T051859
CREATED:20230904T080011Z
LAST-MODIFIED:20230904T080247Z
UID:7856-1696152600-1696159800@avweert.nl
SUMMARY:Hema IJzeren Man Volksloop 1 oktober.
DESCRIPTION:Hema IJzeren Man Volksloop 1 oktober. \nOp zondag 1 oktober 2023 is onze volgende Hema IJzeren Man Volksloop. \nDeze loop “Langs het Water van de IJzeren Man” in Weert staat open voor de jeugd en volwassen. \n Men kan lopen in 7 verschillende afstanden. \nDe jeugd\, 1.3 en 2.5 kilometer START OM 9.30 UUR. \nJeugd voor 1.3 en 2.5 km kunnen nummer ophalen tussen 9.00 en 9.25 uur.  Voor de jeugd tot en met 12 jaar is er een parcours van 1.3 km en 2.5 km (ook voor 12-15 jaar). \nOok de 4.0 km is er voor meisjes/ jongens 10-15 jaar. Zij starten met de senioren om 10.04 uur. \nJeugd tot en met 15 jaar mogen gratis deelnemen. \nAndere afstanden starten vanaf 10.00 uur. \nDe parcoursen van de langere afstanden hebben een lengte van 4 km. (A- GROENE PIJL) of van 6 km. (B- RODE PIJL). In totaal 5 afstanden van één of meerdere ronden. \nDeelnemers kunnen kiezen uit diverse ronden\, oftewel uit een afstand van: 4 km.-1x A\, 6 km.-1x B\, –7.5 km. -2 x A\, -12 km*- 2 x B\, 15.5 km* -1x A- + 2x B.  \n* Op deze afstanden is een tijdslimiet van 90 minuten. \nSTART LANGERE AFSTANDEN: \n\n15.5 km 10.00 uur.\n12.0 km 10.01 uur.\n7.5   km 10.02 uur.\n6.0   km 10.03 uur.\n4.0   km 10.04 uur.\n\n   \nVOOR INSCHRIJVEN KAN TOT EN MET 28 SEPTEMBER. \nVoor-inschrijven in 2023 € 2\,50 \nNa-inschrijven voor 1 oktober € 4\,00. Jeugd tot en met 15 jaar Gratis.     \nKLIK DE LINK: VOORINSCHRIJVEN \nSTARTLOCATIE: BIER EN SPIJZENLOKAAL DENNENOORD VOORHOEVEWEG 2 6006SV WEERT. \n 
URL:https://avweert.nl/event/hema-ijzeren-man-volksloop-1-oktober/
LOCATION:Limburg
CATEGORIES:Atletiek,Hema IJzeren Man Loop
ATTACH;FMTTYPE=image/jpeg:https://avweert.nl/wp-content/uploads/2023/05/loop07052305-1.jpeg
END:VEVENT
BEGIN:VEVENT
DTSTART;TZID=Europe/Amsterdam:20231001T090000
DTEND;TZID=Europe/Amsterdam:20231001T110000
DTSTAMP:20260425T051859
CREATED:20230827T130314Z
LAST-MODIFIED:20230827T130314Z
UID:7818-1696150800-1696158000@avweert.nl
SUMMARY:Zondagwandeling Heeze
DESCRIPTION:
URL:https://avweert.nl/event/zondagwandeling-heeze/
LOCATION:Tapperij de Zwaan\, Kapelstraat 23\, 5591HC\, Heeze
CATEGORIES:Wandelen
END:VEVENT
BEGIN:VEVENT
DTSTART;TZID=Europe/Amsterdam:20230924T090000
DTEND;TZID=Europe/Amsterdam:20230924T110000
DTSTAMP:20260425T051859
CREATED:20230827T130056Z
LAST-MODIFIED:20230827T130056Z
UID:7816-1695546000-1695553200@avweert.nl
SUMMARY:Zondagwandeling Ospel
DESCRIPTION:
URL:https://avweert.nl/event/zondagwandeling-ospel-5/
LOCATION:De Pelen\, Moostdijk 15\, 6035 RB\, Ospel
CATEGORIES:Wandelen
END:VEVENT
BEGIN:VEVENT
DTSTART;TZID=Europe/Amsterdam:20230917T090000
DTEND;TZID=Europe/Amsterdam:20230917T110000
DTSTAMP:20260425T051859
CREATED:20230718T122153Z
LAST-MODIFIED:20230913T210935Z
UID:7699-1694941200-1694948400@avweert.nl
SUMMARY:Zondagwandeling Nunhem
DESCRIPTION:
URL:https://avweert.nl/event/zondagwandeling-roggel-3/
LOCATION:Gemeenschapshuis St. Servaas\, Burg. Peetersstr. 1\, 6083 AK\, Nunhem\,
CATEGORIES:Wandelen
END:VEVENT
BEGIN:VEVENT
DTSTART;TZID=Europe/Amsterdam:20230910T090000
DTEND;TZID=Europe/Amsterdam:20230910T110000
DTSTAMP:20260425T051859
CREATED:20230718T121551Z
LAST-MODIFIED:20230718T121551Z
UID:7697-1694336400-1694343600@avweert.nl
SUMMARY:Zondagwandeling Weert
DESCRIPTION:
URL:https://avweert.nl/event/zondagwandeling-weert-53/
LOCATION:Golfbaan Crossmoor\, Laurabosweg 8\, 6006VR Weert
CATEGORIES:Wandelen
END:VEVENT
BEGIN:VEVENT
DTSTART;TZID=Europe/Amsterdam:20230903T093000
DTEND;TZID=Europe/Amsterdam:20230903T113000
DTSTAMP:20260425T051859
CREATED:20230808T140512Z
LAST-MODIFIED:20230808T141524Z
UID:7758-1693733400-1693740600@avweert.nl
SUMMARY:3 September-Hema IJzeren Man Volksloop.
DESCRIPTION:Hema IJzeren Man Volksloop. \nOp zondag 3 september 2023 is onze volgende Hema IJzeren Man Volksloop. \nDeze loop “Langs het Water van de IJzeren Man” in Weert staat open voor de jeugd en volwassen. Men kan lopen in 7 verschillende afstanden. \nDe jeugd\, 1.3 en 2.5 kilometer START OM 9.30 UUR. \nJeugd voor 1.3 en 2.5 km kunnen nummer ophalen tussen 9.00 en 9.25 uur.  Voor de jeugd tot en met 12 jaar is er een parcours van 1.3 km en 2.5 km (ook voor 12-15 jaar). Ook de 4.0 km is er voor meisjes/ jongens 10-15 jaar.  Zij starten met de senioren om 10.04 uur. \nJeugd tot en met 15 jaar mogen gratis deelnemen. \n \n Andere afstanden starten vanaf 10.00 uur. \nDe parcoursen van de langere afstanden hebben een lengte van 4 km. (A- GROENE PIJL) of van 6 km. (B- RODE PIJL). In totaal 5 afstanden van één of meerdere ronden. \nDeelnemers kunnen kiezen uit diverse ronden\, oftewel uit een afstand van: 4 km.-1x A\, 6 km.-1x B\, –7.5 km. -2 x A\, -12 km*- 2 x B\, 15.5 km* -1x A- + 2x B.  \n* Op deze afstanden is een tijdslimiet van 90 minuten. \n      \nSTART LANGERE AFSTANDEN: \n\n15.5 km 10.00 uur.\n12.0 km 10.01 uur.\n7.5   km 10.02 uur.\n6.0   km 10.03 uur.\n4.0   km 10.04 uur.\n\nVOORINSCHRIJVEN KAN TOT EN MET 31 AUGUSTUS. \nVoor-inschrijven in 2023 € 2\,50 \nNa-inschrijven op 3 September € 4\,00.  \nJeugd tot en met 15 jaar Gratis.   \n   \nKLIK DE LINK: VOORINSCHRIJVEN \nSTARTLOCATIE: BIER EN SPIJZENLOKAAL DENNENOORD VOORHOEVE WEG 2 6006SV WEERT. \nHEMA\, POSNO- SPORT\, BIKKEL-FIETSSERVICE WEERT\, BIER EN SPIJZENLOKAAL DENNENOORD\, WERTHABIEREN\, SPORT-AKKOORD WEERT\, STICHTING GEZONDHEID & ONTSPANNING\, AV WEERT\, 
URL:https://avweert.nl/event/3-september-hema-ijzeren-man-volksloop/
LOCATION:Limburg
CATEGORIES:Atletiek,Hema IJzeren Man Loop
ATTACH;FMTTYPE=image/jpeg:https://avweert.nl/wp-content/uploads/2023/08/fotoklaar06082307.jpeg
END:VEVENT
BEGIN:VEVENT
DTSTART;TZID=Europe/Amsterdam:20230903T090000
DTEND;TZID=Europe/Amsterdam:20230903T110000
DTSTAMP:20260425T051859
CREATED:20230827T125444Z
LAST-MODIFIED:20230827T125444Z
UID:7812-1693731600-1693738800@avweert.nl
SUMMARY:Zondagwandeling Weert
DESCRIPTION:
URL:https://avweert.nl/event/zondagwandeling-weert-54/
LOCATION:Café ‘t Swaentje\, Stationsstraat 1\, 6001 CJ  Weert
CATEGORIES:Wandelen
END:VEVENT
BEGIN:VEVENT
DTSTART;TZID=Europe/Amsterdam:20230827T090000
DTEND;TZID=Europe/Amsterdam:20230827T110000
DTSTAMP:20260425T051859
CREATED:20230727T095912Z
LAST-MODIFIED:20230727T095912Z
UID:7724-1693126800-1693134000@avweert.nl
SUMMARY:Zondagwandeling Meijel
DESCRIPTION:
URL:https://avweert.nl/event/zondagwandeling-meijel-2/
LOCATION:Peelpaviljoen Onze Stek\, Katsberg 26\, 5768RH\, Meijel
CATEGORIES:Wandelen
END:VEVENT
BEGIN:VEVENT
DTSTART;TZID=Europe/Amsterdam:20230820T090000
DTEND;TZID=Europe/Amsterdam:20230820T110000
DTSTAMP:20260425T051859
CREATED:20230718T121253Z
LAST-MODIFIED:20230718T121253Z
UID:7695-1692522000-1692529200@avweert.nl
SUMMARY:Zondagwandeling Someren
DESCRIPTION:
URL:https://avweert.nl/event/zondagwandeling-someren-3/
LOCATION:Boscafé de Soete Inval\, Bosrandweg 6\, 5711 RJ\, Someren
CATEGORIES:Wandelen
END:VEVENT
BEGIN:VEVENT
DTSTART;TZID=Europe/Amsterdam:20230813T090000
DTEND;TZID=Europe/Amsterdam:20230813T110000
DTSTAMP:20260425T051859
CREATED:20230718T121130Z
LAST-MODIFIED:20230718T121130Z
UID:7693-1691917200-1691924400@avweert.nl
SUMMARY:Zondagwandeling Leende
DESCRIPTION:
URL:https://avweert.nl/event/zondagwandeling-leende-2/
LOCATION:Fletcher Hotel\, Valkenswaardseweg 44\, 5595 XB\, Leende
CATEGORIES:Wandelen
END:VEVENT
BEGIN:VEVENT
DTSTART;TZID=Europe/Amsterdam:20230806T093000
DTEND;TZID=Europe/Amsterdam:20230806T113000
DTSTAMP:20260425T051859
CREATED:20230703T080233Z
LAST-MODIFIED:20230703T080418Z
UID:7640-1691314200-1691321400@avweert.nl
SUMMARY: Hema IJzeren Man Volksloop 6 AUGUSTUS.
DESCRIPTION: Hema IJzeren Man Volksloop. \nOp zondag 6 augustus 2023 is onze volgende Hema IJzeren Man Volksloop. \nDeze loop “Langs het Water van de IJzeren Man” in Weert staat open voor de jeugd en volwassen. Men kan lopen in 7 verschillende afstanden. \nDe jeugd\, 1.3 en 2.5 kilometer START OM 9.30 UUR. \nJeugd voor 1.3 en 2.5 km kunnen nummer ophalen tussen 9.00 en 9.25 uur.  Voor de jeugd tot en met 12 jaar is er een parcours van 1.3 km en 2.5 km (ook voor 12-15 jaar). Ook de 4.0 km is er voor meisjes/ jongens 10-15 jaar. Zij starten met de senioren om 10.04 uur.              Jeugd tot en met 15 jaar mogen gratis deelnemen. \n Andere afstanden starten vanaf 10.00 uur. \nDe parcoursen van de langere afstanden hebben een lengte van 4 km. (A- GROENE PIJL) of van 6 km. (B- RODE PIJL). In totaal 5 afstanden van één of meerdere ronden. \nDeelnemers kunnen kiezen uit diverse ronden\, oftewel uit een afstand van: 4 km.-1x A\, 6 km.-1x B\, –7.5 km. -2 x A\, -12 km*- 2 x B\, 15.5 km* -1x A- + 2x B.  \n* Op deze afstanden is een tijdslimiet van 90 minuten. \n      \nSTART LANGERE AFSTANDEN: \n\n15.5 km 10.00 uur.\n12.0 km 10.01 uur.\n7.5   km 10.02 uur.\n6.0   km 10.03 uur.\n4.0   km 10.04 uur.\n\nVOORINSCHRIJVEN KAN TOT EN MET 3 AUGUSTUS. \nVoor-inschrijven in 2023 € 2\,50 \nNa-inschrijven op 6 augustus € 4\,00.  \nJeugd tot en met 15 jaar Gratis.     \nKLIK DE LINK: VOORINSCHRIJVEN \nSTARTLOCATIE: BIER EN SPIJZENLOKAAL DENNENOORD VOORHOEVE WEG 2 6006SV WEERT. \nHEMA\, POSNO- SPORT\, BIKKEL-FIETSSERVICE WEERT\, BIER EN SPIJZENLOKAAL DENNENOORD\, WERTHABIEREN\, SPORT-AKKOORD WEERT\, STICHTING GEZONDHEID & ONTSPANNING\, AV WEERT\, 
URL:https://avweert.nl/event/hema-ijzeren-man-volksloop-6-augustus/
LOCATION:Limburg
CATEGORIES:Atletiek,Hema IJzeren Man Loop
ATTACH;FMTTYPE=image/jpeg:https://avweert.nl/wp-content/uploads/2023/07/hemaloop02072303.jpeg
END:VEVENT
BEGIN:VEVENT
DTSTART;TZID=Europe/Amsterdam:20230806T090000
DTEND;TZID=Europe/Amsterdam:20230806T110000
DTSTAMP:20260425T051859
CREATED:20230718T120930Z
LAST-MODIFIED:20230718T122729Z
UID:7691-1691312400-1691319600@avweert.nl
SUMMARY:Zondagwandeling Stramproy
DESCRIPTION:
URL:https://avweert.nl/event/zondagwandeling-stramproy-6/
LOCATION:Nieuw Vosseven\, Lochtstraat 28\, 6039 RV\, Stramproy
CATEGORIES:Wandelen
END:VEVENT
BEGIN:VEVENT
DTSTART;TZID=Europe/Amsterdam:20230730T090000
DTEND;TZID=Europe/Amsterdam:20230730T110000
DTSTAMP:20260425T051859
CREATED:20230617T145347Z
LAST-MODIFIED:20230617T145347Z
UID:7545-1690707600-1690714800@avweert.nl
SUMMARY:Zondagwandeling Weert
DESCRIPTION:
URL:https://avweert.nl/event/zondagwandeling-weert-52/
LOCATION:Gruuëts\, Stationsstraat 18\, 6001 CK Weert\, Stationsstraat 18\, Weert\, 6001 CK
CATEGORIES:Wandelen
END:VEVENT
BEGIN:VEVENT
DTSTART;TZID=Europe/Amsterdam:20230723T090000
DTEND;TZID=Europe/Amsterdam:20230723T110000
DTSTAMP:20260425T051859
CREATED:20230617T145134Z
LAST-MODIFIED:20230617T145134Z
UID:7543-1690102800-1690110000@avweert.nl
SUMMARY:Zondagwandeling Weert
DESCRIPTION:
URL:https://avweert.nl/event/zondagwandeling-weert-51/
LOCATION:Hoeve Lieshout\, Breijbaan 30 6005 NE Weert
CATEGORIES:Wandelen
END:VEVENT
END:VCALENDAR