BEGIN:VCALENDAR
VERSION:2.0
PRODID:-//AV Weert - ECPv6.15.20//NONSGML v1.0//EN
CALSCALE:GREGORIAN
METHOD:PUBLISH
X-ORIGINAL-URL:https://avweert.nl
X-WR-CALDESC:Evenementen voor AV Weert
REFRESH-INTERVAL;VALUE=DURATION:PT1H
X-Robots-Tag:noindex
X-PUBLISHED-TTL:PT1H
BEGIN:VTIMEZONE
TZID:Europe/Amsterdam
BEGIN:DAYLIGHT
TZOFFSETFROM:+0100
TZOFFSETTO:+0200
TZNAME:CEST
DTSTART:20210328T010000
END:DAYLIGHT
BEGIN:STANDARD
TZOFFSETFROM:+0200
TZOFFSETTO:+0100
TZNAME:CET
DTSTART:20211031T010000
END:STANDARD
BEGIN:DAYLIGHT
TZOFFSETFROM:+0100
TZOFFSETTO:+0200
TZNAME:CEST
DTSTART:20220327T010000
END:DAYLIGHT
BEGIN:STANDARD
TZOFFSETFROM:+0200
TZOFFSETTO:+0100
TZNAME:CET
DTSTART:20221030T010000
END:STANDARD
BEGIN:DAYLIGHT
TZOFFSETFROM:+0100
TZOFFSETTO:+0200
TZNAME:CEST
DTSTART:20230326T010000
END:DAYLIGHT
BEGIN:STANDARD
TZOFFSETFROM:+0200
TZOFFSETTO:+0100
TZNAME:CET
DTSTART:20231029T010000
END:STANDARD
BEGIN:DAYLIGHT
TZOFFSETFROM:+0100
TZOFFSETTO:+0200
TZNAME:CEST
DTSTART:20240331T010000
END:DAYLIGHT
BEGIN:STANDARD
TZOFFSETFROM:+0200
TZOFFSETTO:+0100
TZNAME:CET
DTSTART:20241027T010000
END:STANDARD
END:VTIMEZONE
BEGIN:VEVENT
DTSTART;TZID=Europe/Amsterdam:20230423T090000
DTEND;TZID=Europe/Amsterdam:20230423T110000
DTSTAMP:20260425T123527
CREATED:20230326T130821Z
LAST-MODIFIED:20230326T130821Z
UID:7176-1682240400-1682247600@avweert.nl
SUMMARY:Zondagwandeling Stramproy
DESCRIPTION:
URL:https://avweert.nl/event/zondagwandeling-stramproy-5/
LOCATION:De Luifel\, Julianastraat 2\, 6039 AJ Stramproy
CATEGORIES:Wandelen
END:VEVENT
BEGIN:VEVENT
DTSTART;TZID=Europe/Amsterdam:20230422T083000
DTEND;TZID=Europe/Amsterdam:20230422T170000
DTSTAMP:20260425T123527
CREATED:20230323T080731Z
LAST-MODIFIED:20230323T080731Z
UID:7135-1682152200-1682182800@avweert.nl
SUMMARY:Natuurwandeling/bloesemtocht Zuid-Limburg
DESCRIPTION:Zaterdag 22 April: Natuurwandeling/bloesemtocht Zuid-Limburg \nGidsen: Theo Albers en Mies Jacobs. \nStartplaats: Beutenaken 40\, 6278 NB Beutenaken;  dit is langs de weg tegenover een wit huis no 40\, er zijn daar ongeveer 10 parkeerplaatsen. \nVertrektijd Weert: 8.30 uur. \nDe fantastische mooie wandeltocht is een ronde van 19.2 km. De eerste pauzeplaats is na 5 km. \nDe tweede pauzeplaats is dan na ongeveer 8 km in Teuven bij Moeder de Gans alwaar men soep kan gebruiken; tomatensoep\, uiensoep of soep van de dag voor € 7\,25 per kop. \nLaatste stuk van de tocht is ongeveer 6 km. \nOpgeven bij: mies.jacobs2@gmail.com  Graag aangeven of men wil meerijden of zelf wil rijden en hoeveel wandelaars mee kunnen rijden. Bij opgave graag doorgeven welke soep men wenst te gebruiken. \nBijdrage voor chauffeur € 6 \n 
URL:https://avweert.nl/event/natuurwandeling-bloesemtocht-zuid-limburg/
LOCATION:Beutenaken 40\, 6278 NB Beutenaken
CATEGORIES:Wandelen
END:VEVENT
BEGIN:VEVENT
DTSTART;TZID=Europe/Amsterdam:20230416T090000
DTEND;TZID=Europe/Amsterdam:20230416T110000
DTSTAMP:20260425T123527
CREATED:20230323T082335Z
LAST-MODIFIED:20230323T082335Z
UID:7145-1681635600-1681642800@avweert.nl
SUMMARY:Zondagwandeling Kinrooi
DESCRIPTION:
URL:https://avweert.nl/event/zondagwandeling-kinrooi/
LOCATION:Sportzaal De Belder\, De Belder 17 3640 Kinrooi\, België
CATEGORIES:Wandelen
END:VEVENT
BEGIN:VEVENT
DTSTART;TZID=Europe/Amsterdam:20230409T090000
DTEND;TZID=Europe/Amsterdam:20230409T110000
DTSTAMP:20260425T123527
CREATED:20230323T081633Z
LAST-MODIFIED:20230323T081633Z
UID:7143-1681030800-1681038000@avweert.nl
SUMMARY:Zondagwandeling Heibloem
DESCRIPTION:
URL:https://avweert.nl/event/zondagwandeling-heibloem-2/
LOCATION:Café Heidegoud\, Meijelseweg 3\, 6089 ND Heibloem
CATEGORIES:Wandelen
END:VEVENT
BEGIN:VEVENT
DTSTART;TZID=Europe/Amsterdam:20230402T093000
DTEND;TZID=Europe/Amsterdam:20230402T113000
DTSTAMP:20260425T123527
CREATED:20230306T144235Z
LAST-MODIFIED:20230306T144904Z
UID:7054-1680427800-1680435000@avweert.nl
SUMMARY:2 APRIL DE VOLGENDE HEMA IJZEREN MAN VOLKSLOOP
DESCRIPTION:DOE JIJ OOK MEE.\n2e  EDITIE VAN DE JEUGDCOMPETITIE OP 2 APRIL\n \nKIJK VOOR VOOR MEER INFORMATIE OVER DE JEUGDCOMPETITIE OP: HEMA VOLKSLOOP \nJeugd\, 1.3 en 2.5 kilometer START OM 9.30 UUR. Andere afstanden starten vanaf 10.00 uur.  \nJeugd voor 1.3 en 2.5 km kunnen nummer ophalen tussen 9.00 en 9.25 uur.  Voor de jeugd tot en met 12 jaar is er een parcours van 1.3 km en 2.5 km( ook voor 12-15 jaar). Ook de 4.0 km is er voor meisjes/ jongens 10-15 jaar. Starten met de andere om 10.04 uur. \n2 APRIL START GAAN WE VAN START MET DE MEESTE PROGRESSIE VOOR DE LANGERE AFSTANDEN.\nKLIK HIER VOOR MEER INFORMATIE: Spelregels meest progressie! \n \nDe parcoursen voor de langere afstanden hebben een lengte van 4 km. (A- GROENE PIJL) of van 6 km. (B- RODE PIJL). In totaal 5 afstanden van één of meerdere ronden. \nDeelnemers kunnen kiezen uit diverse ronden\, oftewel uit een afstand van: 4 km.-1x A\, 6 km.-1x B\, –7.5 km. -2 x A\, -12 km- 2 x B\, 15.5 km* -1x A- + 2x B . \n* Op deze afstand is een tijdslimiet van 90 minuten. \nSTART LANGERE AFSTANDEN:15.5 km om 10.00 uur. 12 km 10.01. 7.5 km 10.02 en 6.0 km 10.03.   4 km om 10.04 uur. \n. \nVOOR INSCHRIJVEN KAN TOT EN MET 30 MAART. \nHIER DE LINK: https://inschrijven.nl/form/2023040216344-nl \nVoor inschrijven € 2\,50 (jeugd tot 15 jaar gratis).  \nNa inschrijven op  2 APRIL 2023 € 4\,00.\nEr wordt  gelopen met tijd registratie.  Zodat elke keer jouw tijd in de uitslagen komt. Deze kun je na de loop vinden op uitslagen.nl. https://uitslagen.nl
URL:https://avweert.nl/event/2-april-de-volgende-hema-ijzeren-man-volksloop/
CATEGORIES:Atletiek,Hema IJzeren Man Loop
ATTACH;FMTTYPE=image/jpeg:https://avweert.nl/wp-content/uploads/2023/03/hemaloop05032306.jpeg
END:VEVENT
BEGIN:VEVENT
DTSTART;TZID=Europe/Amsterdam:20230402T090000
DTEND;TZID=Europe/Amsterdam:20230402T110000
DTSTAMP:20260425T123527
CREATED:20230323T081435Z
LAST-MODIFIED:20230323T081435Z
UID:7140-1680426000-1680433200@avweert.nl
SUMMARY:Zondagwandeling Nederweert-Eind
DESCRIPTION:
URL:https://avweert.nl/event/zondagwandeling-nederweert-eind-5/
LOCATION:Zaal van Nieuwenhoven\, Pastoor Maesplein 1\, 6034 TE Nederweert-Eind\, Pastoor Maesplein 1\, 6043 TE
CATEGORIES:Wandelen
END:VEVENT
BEGIN:VEVENT
DTSTART;TZID=Europe/Amsterdam:20230326T090000
DTEND;TZID=Europe/Amsterdam:20230326T110000
DTSTAMP:20260425T123527
CREATED:20230223T183404Z
LAST-MODIFIED:20230223T183404Z
UID:7015-1679821200-1679828400@avweert.nl
SUMMARY:Zondagwandeling Swartbroek
DESCRIPTION:
URL:https://avweert.nl/event/zondagwandeling-swartbroek-2/
LOCATION:Bi-j Sanne\,  Ittervoorterweg 101\, 6005 NP Swartbroek
CATEGORIES:Wandelen
END:VEVENT
BEGIN:VEVENT
DTSTART;TZID=Europe/Amsterdam:20230319T080000
DTEND;TZID=Europe/Amsterdam:20230319T140000
DTSTAMP:20260425T123527
CREATED:20230214T100932Z
LAST-MODIFIED:20230214T111205Z
UID:6998-1679212800-1679234400@avweert.nl
SUMMARY:Lentewandeling
DESCRIPTION:Atletiek- en wandelsportvereniging Weert organiseert op zondag 19 maart de jaarlijkse Lentewandeling. U kunt kiezen uit afstanden van 7.5\, 10\, 15\, 20 of 30 km. De verrassende routes zijn duidelijk gepijld en lopen door de prachtige natuurgebieden van de Krang\, Moeselpeel\, Roeventerpeel\, Sarsven en de Kwegt. \nDe start is vanaf 08.00 uur bij Café de HoêsKMR (MFA Kimpeveld Tungelroy)\, St. Barbaraplein 2 in Tungelroy – Weert. Het inschrijfgeld bedraagt voor leden van AVWeert en leden van de KWBN en Vlaamse Wandelbond € 2\,50 euro en voor niet- leden € 3\,50. Betalen met pin is mogelijk. \nAfhankelijk van de gekozen afstand kan gestart worden tot 13.00 uur voor de 7.5 en 10 km\, tot 12.00 uur voor de 15 km\, tot 11.00 uur voor de 20 km en tot 10.00 uur voor de 30 km. Het inschrijfbureau sluit om 14.00 uur. \nOnderweg zijn er gezellige pauzeplaatsen met live muziek en kunt u genieten van drankjes\, broodjes\, soep en Limburgse vlaai. Tijdens de wandeling worden door foto’s gemaakt van de deelnemers en deze kunt u terugvinden op de site van AVWeert www.avweert.nl/fotos/ \n  \n  \n  \nVoor informatie Persbericht Monique van den Brandt 06 26742699
URL:https://avweert.nl/event/lentewandeling/
LOCATION:MFA Kimpe Veld\, St Barbaraplein\, 2 6005 SR \, Tungelroy
CATEGORIES:Wandelen
END:VEVENT
BEGIN:VEVENT
DTSTART;TZID=Europe/Amsterdam:20230312T090000
DTEND;TZID=Europe/Amsterdam:20230312T110000
DTSTAMP:20260425T123527
CREATED:20230122T152457Z
LAST-MODIFIED:20230122T152457Z
UID:6864-1678611600-1678618800@avweert.nl
SUMMARY:Zondagwandeling Nunhem
DESCRIPTION:
URL:https://avweert.nl/event/zondagwandeling-nunhem/
CATEGORIES:Wandelen
END:VEVENT
BEGIN:VEVENT
DTSTART;TZID=Europe/Amsterdam:20230305T093000
DTEND;TZID=Europe/Amsterdam:20230305T113000
DTSTAMP:20260425T123527
CREATED:20230206T133456Z
LAST-MODIFIED:20230206T134000Z
UID:6941-1678008600-1678015800@avweert.nl
SUMMARY:5 MAART DE VOLGENDE HEMA IJZEREN MAN VOLKSLOOP
DESCRIPTION:5 MAART DE VOLGENDE HEMA IJZEREN MAN VOLKSLOOP\nDOE JIJ OOK MEE.\nDE JEUGDCOMPETITIE START EERSTE ZONDAG VAN MAART.\n \nKIJK VOOR VOOR MEER INFORMATIE OVER DE JEUGDCOMPETITIE OP: HEMA VOLKSLOOP \nJeugd\, 1.3 en 2.5 kilometer START OM 9.30 UUR. Andere afstanden starten vanaf 10.00 uur.  \nJeugd voor 1.3 en 2.5 km kunnen nummer ophalen tussen 9.00 en 9.25 uur.  Voor de jeugd tot en met 12 jaar is er een parcours van 1.3 km en 2.5 km( ook voor 12-15 jaar). Ook de 4.0 km is er voor meisjes/ jongens 10-15 jaar. Starten met de andere om 10.04 uur. \nDe parcoursen voor de langere afstanden hebben een lengte van 4 km. (A- GROENE PIJL) of van 6 km. (B- RODE PIJL). In totaal 5 afstanden van één of meerdere ronden. \nDeelnemers kunnen kiezen uit diverse ronden\, oftewel uit een afstand van: 4 km.-1x A\, 6 km.-1x B\, –7.5 km. -2 x A\, -12 km- 2 x B\, 15.5 km* -1x A- + 2x B . \n* Op deze afstand is een tijdslimiet van 90 minuten. \nSTART LANGERE AFSTANDEN:15.5 km om 10.00 uur. 12 km 10.01. 7.5 km 10.02 en 6.0 km 10.03.   4 km om 10.04 uur. \n .   \nVOOR INSCHRIJVEN KAN TOT EN MET 2 MAART. \nHIER DE LINK: https://inschrijven.nl/form/2023020516344-nl \nVoor inschrijven € 2\,50 (jeugd tot 15 jaar gratis).  \nNa inschrijven op 5 MAART 2023 € 4\,00.\nEr wordt  gelopen met tijd registratie.  Zodat elke keer jouw tijd in de uitslagen komt. Deze kun je na de loop vinden op uitslagen.nl. https://uitslagen.nl
URL:https://avweert.nl/event/5-maart-de-volgende-hema-ijzeren-man-volksloop/
CATEGORIES:Atletiek,Hema IJzeren Man Loop
ATTACH;FMTTYPE=image/jpeg:https://avweert.nl/wp-content/uploads/2023/01/hemafoto01012309.jpeg
END:VEVENT
BEGIN:VEVENT
DTSTART;TZID=Europe/Amsterdam:20230305T090000
DTEND;TZID=Europe/Amsterdam:20230305T110000
DTSTAMP:20260425T123527
CREATED:20230209T124454Z
LAST-MODIFIED:20230209T124454Z
UID:6957-1678006800-1678014000@avweert.nl
SUMMARY:Zondagwandeling Nederweert
DESCRIPTION:
URL:https://avweert.nl/event/zondagwandeling-nederweert-13/
LOCATION:Daatjeshoeve\, Heugterbroekdijk 34\, 6031 LE Nederweert
CATEGORIES:Wandelen
END:VEVENT
BEGIN:VEVENT
DTSTART;TZID=Europe/Amsterdam:20230226T090000
DTEND;TZID=Europe/Amsterdam:20230226T110000
DTSTAMP:20260425T123527
CREATED:20230125T160551Z
LAST-MODIFIED:20230125T160551Z
UID:6885-1677402000-1677409200@avweert.nl
SUMMARY:Zondagwandeling Nederweert
DESCRIPTION:
URL:https://avweert.nl/event/zondagwandeling-nederweert-12/
LOCATION:Guulke eten & drinken\, Geenestraat 2A\, 6031 VM\, Nederweert\, Geenestraat 2A\, 6031 VM\, Nederweert
CATEGORIES:Wandelen
END:VEVENT
BEGIN:VEVENT
DTSTART;TZID=Europe/Amsterdam:20230225T084500
DTEND;TZID=Europe/Amsterdam:20230225T160000
DTSTAMP:20260425T123527
CREATED:20230202T171941Z
LAST-MODIFIED:20230202T171941Z
UID:6926-1677314700-1677340800@avweert.nl
SUMMARY:20 km wandeling Valkenswaard
DESCRIPTION:Zaterdag 25 februari: Omgeving Borkel en Schaft. \nGidsen: Theo Albers en Mies Jacobs \nStartlocatie: Eetcafé Zomerhof\, Maastrichterweg 265\, 5556 VB Valkenswaard \nVertrektijd: 08.45 uur. ( indien nodig vanaf De Dries in Weert) \nStarttijd wandeling: 09.30 uur \nEr worden twee lussen gelopen. De totale afstand is 21 km. De 1ste lus gaat naar de Malpievennen en de 2de lus door het beekdal van de Tongelreep. \nOpgeven bij theoalbers1949@gmail.com  graag aangeven of men wil meerijden of zelf wil rijden\, en hoeveel wandelaars mee kunnen rijden. Verder kan er soep van de dag besteld worden. \nVergoeding aan chauffeur €4
URL:https://avweert.nl/event/20-km-wandeling-valkenswaard/
LOCATION:Eetcafé Zomerhof\, Maastrichterweg 265\, 5556 VB Valkenswaard
CATEGORIES:Wandelen
END:VEVENT
BEGIN:VEVENT
DTSTART;TZID=Europe/Amsterdam:20230219T090000
DTEND;TZID=Europe/Amsterdam:20230219T110000
DTSTAMP:20260425T123527
CREATED:20230122T151342Z
LAST-MODIFIED:20230122T151342Z
UID:6862-1676797200-1676804400@avweert.nl
SUMMARY:Zondagwandeling Weert
DESCRIPTION:
URL:https://avweert.nl/event/zondagwandeling-weert-46/
LOCATION:La Place\, Rijksweg A2\, 6004 RW (Roevenpeel) Weert
CATEGORIES:Wandelen
END:VEVENT
BEGIN:VEVENT
DTSTART;TZID=Europe/Amsterdam:20230212T090000
DTEND;TZID=Europe/Amsterdam:20230212T110000
DTSTAMP:20260425T123527
CREATED:20221221T125028Z
LAST-MODIFIED:20221221T125621Z
UID:6761-1676192400-1676199600@avweert.nl
SUMMARY:Zondagwandeling Budel-Dorplein
DESCRIPTION:
URL:https://avweert.nl/event/zondagwandeling-budel-dorplein/
LOCATION:Voetbalclub Kantine d’n Opkikker\, Boszicht 230\, 6024 AP\, Budel-Dorplein
CATEGORIES:Wandelen
END:VEVENT
BEGIN:VEVENT
DTSTART;TZID=Europe/Amsterdam:20230205T093000
DTEND;TZID=Europe/Amsterdam:20230205T113000
DTSTAMP:20260425T123527
CREATED:20230103T094213Z
LAST-MODIFIED:20230104T175244Z
UID:6815-1675589400-1675596600@avweert.nl
SUMMARY:Hema IJzeren Man Volksloop van Februari.
DESCRIPTION:Op de eerste zondag van Februari (05-02-2023) is de volgende Hema Volksloop. \nJe kunt weer lopen in Weert: \n“langs het water van de IJzeren Man”. \nDURF JIJ DE UITDAGING AAN!\nSTART HET NIEUWE JAAR SPORTIEF. \n                                DOE MEE!\n \nJeugd\, 1.3 en 2.5 kilometer START OM 9.30 UUR. Andere afstanden starten vanaf 10.00 uur.  \nJeugd voor 1.3 en 2.5 km kunnen nummer ophalen tussen 9.00 en 9.25 uur.  Voor de jeugd tot en met 12 jaar is er een parcours van 1.3 km en 2.5 km.  \nDe parcoursen voor de langere afstanden hebben een lengte van 4 km. (A- GROENE PIJL) of van 6 km. (B- RODE PIJL). In totaal 5 afstanden van één of meerdere ronden. \nDeelnemers kunnen kiezen uit diverse ronden\, oftewel uit een afstand van: 4 km.-1x A\, 6 km.-1x B\, –7.5 km. -2 x A\, -12 km- 2 x B\, 15.5 km* -1x A- + 2x B . \n* Op deze afstand is een tijdslimiet van 90 minuten. \nSTART LANGERE AFSTANDEN:15.5 km om 10.00 uur. 12 km 10.01. 7.5 km 10.02 en 6.0 km 10.03.   4 km om 10.04 uur. \nVOOR INSCHRIJVEN KAN TOT EN MET 2 FEBRUARI. \nHIER DE LINK: https://inschrijven.nl/form/2023020516344-nl \nVoor inschrijven € 2\,50 (jeugd tot 15 jaar gratis).  \nNa inschrijven op 5 februari 2023 € 4\,00.\nEr wordt  gelopen met tijd registratie.  Zodat elke keer jouw tijd in de uitslagen komt. Deze kun je na de loop vinden op uitslagen.nl. https://uitslagen.nl
URL:https://avweert.nl/event/hema-ijzeren-man-volksloop-van-februari/
CATEGORIES:Hema IJzeren Man Loop
ATTACH;FMTTYPE=image/jpeg:https://avweert.nl/wp-content/uploads/2023/01/hemafoto01012309.jpeg
END:VEVENT
BEGIN:VEVENT
DTSTART;TZID=Europe/Amsterdam:20230205T090000
DTEND;TZID=Europe/Amsterdam:20230205T110000
DTSTAMP:20260425T123527
CREATED:20230122T151157Z
LAST-MODIFIED:20230122T151157Z
UID:6860-1675587600-1675594800@avweert.nl
SUMMARY:Zondagwandeling Weert
DESCRIPTION:
URL:https://avweert.nl/event/zondagwandeling-weert-45/
LOCATION:Partycentrum De Sluis\, Industriekade 58\, 6006 SJ Weert
CATEGORIES:Wandelen
END:VEVENT
BEGIN:VEVENT
DTSTART;TZID=Europe/Amsterdam:20230129T090000
DTEND;TZID=Europe/Amsterdam:20230129T110000
DTSTAMP:20260425T123527
CREATED:20221221T124710Z
LAST-MODIFIED:20221221T124710Z
UID:6759-1674982800-1674990000@avweert.nl
SUMMARY:Zondagwandeling Weert
DESCRIPTION:
URL:https://avweert.nl/event/zondagwandeling-weert-44/
LOCATION:Gruuëts\, Stationsstraat 18\, 6001 CK Weert\, Stationsstraat 18\, Weert\, 6001 CK
CATEGORIES:Wandelen
END:VEVENT
BEGIN:VEVENT
DTSTART;TZID=Europe/Amsterdam:20230122T090000
DTEND;TZID=Europe/Amsterdam:20230122T110000
DTSTAMP:20260425T123527
CREATED:20221125T110526Z
LAST-MODIFIED:20221125T110526Z
UID:6627-1674378000-1674385200@avweert.nl
SUMMARY:Zondagwandeling Nederweert
DESCRIPTION:
URL:https://avweert.nl/event/zondagwandeling-nederweert-11/
LOCATION:Peerkesbosch\, Heugterweg 2\, 6031 SJ Nederweert
CATEGORIES:Wandelen
END:VEVENT
BEGIN:VEVENT
DTSTART;TZID=Europe/Amsterdam:20230121T085000
DTEND;TZID=Europe/Amsterdam:20230121T170000
DTSTAMP:20260425T123527
CREATED:20221105T212424Z
LAST-MODIFIED:20221105T212424Z
UID:6554-1674291000-1674320400@avweert.nl
SUMMARY:20 km wandeling Sint Odiliënberg
DESCRIPTION:  \nGidsen: Mariet van Duijl en Petra Meijers \nStartlocatie: Café- zaal Bergerac\, Schaapsweg 24\, Sint Odiliënberg \nVertrektijd vanaf de Dries in Weert 8.50 uur. \nStarttijd wandeling: rond 9.30 uur. \nEr worden twee lussen van ieder bijna 10 km gewandeld. De pauze is bij Café- zaal de Bergerac. Bij gebruik van een consumptie mogen we onze boterhammen hier opeten.  Voor de liefhebbers is er tomatensoep: € 4\,50 per kop. \nAanmelden vóór donderdag 19 januari bij petra.meijers@outlook.com \nGeef door of je soep wil. Daarnaast doorgeven wie rechtstreeks gaat\, of wie in de gelegenheid is om mensen mee te nemen die geen vervoer hebben \nVergoeding aan de chauffeur €5\,- \nWij hopen op een sportieve en gezellige dag. \n  \nGroeten \nMariet en Petra
URL:https://avweert.nl/event/20-km-wandeling-sint-odilienberg/
LOCATION:Café Bergerac\, Schaapsweg 24\, 6077 CG\, Sint Odiliënberg
CATEGORIES:Wandelen
END:VEVENT
BEGIN:VEVENT
DTSTART;TZID=Europe/Amsterdam:20230115T090000
DTEND;TZID=Europe/Amsterdam:20230115T110000
DTSTAMP:20260425T123527
CREATED:20221221T124146Z
LAST-MODIFIED:20221221T124146Z
UID:6757-1673773200-1673780400@avweert.nl
SUMMARY:Zondagwandeling Heythuysen
DESCRIPTION:
URL:https://avweert.nl/event/zondagwandeling-heythuysen-3/
LOCATION:De Busjop\, Busschopsweg 9\, 6093AA Heythuysen
CATEGORIES:Wandelen
END:VEVENT
BEGIN:VEVENT
DTSTART;TZID=Europe/Amsterdam:20230108T090000
DTEND;TZID=Europe/Amsterdam:20230108T110000
DTSTAMP:20260425T123527
CREATED:20221125T110344Z
LAST-MODIFIED:20221125T110344Z
UID:6625-1673168400-1673175600@avweert.nl
SUMMARY:Zondagwandeling Weert
DESCRIPTION:
URL:https://avweert.nl/event/zondagwandeling-weert-43/
LOCATION:Café ‘t Swaentje\, Stationsstraat 1\, 6001 CJ  Weert
CATEGORIES:Wandelen
END:VEVENT
BEGIN:VEVENT
DTSTART;TZID=Europe/Amsterdam:20230101T093000
DTEND;TZID=Europe/Amsterdam:20230101T113000
DTSTAMP:20260425T123527
CREATED:20221205T152558Z
LAST-MODIFIED:20221205T152558Z
UID:6681-1672565400-1672572600@avweert.nl
SUMMARY:HEMA IJZEREN MAN LOOP 1 JANUARI 2023.
DESCRIPTION:Op de eerste zondag van Januari (1-01-2023) is de volgende Hema Volksloop. \nJe kunt weer lopen in Weert: \n“langs het water van de IJzeren Man”. \nDURF JIJ DE UITDAGING AAN!\nSTART HET NIEUWE JAAR SPORTIEF. \n                                DOE MEE!\n \nJeugd\, 1.3 en 2.5 kilometer START OM 9.30 UUR. Andere afstanden starten vanaf 10.00 uur.  \nJeugd voor 1.3 en 2.5 km kunnen nummer ophalen tussen 9.00 en 9.25 uur.  Voor de jeugd tot en met 12 jaar is er een parcours van 1.3 km en 2.5 km.  \nDe parcoursen voor de langere afstanden hebben een lengte van 4 km. (A- GROENE PIJL) of van 6 km. (B- RODE PIJL). In totaal 5 afstanden van één of meerdere ronden. \nDeelnemers kunnen kiezen uit diverse ronden\, oftewel uit een afstand van: 4 km.-1x A\, 6 km.-1x B\, –7.5 km. -2 x A\, -12 km- 2 x B\, 15.5 km* -1x A- + 2x B . \n* Op deze afstand is een tijdslimiet van 90 minuten. \nSTART LANGERE AFSTANDEN:15.5 km om 10.00 uur. 12 km 10.01. 7.5 km 10.02 en 6.0 km 10.03.   4 km om 10.04 uur. \nVOOR INSCHRIJVEN KAN TOT EN MET 29 DECEMBER. \nHIER DE LINK: https://inschrijven.nl/form/2022020616344-nl .  \nVoor inschrijven € 2\,50 (jeugd tot 15 jaar gratis).  \nNa inschrijven op 1 januari 2023 € 4\,00.\nEr wordt  gelopen met tijd registratie.  Zodat elke keer jouw tijd in de uitslagen komt. Deze kun je na de loop vinden op uitslagen.nl. https://uitslagen.nl
URL:https://avweert.nl/event/hema-ijzeren-man-loop-1-januari-2023/
CATEGORIES:Atletiek,Hema IJzeren Man Loop
END:VEVENT
BEGIN:VEVENT
DTSTART;TZID=Europe/Amsterdam:20221218T090000
DTEND;TZID=Europe/Amsterdam:20221218T110000
DTSTAMP:20260425T123527
CREATED:20221125T105756Z
LAST-MODIFIED:20221125T105756Z
UID:6622-1671354000-1671361200@avweert.nl
SUMMARY:Zondagwandeling Neeritter
DESCRIPTION:
URL:https://avweert.nl/event/zondagwandeling-neeritter/
LOCATION:Schepenhof\, Schepenhof 10\, 6015 BX Neeritter
CATEGORIES:Wandelen
END:VEVENT
BEGIN:VEVENT
DTSTART;TZID=Europe/Amsterdam:20221211T090000
DTEND;TZID=Europe/Amsterdam:20221211T110000
DTSTAMP:20260425T123527
CREATED:20221125T104517Z
LAST-MODIFIED:20221210T175951Z
UID:6618-1670749200-1670756400@avweert.nl
SUMMARY:Zondagwandeling Stramproy
DESCRIPTION:Inschrijving is €5 \nOLAT leden krijgen € 2\,50 en leden van een wandelbond € 1\,00 korting. Je moet daarvoor het OLAT lidnummer of het bondsnummer paraat hebben. Je vindt dit op de OLAT ledenpas of op de ledenpas van de wandelbond. Let op: met een OLAT relatiepas ben je wel een relatie maar daarmee geen lid van OLAT.\nOnderweg richt OLAT enkele rustposten in voor de wandelaars. De consumpties zijn gratis.
URL:https://avweert.nl/event/zondagwandeling-stramproy-4/
LOCATION:Zaal van Loon\, Frans Strouxstraat 1\, 6039 GJ Stramproy
CATEGORIES:Wandelen
END:VEVENT
BEGIN:VEVENT
DTSTART;TZID=Europe/Amsterdam:20221210T081500
DTEND;TZID=Europe/Amsterdam:20221210T170000
DTSTAMP:20260425T123527
CREATED:20221125T102842Z
LAST-MODIFIED:20221125T102842Z
UID:6610-1670660100-1670691600@avweert.nl
SUMMARY:20 km Kribkeswandeling Slenaken
DESCRIPTION:Zaterdag 10 December. Kribkeswandeling omgeving Slenaken en Heijenrath. \nGidsen: Wim en Annie Kessels. \nDe wandeling van twee lussen is ruim 17 km lang. Dit heuvelachtige gebied maakt de wandeling pittig\, maar de prachtige vergezichten en het stroomgebied van de Gulp is de moeite van een wandeling waard. \nVertrek (Dries) 8.15 uur. Na aanmelding kan een planning van de auto indeling  gemaakt worden. \nWe parkeren op Parkeerplaats Slenaken bij de brug\, 6277 NH.  \nNa aankomst lopen we ongeveer honderd meter naar Gasterij Berg en Dal\, Dorpstraat 19\, 6277 NC Slenaken en drinken daar een kop koffie of thee. Tussen 9.45 en 10.00 uur start de wandeling van ongeveer 8 km richting Beutenaken.  Onderweg kunnen we verschillende kribkes  bewonderen. \nDe pauze houden we in Gasterij Berg en Dal in Slenaken. Je kunt er soep bestellen of iets eten. \nDe tweede etappe van 9 km gaat richting Heijenrath. Na ongeveer 5 km pauzeren we bij De Zegelskoël in Heijenrath. Daarna lopen we door het Groote Bosch en langs de Gulp terug naar Slenaken. \nOpgeven per e-mail bij Wim en Annie Kessels. w.kessels1@chello.nl \nBij opgave graag vermelden of  je wilt rijden en eventueel het aantal passagiers dat je mee zou willen nemen. Bijdrage chauffeur 7 euro.
URL:https://avweert.nl/event/20-km-kribkeswandeling-slenaken/
CATEGORIES:Wandelen
END:VEVENT
BEGIN:VEVENT
DTSTART;TZID=Europe/Amsterdam:20221204T093000
DTEND;TZID=Europe/Amsterdam:20221204T123000
DTSTAMP:20260425T123527
CREATED:20221107T110416Z
LAST-MODIFIED:20221109T132050Z
UID:6575-1670146200-1670157000@avweert.nl
SUMMARY:Op de eerste zondag van December (4 -12) is de volgende Hema Volksloop.
DESCRIPTION:Op de eerste zondag van December (4 -12) is de volgende Hema Volksloop. \nJe kunt weer lopen in Weert: \n “langs het water van de IJzeren Man”.  \nJeugd\, 1.3 en 2.5 kilometer START OM 9.30 UUR. Andere afstanden starten vanaf 10.00 uur. Jeugd voor 1.3 en 2.5 km kunnen nummer ophalen tussen 9.00 en 9.25 uur.  Voor de jeugd tot en met 12 jaar is er een parcours van 1.3 km en 2.5 km.  \nDe parcoursen voor de langere afstanden hebben een lengte van 4 km. (A- GROENE PIJL) of van 6 km. (B- RODE PIJL). In totaal 5 afstanden van één of meerdere ronden. Deelnemers kunnen kiezen uit diverse ronden \, oftewel uit een afstand van:  4 km.-1x A\, 6 km.-1x B\, –7.5 km. -2 x A\, -12 km- 2 x B\, 15.5 km*en -1x A- + 2x B  voor de loop.                                                                                           * Op deze afstand is een tijdslimiet van 90 minuten. \nSTART LANGERE AFSTANDEN:  15.5 km om 10.00 uur. 12 km 10.01. 7.5 km 10.02 en 6.0 km 10.03.   4 km om 10.04 uur. \nVOOR INSCHRIJVEN KAN TOT EN MET 1 DECEMBER. \nHIER DE LINK: https://inschrijven.nl/form/2022020616344-nl . Voor inschrijven € 2\,50 (jeugd tot 15 jaar gratis).  \nNa inschrijven op 4 december € 4\,00.\nEr wordt  gelopen met tijd registratie.  Zodat elke keer jouw tijd in de uitslagen komt. Deze kun je na de loop vinden op uitslagen.nl. https://uitslagen.nl \n  \nMEDE DANKZIJ; \nHEMA\, POSNO-SPORT\, ERKENS FIETSTECHNIEK\, BIER EN SPIJZENLOKAAL DENNENOORD\, WERTHA-BIEREN\, PETS &CO\, STICHTING GEZONDHEID & ONTSPANNING\, AV WEERT \nHUUPKENS IJSSALON. WEERT MEDIA GROEP\, SPORT AKKOORD WEERT. 
URL:https://avweert.nl/event/op-de-eerste-zondag-van-december-4-12-is-de-volgende-hema-volksloop/
CATEGORIES:Atletiek,Hema IJzeren Man Loop
END:VEVENT
BEGIN:VEVENT
DTSTART;TZID=Europe/Amsterdam:20221204T090000
DTEND;TZID=Europe/Amsterdam:20221204T110000
DTSTAMP:20260425T123527
CREATED:20221125T103553Z
LAST-MODIFIED:20221125T103553Z
UID:6616-1670144400-1670151600@avweert.nl
SUMMARY:Zondagwandeling Weert
DESCRIPTION:
URL:https://avweert.nl/event/zondagwandeling-weert-42/
LOCATION:Golfbaan Crossmoor\, Laurabosweg 8\, 6006VR Weert
CATEGORIES:Wandelen
END:VEVENT
BEGIN:VEVENT
DTSTART;TZID=Europe/Amsterdam:20221127T090000
DTEND;TZID=Europe/Amsterdam:20221127T110000
DTSTAMP:20260425T123527
CREATED:20221025T131125Z
LAST-MODIFIED:20221025T164604Z
UID:6506-1669539600-1669546800@avweert.nl
SUMMARY:Zondagwandeling Weert
DESCRIPTION:
URL:https://avweert.nl/event/zondagwandeling-weert-40/
LOCATION:Hoeve Lieshout\, Breijbaan 30 6005 NE Weert
CATEGORIES:Wandelen
END:VEVENT
BEGIN:VEVENT
DTSTART;TZID=Europe/Amsterdam:20221120T090000
DTEND;TZID=Europe/Amsterdam:20221120T110000
DTSTAMP:20260425T123527
CREATED:20221025T164738Z
LAST-MODIFIED:20221025T164738Z
UID:6508-1668934800-1668942000@avweert.nl
SUMMARY:Zondagwandeling Tungelroy
DESCRIPTION:
URL:https://avweert.nl/event/zondagwandeling-tungelroy-2/
LOCATION:MFA Kimpe Veld\, St Barbaraplein\, 2 6005 SR \, Tungelroy
CATEGORIES:Wandelen
END:VEVENT
END:VCALENDAR