BEGIN:VCALENDAR
VERSION:2.0
PRODID:-//AV Weert - ECPv6.15.20//NONSGML v1.0//EN
CALSCALE:GREGORIAN
METHOD:PUBLISH
X-ORIGINAL-URL:https://avweert.nl
X-WR-CALDESC:Evenementen voor AV Weert
REFRESH-INTERVAL;VALUE=DURATION:PT1H
X-Robots-Tag:noindex
X-PUBLISHED-TTL:PT1H
BEGIN:VTIMEZONE
TZID:Europe/Amsterdam
BEGIN:DAYLIGHT
TZOFFSETFROM:+0100
TZOFFSETTO:+0200
TZNAME:CEST
DTSTART:20200329T010000
END:DAYLIGHT
BEGIN:STANDARD
TZOFFSETFROM:+0200
TZOFFSETTO:+0100
TZNAME:CET
DTSTART:20201025T010000
END:STANDARD
BEGIN:DAYLIGHT
TZOFFSETFROM:+0100
TZOFFSETTO:+0200
TZNAME:CEST
DTSTART:20210328T010000
END:DAYLIGHT
BEGIN:STANDARD
TZOFFSETFROM:+0200
TZOFFSETTO:+0100
TZNAME:CET
DTSTART:20211031T010000
END:STANDARD
BEGIN:DAYLIGHT
TZOFFSETFROM:+0100
TZOFFSETTO:+0200
TZNAME:CEST
DTSTART:20220327T010000
END:DAYLIGHT
BEGIN:STANDARD
TZOFFSETFROM:+0200
TZOFFSETTO:+0100
TZNAME:CET
DTSTART:20221030T010000
END:STANDARD
END:VTIMEZONE
BEGIN:VEVENT
DTSTART;TZID=Europe/Amsterdam:20211114T090000
DTEND;TZID=Europe/Amsterdam:20211114T110000
DTSTAMP:20260426T050037
CREATED:20211021T112757Z
LAST-MODIFIED:20211021T112757Z
UID:4884-1636880400-1636887600@avweert.nl
SUMMARY:Zondagwandeling Leveroy
DESCRIPTION:
URL:https://avweert.nl/event/zondagwandeling-leveroy/
CATEGORIES:Wandelen
END:VEVENT
BEGIN:VEVENT
DTSTART;TZID=Europe/Amsterdam:20211107T093000
DTEND;TZID=Europe/Amsterdam:20211107T113000
DTSTAMP:20260426T050037
CREATED:20211007T122635Z
LAST-MODIFIED:20211110T080234Z
UID:4862-1636277400-1636284600@avweert.nl
SUMMARY:7 NOVEMBER 489e Hema Volksloop aan de  IJzeren Man.
DESCRIPTION:Iedere eerste zondag van de maand word erom 10.00 uur gestart met deze loop. (Jeugd\, 1.3 en 2.5 kilometer START OM 9.30 UUR) Feestdag of geen feestdag\, de IJzeren Man Volksloop gaat altijd door. Nummer ophalen kan tussen 9.00 en 9.45 uur in \nBier en Spijzenzaal Dennenoord aan de Voorhoeveweg 2 in Weert.\nHet parcours heeft een lengte van 3\,9 (A) of 5.9 (B) kilometer. Deelnemers kunnen kiezen uit diverse rondes \, oftewel uit een afstand van 3.9\, 7.6 (2 x A)\, 11\,8 (2 x B)\, 15.5*(1 x A en 2x B) of 17.6* (3 x B)  kilometer voor de trimloop. * Op deze afstand is een tijdslimiet van 90 minuten. \nVoor de jeugd tot en met 12 jaar is er een parcours van 1.3 km en 2.5 km. \nEr wordt  gelopen met tijd registratie.  Zodat elke keer jouw tijd in de uitslagen komt. Deze kun je hier vinden op uitslagen.nl. https://uitslagen.nl \nBij de jeugd van 1.3 en 2.5 km en 3\,9  mogen gratis deelnemen.\, wel voorinschrijven. De senioren vanaf 16 jaar betalen voor elke afstand € 2\,50. \nTot en met  4 NOVEMBER 23.59 uur kan men inschrijven via deze link.\nNa-inschrijven kan niet.
URL:https://avweert.nl/event/7-november-489e-hema-volksloop-aan-de-ijzeren-man/
CATEGORIES:Atletiek,Hema IJzeren Man Loop
ATTACH;FMTTYPE=image/jpeg:https://avweert.nl/wp-content/uploads/2021/10/hemaloopwinnaars03102103.jpeg
END:VEVENT
BEGIN:VEVENT
DTSTART;TZID=Europe/Amsterdam:20211107T090000
DTEND;TZID=Europe/Amsterdam:20211107T110000
DTSTAMP:20260426T050037
CREATED:20211021T112138Z
LAST-MODIFIED:20211021T112138Z
UID:4882-1636275600-1636282800@avweert.nl
SUMMARY:Zondagwandeling Weert
DESCRIPTION:
URL:https://avweert.nl/event/zondagwandeling-weert-20/
LOCATION:Gruuëts\, Stationsstraat 18\, 6001 CK Weert\, Stationsstraat 18\, Weert\, 6001 CK
CATEGORIES:Wandelen
END:VEVENT
BEGIN:VEVENT
DTSTART;TZID=Europe/Amsterdam:20211031T090000
DTEND;TZID=Europe/Amsterdam:20211031T110000
DTSTAMP:20260426T050037
CREATED:20210930T081859Z
LAST-MODIFIED:20210930T081859Z
UID:4785-1635670800-1635678000@avweert.nl
SUMMARY:Zondagwandeling Ell
DESCRIPTION:De wandeling wordt georganiseerd door Bach Sportvereniging. Regels van de KWBN worden gehanteerd. \nWandelaars die meerijden/carpoolen betalen een bedrag van €1 aan de chauffeur.
URL:https://avweert.nl/event/zondagwandeling-ell/
LOCATION:Café De Prairie\, Sebastiaanstr. 51\, 6011 RD\, Ell
CATEGORIES:Wandelen
END:VEVENT
BEGIN:VEVENT
DTSTART;VALUE=DATE:20211031
DTEND;VALUE=DATE:20211101
DTSTAMP:20260426T050037
CREATED:20211003T101525Z
LAST-MODIFIED:20211004T153840Z
UID:4795-1635638400-1635724799@avweert.nl
SUMMARY:Limbracross AVWeert
DESCRIPTION:Klik “hier” voor de flyer \nKlik “hier” voor inschrijven
URL:https://avweert.nl/event/limbracross-avweert/
CATEGORIES:Atletiek
ATTACH;FMTTYPE=image/jpeg:https://avweert.nl/wp-content/uploads/2021/10/thumbnail_Oliebollenloop_IJzerenmanloop-flyer-2021-1.jpg
END:VEVENT
BEGIN:VEVENT
DTSTART;TZID=Europe/Amsterdam:20211024T090000
DTEND;TZID=Europe/Amsterdam:20211024T110000
DTSTAMP:20260426T050037
CREATED:20210923T154520Z
LAST-MODIFIED:20210923T154520Z
UID:4739-1635066000-1635073200@avweert.nl
SUMMARY:Zondagwandeling Nederweert
DESCRIPTION:
URL:https://avweert.nl/event/zondagwandeling-nederweert-7/
LOCATION:Daatjeshoeve\, Heugterbroekdijk 34\, 6031 LE Nederweert
CATEGORIES:Wandelen
END:VEVENT
BEGIN:VEVENT
DTSTART;TZID=Europe/Amsterdam:20211023T093000
DTEND;TZID=Europe/Amsterdam:20211023T163000
DTSTAMP:20260426T050037
CREATED:20210925T065116Z
LAST-MODIFIED:20210925T065116Z
UID:4754-1634981400-1635006600@avweert.nl
SUMMARY:20 km wandeling
DESCRIPTION:Na anderhalf jaar kunnen we weer een lange wandeling inplannen. \nZaterdag 23 oktober.  \nStartlocatie Hof van Schoor\, Schoor 50\, 6031 SC\, Nederweert. \nGidsen: Theo Albers en Mies Jacobs. \nStarttijd 9.30 uur. \nWe beginnen direct met de wandeling. Bij Hof van Schoor is afgesproken dat de poort open is om de fietsen daar te kunnen stallen. \nEr zijn twee lussen van ongeveer 10 km. De pauze is ook bij Hof van Schoor. \nEr is soep te krijgen\, de keuze is uit 2 verschillende soepen\, welke is nog niet bekend. \nM.b.t. tot corona gelden de normale voorwaarden\, d.w.z. de corona check app\, geldig testbewijs dan wel verklaring corona te hebben gehad. \nOpgeven voor de wandeling en of men soep wil hebben graag voor 21 oktober. \nAanmelden bij: theoalbers1949@gmail.com \n 
URL:https://avweert.nl/event/20-km-wandeling-8/
LOCATION:Hof van Schoor\, Schoor 50\, 6031 SC Nederweert
CATEGORIES:Wandelen
END:VEVENT
BEGIN:VEVENT
DTSTART;TZID=Europe/Amsterdam:20211017T080000
DTEND;TZID=Europe/Amsterdam:20211017T140000
DTSTAMP:20260426T050037
CREATED:20211003T191922Z
LAST-MODIFIED:20211003T192204Z
UID:4803-1634457600-1634479200@avweert.nl
SUMMARY:Herfstwandeling Atletiekvereniging Weert op zondag 17 oktober
DESCRIPTION:Atletiek- en wandelvereniging Weert organiseert op zondag 17 oktober de jaarlijkse herfstwandeling. Na anderhalf jaar pauze mogen we weer! Wandel lekker mee; u kunt kiezen uit afstanden van 7\, 10\, 15\, 20 of 30 km. Ook leuk om te doen met het hele gezin. De verrassende routes zijn gepijld en lopen door het prachtige Natuur- en Recreatiegebied De IJzeren Man\, gebied het Blauwe Meertje\, het buitengebied van Keent en de Tungelerwallen. \nStarten kan vanaf 08.00 uur bij Partycentrum-Restaurant de Sluis\, Industriekade 58 in Weert. Het inschrijfgeld bedraagt € 2\,50 en voor KWBN-leden € 1\,50. De organisatie is in handen van Atletiek– en Wandelvereniging Weert. Afhankelijk van de gekozen afstand kan gestart worden tot uiterlijk 14.00 uur voor de 7 km\, tot 13.00 uur voor de 10 km\, tot 12.00 uur voor de 15 km en tot 10.00 uur voor de 20 en 30 km. Er kan ook met ‘gps’ gelopen worden. \nOnderweg kunt u lekker bijkomen op een gezellige pauzeplaats op de Atletiekbaan van AV Weert. Hier kunt u tegen vriendelijke prijsjes genieten van koffie/thee/fris\, broodjes en Limburgse vlaai. De Covid-19 richtlijnen worden gevolgd en daarom is bij het binnengaan van het clubgebouw een QR-code met vaccinatie- of testbewijs nodig. \nVoor meer informatie; kijk op de site www.avweert.nl.
URL:https://avweert.nl/event/herfstwandeling-atletiekvereniging-weert-op-zondag-17-oktober/
LOCATION:Partycentrum De Sluis\, Industriekade 58\, 6006 SJ Weert
CATEGORIES:Wandelen
ATTACH;FMTTYPE=image/jpeg:https://avweert.nl/wp-content/uploads/2021/10/foto-herfstwandeling-2021-rotated.jpg
END:VEVENT
BEGIN:VEVENT
DTSTART;TZID=Europe/Amsterdam:20211010T090000
DTEND;TZID=Europe/Amsterdam:20211010T110000
DTSTAMP:20260426T050037
CREATED:20210919T163304Z
LAST-MODIFIED:20210919T163304Z
UID:4715-1633856400-1633863600@avweert.nl
SUMMARY:Zondagwandeling Weert
DESCRIPTION:
URL:https://avweert.nl/event/zondagwandeling-weert-19/
LOCATION:Dennenoord\, Voorhoeveweg 2\, 6006 SV\, Weert\, Voorhoeveweg 2\, Weert\, 6006 SV\, Nederland
CATEGORIES:Wandelen
END:VEVENT
BEGIN:VEVENT
DTSTART;TZID=Europe/Amsterdam:20211003T090000
DTEND;TZID=Europe/Amsterdam:20211003T110000
DTSTAMP:20260426T050037
CREATED:20210922T190155Z
LAST-MODIFIED:20210922T190155Z
UID:4731-1633251600-1633258800@avweert.nl
SUMMARY:Zondagwandeling Swartbroek
DESCRIPTION:
URL:https://avweert.nl/event/zondagwandeling-swartbroek/
CATEGORIES:Wandelen
END:VEVENT
BEGIN:VEVENT
DTSTART;TZID=Europe/Amsterdam:20211003T080000
DTEND;TZID=Europe/Amsterdam:20211003T120000
DTSTAMP:20260426T050037
CREATED:20210908T083553Z
LAST-MODIFIED:20210910T093514Z
UID:4651-1633248000-1633262400@avweert.nl
SUMMARY:3 oktober Hema Volksloop.
DESCRIPTION:3 oktober 488e Hema Volksloop aan de  IJzeren Man.\nIedere eerste zondag van de maand word erom 10.00 uur gestart met deze loop. (Jeugd\, 1.3 en 2.5 kilometer om 9.45 uur) Feestdag of geen feestdag\, de IJzeren Man Volksloop gaat altijd door. Nummer ophalen kan tussen 9.00 en 9.45 uur in \nBier en Spijzenzaal Dennenoord aan de Voorhoeveweg 2 in Weert.\nHet parcours heeft een lengte van 3\,9 (A) of 5.9 (B) kilometer. Deelnemers kunnen kiezen uit diverse rondes \, oftewel uit een afstand van 3.9\, 7.6 (2 x A)\, 11\,8 (2 x B)\, 15.5*(1 x A en 2x B) of 17.6* (3 x B)  kilometer voor de trimloop. * Op deze afstand is een tijdslimiet van 90 minuten. \nVoor de jeugd tot en met 12 jaar is er een parcours van 1.3 km en 2.5 km. \nEr wordt  gelopen met tijd registratie.  Zodat elke keer jouw tijd in de uitslagen komt. Deze kun je hier vinden op uitslagen.nl. https://uitslagen.nl \nBij de jeugd van 1.3 en 2.5 km en 3\,9  mogen gratis deelnemen.\, wel voorinschrijven. De senioren vanaf 16 jaar betalen voor elke afstand € 2\,50. \nTot en met  30 september 23.59 uur kan men inschrijven via deze link: https://inschrijven.nl/form/2020100416344–nl\nNa-inschrijven kan niet.
URL:https://avweert.nl/event/3-oktober-hema-volksloop/
CATEGORIES:Atletiek,Hema IJzeren Man Loop
END:VEVENT
BEGIN:VEVENT
DTSTART;TZID=Europe/Amsterdam:20210926T090000
DTEND;TZID=Europe/Amsterdam:20210926T110000
DTSTAMP:20260426T050037
CREATED:20210901T181815Z
LAST-MODIFIED:20210901T181815Z
UID:4616-1632646800-1632654000@avweert.nl
SUMMARY:Zondagwandeling Weert
DESCRIPTION:
URL:https://avweert.nl/event/zondagwandeling-weert-18/
LOCATION:De Oelepot\, Oelemarkt 15\, 6001 ES Weert
CATEGORIES:Wandelen
END:VEVENT
BEGIN:VEVENT
DTSTART;TZID=Europe/Amsterdam:20210919T090000
DTEND;TZID=Europe/Amsterdam:20210919T110000
DTSTAMP:20260426T050037
CREATED:20210814T063426Z
LAST-MODIFIED:20210814T063426Z
UID:4518-1632042000-1632049200@avweert.nl
SUMMARY:Zondagwandeling Nederweert
DESCRIPTION:
URL:https://avweert.nl/event/zondagwandeling-nederweert-6/
LOCATION:Hof van Schoor\, Schoor 50\, 6031 SC Nederweert
CATEGORIES:Wandelen
END:VEVENT
BEGIN:VEVENT
DTSTART;TZID=Europe/Amsterdam:20210912T090000
DTEND;TZID=Europe/Amsterdam:20210912T110000
DTSTAMP:20260426T050037
CREATED:20210814T063206Z
LAST-MODIFIED:20210814T063206Z
UID:4516-1631437200-1631444400@avweert.nl
SUMMARY:Zondagwandeling Weert
DESCRIPTION:
URL:https://avweert.nl/event/zondagwandeling-weert-17/
LOCATION:Hoeve Lieshout\, Breijbaan 30 6005 NE Weert
CATEGORIES:Wandelen
END:VEVENT
BEGIN:VEVENT
DTSTART;TZID=Europe/Amsterdam:20210905T110000
DTEND;TZID=Europe/Amsterdam:20210905T140000
DTSTAMP:20260426T050037
CREATED:20210805T144449Z
LAST-MODIFIED:20210827T120442Z
UID:3847-1630839600-1630850400@avweert.nl
SUMMARY:5 september 487e Hema Volksloop.
DESCRIPTION:5 september 487e Hema Volksloop aan de  IJzeren Man.\nIedere eerste zondag van de maand word erom 10.00 uur gestart met deze loop. (Jeugd\, 1.3 en 2.5 kilometer om 9.45 uur) Feestdag of geen feestdag\, de IJzeren Man Volksloop gaat altijd door. Nummer ophalen kan tussen 9.00 en 9.45 uur in \nBier en Spijzenzaal Dennenoord aan de Voorhoeveweg 2 in Weert.\nHet parcours heeft een lengte van 3\,9 (A) of 5.9 (B) kilometer. Deelnemers kunnen kiezen uit diverse rondes \, oftewel uit een afstand van 3.9\, 7.6 (2 x A)\, 11\,8 (2 x B)\, 15.5*(1 x A en 2x B) of 17.6* (3 x B)  kilometer voor de trimloop. * Op deze afstand is een tijdslimiet van 90 minuten. \nVoor de jeugd tot en met 12 jaar is er een parcours van 1.3 km en 2.5 km. \nEr wordt  gelopen met tijd registratie.  Zodat elke keer jouw tijd in de uitslagen komt. Deze kun je hier vinden op uitslagen.nl. https://uitslagen.nl \nBij de jeugd van 1.3 en 2.5 km en 3\,9  mogen gratis deelnemen.\, wel voorinschrijven. De senioren vanaf 16 jaar betalen voor elke afstand € 2\,50. \nTot en met  2 september 23.59 uur kan men inschrijven via deze link: https://inschrijven.nl/form/2020100416344-nl\nNa-inschrijven kan niet.                         Bekijk hier onze poster van het evenement!\n  \n 
URL:https://avweert.nl/event/1-november-485e-hema-ijzeren-man-volksloop/
CATEGORIES:Atletiek,Hema IJzeren Man Loop
ATTACH;FMTTYPE=image/jpeg:https://avweert.nl/wp-content/uploads/2021/06/startvolksloop03a.jpeg
END:VEVENT
BEGIN:VEVENT
DTSTART;TZID=Europe/Amsterdam:20210905T090000
DTEND;TZID=Europe/Amsterdam:20210905T110000
DTSTAMP:20260426T050037
CREATED:20210814T062957Z
LAST-MODIFIED:20210814T062957Z
UID:4514-1630832400-1630839600@avweert.nl
SUMMARY:Zondagwandeling Weert
DESCRIPTION:
URL:https://avweert.nl/event/zondagwandeling-weert-16/
LOCATION:Gruuëts\, Stationsstraat 18\, 6001 CK Weert\, Stationsstraat 18\, Weert\, 6001 CK
CATEGORIES:Wandelen
END:VEVENT
BEGIN:VEVENT
DTSTART;TZID=Europe/Amsterdam:20210829T090000
DTEND;TZID=Europe/Amsterdam:20210829T110000
DTSTAMP:20260426T050037
CREATED:20210727T141128Z
LAST-MODIFIED:20210727T141128Z
UID:4422-1630227600-1630234800@avweert.nl
SUMMARY:Zondagwandeling Weert
DESCRIPTION:
URL:https://avweert.nl/event/zondagwandeling-weert-15/
LOCATION:Partycentrum De Sluis\, Industriekade 58\, 6006 SJ Weert
CATEGORIES:Wandelen
END:VEVENT
BEGIN:VEVENT
DTSTART;TZID=Europe/Amsterdam:20210822T090000
DTEND;TZID=Europe/Amsterdam:20210822T110000
DTSTAMP:20260426T050037
CREATED:20210725T104926Z
LAST-MODIFIED:20210725T104926Z
UID:4409-1629622800-1629630000@avweert.nl
SUMMARY:Zondagwandeling Weert
DESCRIPTION:
URL:https://avweert.nl/event/zondagwandeling-weert-13/
LOCATION:Dennenoord\, Voorhoeveweg 2\, 6006 SV\, Weert\, Voorhoeveweg 2\, Weert\, 6006 SV\, Nederland
CATEGORIES:Wandelen
END:VEVENT
BEGIN:VEVENT
DTSTART;TZID=Europe/Amsterdam:20210815T090000
DTEND;TZID=Europe/Amsterdam:20210815T110000
DTSTAMP:20260426T050037
CREATED:20210724T125153Z
LAST-MODIFIED:20210725T104611Z
UID:4407-1629018000-1629025200@avweert.nl
SUMMARY:Zondagwandeling Nederweert
DESCRIPTION:
URL:https://avweert.nl/event/zondagwandeling-nederweert-5/
LOCATION:Guulke eten & drinken\, Geenestraat 2A\, 6031 VM\, Nederweert\, Geenestraat 2A\, 6031 VM\, Nederweert
CATEGORIES:Wandelen
END:VEVENT
BEGIN:VEVENT
DTSTART;TZID=Europe/Amsterdam:20210808T090000
DTEND;TZID=Europe/Amsterdam:20210808T110000
DTSTAMP:20260426T050037
CREATED:20210727T113144Z
LAST-MODIFIED:20210727T113144Z
UID:4420-1628413200-1628420400@avweert.nl
SUMMARY:Zondagwandeling Weert
DESCRIPTION:
URL:https://avweert.nl/event/zondagwandeling-weert-14/
LOCATION:Café de Tramhalt\, Maasstraat 46\, 6001 ED Weert\, Weert
CATEGORIES:Wandelen
END:VEVENT
BEGIN:VEVENT
DTSTART;TZID=Europe/Amsterdam:20210801T090000
DTEND;TZID=Europe/Amsterdam:20210801T110000
DTSTAMP:20260426T050037
CREATED:20210702T191437Z
LAST-MODIFIED:20210702T191811Z
UID:4329-1627808400-1627815600@avweert.nl
SUMMARY:Zondagwandeling Ospel
DESCRIPTION:
URL:https://avweert.nl/event/zondagwandeling-ospel/
CATEGORIES:Wandelen
END:VEVENT
BEGIN:VEVENT
DTSTART;TZID=Europe/Amsterdam:20210725T090000
DTEND;TZID=Europe/Amsterdam:20210725T110000
DTSTAMP:20260426T050037
CREATED:20210617T072203Z
LAST-MODIFIED:20210701T191620Z
UID:4257-1627203600-1627210800@avweert.nl
SUMMARY:Weert zondagwandeling
DESCRIPTION:
URL:https://avweert.nl/event/weert-zondagwandeling/
LOCATION:T.C.Weert Oost\, Kaaskampweg 5\, 6004RT Weert
CATEGORIES:Wandelen
END:VEVENT
BEGIN:VEVENT
DTSTART;TZID=Europe/Amsterdam:20210718T090000
DTEND;TZID=Europe/Amsterdam:20210718T110000
DTSTAMP:20260426T050037
CREATED:20210617T071949Z
LAST-MODIFIED:20210701T191737Z
UID:4255-1626598800-1626606000@avweert.nl
SUMMARY:Nederweert zondagwandeling
DESCRIPTION:
URL:https://avweert.nl/event/nederweert-zondagwandeling/
LOCATION:Guulke eten & drinken\, Geenestraat 2A\, 6031 VM\, Nederweert\, Geenestraat 2A\, 6031 VM\, Nederweert
CATEGORIES:Wandelen
END:VEVENT
BEGIN:VEVENT
DTSTART;TZID=Europe/Amsterdam:20210711T090000
DTEND;TZID=Europe/Amsterdam:20210711T110000
DTSTAMP:20260426T050037
CREATED:20210612T085727Z
LAST-MODIFIED:20210701T191831Z
UID:4247-1625994000-1626001200@avweert.nl
SUMMARY:Wandelzondag Nederweert
DESCRIPTION:
URL:https://avweert.nl/event/wandelzondag-nederweert-2/
LOCATION:Hof van Schoor\, Schoor 50\, 6031 SC Nederweert
CATEGORIES:Wandelen
END:VEVENT
BEGIN:VEVENT
DTSTART;TZID=Europe/Amsterdam:20210704T090000
DTEND;TZID=Europe/Amsterdam:20210704T110000
DTSTAMP:20260426T050037
CREATED:20210612T085441Z
LAST-MODIFIED:20210701T191853Z
UID:4245-1625389200-1625396400@avweert.nl
SUMMARY:Wandelzondag Weert
DESCRIPTION:
URL:https://avweert.nl/event/wandelzondag-weert/
LOCATION:Antje vd Statie\, Stationsplein 1 6001 CH\, Weert
CATEGORIES:Wandelen
END:VEVENT
BEGIN:VEVENT
DTSTART;TZID=Europe/Amsterdam:20210702T093000
DTEND;TZID=Europe/Amsterdam:20210702T110000
DTSTAMP:20260426T050037
CREATED:20210521T151155Z
LAST-MODIFIED:20210701T192003Z
UID:4173-1625218200-1625223600@avweert.nl
SUMMARY:Vrijdagwandeling Altweerterheide
DESCRIPTION:
URL:https://avweert.nl/event/vrijdagwandeling-altweerterheide-4/
CATEGORIES:Wandelen
END:VEVENT
BEGIN:VEVENT
DTSTART;TZID=Europe/Amsterdam:20210630T110000
DTEND;TZID=Europe/Amsterdam:20210630T130000
DTSTAMP:20260426T050037
CREATED:20210521T151314Z
LAST-MODIFIED:20210521T154020Z
UID:4175-1625050800-1625058000@avweert.nl
SUMMARY:Woensdagwandeling Maarheeze
DESCRIPTION:
URL:https://avweert.nl/event/woensdagwandeling-maarheeze-5/
LOCATION:Gildehuis De Schutse\, Kalberg 1D\, 6026 RD Maarheeze
CATEGORIES:Wandelen
END:VEVENT
BEGIN:VEVENT
DTSTART;TZID=Europe/Amsterdam:20210627T110000
DTEND;TZID=Europe/Amsterdam:20210627T130000
DTSTAMP:20260426T050037
CREATED:20210529T085516Z
LAST-MODIFIED:20210529T085516Z
UID:4212-1624791600-1624798800@avweert.nl
SUMMARY:Zondagwandeling Stramproy
DESCRIPTION:
URL:https://avweert.nl/event/zondagwandeling-stramproy-2/
LOCATION:Nieuw Vosseven\, Lochtstraat 28\, 6039 RV Stramproy\, Lochtstraat 28\, Stramproy
CATEGORIES:Wandelen
END:VEVENT
BEGIN:VEVENT
DTSTART;TZID=Europe/Amsterdam:20210625T113000
DTEND;TZID=Europe/Amsterdam:20210625T130000
DTSTAMP:20260426T050037
CREATED:20210521T152734Z
LAST-MODIFIED:20210521T152734Z
UID:4193-1624620600-1624626000@avweert.nl
SUMMARY:Vrijdagwandeling Maarheeze
DESCRIPTION:
URL:https://avweert.nl/event/vrijdagwandeling-maarheeze-5/
LOCATION:Gildehuis De Schutse\, Kalberg 1D\, 6026 RD Maarheeze
CATEGORIES:Wandelen
END:VEVENT
BEGIN:VEVENT
DTSTART;TZID=Europe/Amsterdam:20210623T110000
DTEND;TZID=Europe/Amsterdam:20210623T130000
DTSTAMP:20260426T050037
CREATED:20210521T151117Z
LAST-MODIFIED:20210521T151117Z
UID:4171-1624446000-1624453200@avweert.nl
SUMMARY:Woensdagwandeling Maarheeze
DESCRIPTION:
URL:https://avweert.nl/event/woensdagwandeling-maarheeze-4/
LOCATION:Gildehuis De Schutse\, Kalberg 1D\, 6026 RD Maarheeze
CATEGORIES:Wandelen
END:VEVENT
END:VCALENDAR